| Back to Multiple platform build/check report for BioC 3.22: simplified long |
|
This page was generated on 2025-10-24 12:04 -0400 (Fri, 24 Oct 2025).
| Hostname | OS | Arch (*) | R version | Installed pkgs |
|---|---|---|---|---|
| nebbiolo2 | Linux (Ubuntu 24.04.3 LTS) | x86_64 | 4.5.1 Patched (2025-08-23 r88802) -- "Great Square Root" | 4898 |
| lconway | macOS 12.7.6 Monterey | x86_64 | 4.5.1 Patched (2025-09-10 r88807) -- "Great Square Root" | 4688 |
| kjohnson3 | macOS 13.7.7 Ventura | arm64 | 4.5.1 Patched (2025-09-10 r88807) -- "Great Square Root" | 4634 |
| taishan | Linux (openEuler 24.03 LTS) | aarch64 | 4.5.0 (2025-04-11) -- "How About a Twenty-Six" | 4658 |
| Click on any hostname to see more info about the system (e.g. compilers) (*) as reported by 'uname -p', except on Windows and Mac OS X | ||||
| Package 1349/2359 | Hostname | OS / Arch | INSTALL | BUILD | CHECK | BUILD BIN | ||||||||
| monaLisa 1.15.3 (landing page) Michael Stadler
| nebbiolo2 | Linux (Ubuntu 24.04.3 LTS) / x86_64 | OK | OK | OK | |||||||||
| lconway | macOS 12.7.6 Monterey / x86_64 | OK | OK | OK | OK | |||||||||
| kjohnson3 | macOS 13.7.7 Ventura / arm64 | OK | OK | OK | OK | |||||||||
| taishan | Linux (openEuler 24.03 LTS) / aarch64 | OK | ERROR | skipped | ||||||||||
|
To the developers/maintainers of the monaLisa package: - Allow up to 24 hours (and sometimes 48 hours) for your latest push to git@git.bioconductor.org:packages/monaLisa.git to reflect on this report. See Troubleshooting Build Report for more information. - Use the following Renviron settings to reproduce errors and warnings. - If 'R CMD check' started to fail recently on the Linux builder(s) over a missing dependency, add the missing dependency to 'Suggests:' in your DESCRIPTION file. See Renviron.bioc for more information. |
| Package: monaLisa |
| Version: 1.15.3 |
| Command: /home/biocbuild/bbs-3.22-bioc/R/bin/R CMD check --install=check:monaLisa.install-out.txt --library=/home/biocbuild/bbs-3.22-bioc/R/site-library --timings monaLisa_1.15.3.tar.gz |
| StartedAt: 2025-10-24 01:35:31 -0400 (Fri, 24 Oct 2025) |
| EndedAt: 2025-10-24 01:45:24 -0400 (Fri, 24 Oct 2025) |
| EllapsedTime: 592.5 seconds |
| RetCode: 0 |
| Status: OK |
| CheckDir: monaLisa.Rcheck |
| Warnings: 0 |
##############################################################################
##############################################################################
###
### Running command:
###
### /home/biocbuild/bbs-3.22-bioc/R/bin/R CMD check --install=check:monaLisa.install-out.txt --library=/home/biocbuild/bbs-3.22-bioc/R/site-library --timings monaLisa_1.15.3.tar.gz
###
##############################################################################
##############################################################################
* using log directory ‘/home/biocbuild/bbs-3.22-bioc/meat/monaLisa.Rcheck’
* using R version 4.5.1 Patched (2025-08-23 r88802)
* using platform: x86_64-pc-linux-gnu
* R was compiled by
gcc (Ubuntu 13.3.0-6ubuntu2~24.04) 13.3.0
GNU Fortran (Ubuntu 13.3.0-6ubuntu2~24.04) 13.3.0
* running under: Ubuntu 24.04.3 LTS
* using session charset: UTF-8
* checking for file ‘monaLisa/DESCRIPTION’ ... OK
* checking extension type ... Package
* this is package ‘monaLisa’ version ‘1.15.3’
* package encoding: UTF-8
* checking package namespace information ... OK
* checking package dependencies ... OK
* checking if this is a source package ... OK
* checking if there is a namespace ... OK
* checking for hidden files and directories ... OK
* checking for portable file names ... OK
* checking for sufficient/correct file permissions ... OK
* checking whether package ‘monaLisa’ can be installed ... OK
* checking installed package size ... OK
* checking package directory ... OK
* checking ‘build’ directory ... OK
* checking DESCRIPTION meta-information ... OK
* checking top-level files ... OK
* checking for left-over files ... OK
* checking index information ... OK
* checking package subdirectories ... OK
* checking code files for non-ASCII characters ... OK
* checking R files for syntax errors ... OK
* checking whether the package can be loaded ... OK
* checking whether the package can be loaded with stated dependencies ... OK
* checking whether the package can be unloaded cleanly ... OK
* checking whether the namespace can be loaded with stated dependencies ... OK
* checking whether the namespace can be unloaded cleanly ... OK
* checking loading without being on the library search path ... OK
* checking dependencies in R code ... OK
* checking S3 generic/method consistency ... OK
* checking replacement functions ... OK
* checking foreign function calls ... OK
* checking R code for possible problems ... OK
* checking Rd files ... OK
* checking Rd metadata ... OK
* checking Rd cross-references ... OK
* checking for missing documentation entries ... OK
* checking for code/documentation mismatches ... OK
* checking Rd \usage sections ... OK
* checking Rd contents ... OK
* checking for unstated dependencies in examples ... OK
* checking files in ‘vignettes’ ... OK
* checking examples ... OK
Examples with CPU (user + system) or elapsed time > 5s
user system elapsed
seqLogoGrob 2.763 2.332 2.161
* checking for unstated dependencies in ‘tests’ ... OK
* checking tests ...
Running ‘testthat.R’
OK
* checking for unstated dependencies in vignettes ... OK
* checking package vignettes ... OK
* checking re-building of vignette outputs ... OK
* checking PDF version of manual ... OK
* DONE
Status: OK
monaLisa.Rcheck/00install.out
############################################################################## ############################################################################## ### ### Running command: ### ### /home/biocbuild/bbs-3.22-bioc/R/bin/R CMD INSTALL monaLisa ### ############################################################################## ############################################################################## * installing to library ‘/home/biocbuild/bbs-3.22-bioc/R/site-library’ * installing *source* package ‘monaLisa’ ... ** this is package ‘monaLisa’ version ‘1.15.3’ ** using staged installation ** R ** inst ** byte-compile and prepare package for lazy loading ** help *** installing help indices *** copying figures ** building package indices ** installing vignettes ** testing if installed package can be loaded from temporary location ** testing if installed package can be loaded from final location ** testing if installed package keeps a record of temporary installation path * DONE (monaLisa)
monaLisa.Rcheck/tests/testthat.Rout
R version 4.5.1 Patched (2025-08-23 r88802) -- "Great Square Root"
Copyright (C) 2025 The R Foundation for Statistical Computing
Platform: x86_64-pc-linux-gnu
R is free software and comes with ABSOLUTELY NO WARRANTY.
You are welcome to redistribute it under certain conditions.
Type 'license()' or 'licence()' for distribution details.
R is a collaborative project with many contributors.
Type 'contributors()' for more information and
'citation()' on how to cite R or R packages in publications.
Type 'demo()' for some demos, 'help()' for on-line help, or
'help.start()' for an HTML browser interface to help.
Type 'q()' to quit R.
> library(testthat)
> library(monaLisa)
>
> test_check("monaLisa")
[ FAIL 0 | WARN 0 | SKIP 1 | PASS 646 ]
══ Skipped tests (1) ═══════════════════════════════════════════════════════════
• empty test (1): 'test_Homer.R:150:1'
[ FAIL 0 | WARN 0 | SKIP 1 | PASS 646 ]
>
> proc.time()
user system elapsed
61.283 5.066 64.660
monaLisa.Rcheck/monaLisa-Ex.timings
| name | user | system | elapsed | |
| annoSeqlogo | 0.964 | 0.009 | 0.978 | |
| bin | 0.007 | 0.000 | 0.007 | |
| calcBinnedKmerEnr | 0.595 | 0.030 | 0.625 | |
| calcBinnedMotifEnrHomer | 0.003 | 0.000 | 0.003 | |
| calcBinnedMotifEnrR | 0.584 | 0.118 | 0.702 | |
| dumpJaspar | 0.054 | 0.006 | 0.061 | |
| findHomer | 0.003 | 0.000 | 0.003 | |
| findMotifHits-methods | 0.265 | 0.052 | 0.317 | |
| getColsByBin | 0.003 | 0.000 | 0.002 | |
| getKmerFreq | 0.026 | 0.001 | 0.027 | |
| getSetZeroBin | 0.002 | 0.000 | 0.003 | |
| homerToPFMatrixList | 0.047 | 0.000 | 0.046 | |
| motifKmerSimilarity | 0.017 | 0.000 | 0.017 | |
| motifSimilarity | 0.006 | 0.001 | 0.007 | |
| parseHomerOutput | 0.009 | 0.001 | 0.011 | |
| plotBinDensity | 0.552 | 0.000 | 0.552 | |
| plotBinDiagnostics | 1.229 | 0.027 | 1.257 | |
| plotBinHist | 0.534 | 0.001 | 0.536 | |
| plotBinScatter | 0.328 | 0.002 | 0.331 | |
| plotMotifHeatmaps | 4.011 | 0.033 | 4.045 | |
| plotSelectionProb | 1.219 | 0.025 | 1.245 | |
| plotStabilityPaths | 1.067 | 0.023 | 1.091 | |
| prepareHomer | 0.131 | 0.005 | 0.136 | |
| randLassoStabSel | 1.849 | 1.135 | 3.561 | |
| sampleRandomRegions | 0.055 | 0.024 | 0.079 | |
| seqLogoGrob | 2.763 | 2.332 | 2.161 | |