| Back to Multiple platform build/check report for BioC 3.22: simplified long | 
 | 
This page was generated on 2025-10-24 12:04 -0400 (Fri, 24 Oct 2025).
| Hostname | OS | Arch (*) | R version | Installed pkgs | 
|---|---|---|---|---|
| nebbiolo2 | Linux (Ubuntu 24.04.3 LTS) | x86_64 | 4.5.1 Patched (2025-08-23 r88802) -- "Great Square Root" | 4898 | 
| lconway | macOS 12.7.6 Monterey | x86_64 | 4.5.1 Patched (2025-09-10 r88807) -- "Great Square Root" | 4688 | 
| kjohnson3 | macOS 13.7.7 Ventura | arm64 | 4.5.1 Patched (2025-09-10 r88807) -- "Great Square Root" | 4634 | 
| taishan | Linux (openEuler 24.03 LTS) | aarch64 | 4.5.0 (2025-04-11) -- "How About a Twenty-Six" | 4658 | 
| Click on any hostname to see more info about the system (e.g. compilers) (*) as reported by 'uname -p', except on Windows and Mac OS X | ||||
| Package 1346/2359 | Hostname | OS / Arch | INSTALL | BUILD | CHECK | BUILD BIN | ||||||||
| mogsa 1.43.0  (landing page) Chen Meng 
 | nebbiolo2 | Linux (Ubuntu 24.04.3 LTS) / x86_64 | OK | OK | OK |  | ||||||||
| lconway | macOS 12.7.6 Monterey / x86_64 | OK | OK | OK | OK |  | ||||||||
| kjohnson3 | macOS 13.7.7 Ventura / arm64 | OK | OK | OK | OK |  | ||||||||
| taishan | Linux (openEuler 24.03 LTS) / aarch64 | OK | OK | NA | ||||||||||
| To the developers/maintainers of the mogsa package: - Allow up to 24 hours (and sometimes 48 hours) for your latest push to git@git.bioconductor.org:packages/mogsa.git to reflect on this report. See Troubleshooting Build Report for more information. - Use the following Renviron settings to reproduce errors and warnings. - If 'R CMD check' started to fail recently on the Linux builder(s) over a missing dependency, add the missing dependency to 'Suggests:' in your DESCRIPTION file. See Renviron.bioc for more information. | 
| Package: mogsa | 
| Version: 1.43.0 | 
| Command: /home/biocbuild/bbs-3.22-bioc/R/bin/R CMD check --install=check:mogsa.install-out.txt --library=/home/biocbuild/bbs-3.22-bioc/R/site-library --timings mogsa_1.43.0.tar.gz | 
| StartedAt: 2025-10-24 01:34:40 -0400 (Fri, 24 Oct 2025) | 
| EndedAt: 2025-10-24 01:38:32 -0400 (Fri, 24 Oct 2025) | 
| EllapsedTime: 231.2 seconds | 
| RetCode: 0 | 
| Status: OK | 
| CheckDir: mogsa.Rcheck | 
| Warnings: 0 | 
##############################################################################
##############################################################################
###
### Running command:
###
###   /home/biocbuild/bbs-3.22-bioc/R/bin/R CMD check --install=check:mogsa.install-out.txt --library=/home/biocbuild/bbs-3.22-bioc/R/site-library --timings mogsa_1.43.0.tar.gz
###
##############################################################################
##############################################################################
* using log directory ‘/home/biocbuild/bbs-3.22-bioc/meat/mogsa.Rcheck’
* using R version 4.5.1 Patched (2025-08-23 r88802)
* using platform: x86_64-pc-linux-gnu
* R was compiled by
    gcc (Ubuntu 13.3.0-6ubuntu2~24.04) 13.3.0
    GNU Fortran (Ubuntu 13.3.0-6ubuntu2~24.04) 13.3.0
* running under: Ubuntu 24.04.3 LTS
* using session charset: UTF-8
* checking for file ‘mogsa/DESCRIPTION’ ... OK
* checking extension type ... Package
* this is package ‘mogsa’ version ‘1.43.0’
* checking package namespace information ... OK
* checking package dependencies ... OK
* checking if this is a source package ... OK
* checking if there is a namespace ... OK
* checking for hidden files and directories ... OK
* checking for portable file names ... OK
* checking for sufficient/correct file permissions ... OK
* checking whether package ‘mogsa’ can be installed ... OK
* checking installed package size ... OK
* checking package directory ... OK
* checking ‘build’ directory ... OK
* checking DESCRIPTION meta-information ... OK
* checking top-level files ... OK
* checking for left-over files ... OK
* checking index information ... OK
* checking package subdirectories ... OK
* checking code files for non-ASCII characters ... OK
* checking R files for syntax errors ... OK
* checking whether the package can be loaded ... OK
* checking whether the package can be loaded with stated dependencies ... OK
* checking whether the package can be unloaded cleanly ... OK
* checking whether the namespace can be loaded with stated dependencies ... OK
* checking whether the namespace can be unloaded cleanly ... OK
* checking loading without being on the library search path ... OK
* checking dependencies in R code ... OK
* checking S3 generic/method consistency ... OK
* checking replacement functions ... OK
* checking foreign function calls ... OK
* checking R code for possible problems ... OK
* checking Rd files ... NOTE
checkRd: (-1) GIS.Rd:57: Lost braces; missing escapes or markup?
    57 |         log2(var(GS_{-i})/var(GS))
       |                     ^
checkRd: (-1) GIS.Rd:59: Lost braces; missing escapes or markup?
    59 |         where GS is the gene set score, and the GS_{-i} is a recalculate of 
       |                                                    ^
checkRd: (-1) GIS.Rd:65: Lost braces; missing escapes or markup?
    65 |         log2(F(GS_{-i})/F(GS))
       |                   ^
checkRd: (-1) NCI60_4array_supdata.Rd:15: Escaped LaTeX specials: \$
checkRd: (-1) NCI60_4array_supdata.Rd:15-17: Lost braces in \itemize; meant \describe ?
checkRd: (-1) NCI60_4array_supdata.Rd:19: Escaped LaTeX specials: \$
checkRd: (-1) NCI60_4array_supdata.Rd:19-21: Lost braces in \itemize; meant \describe ?
checkRd: (-1) NCI60_4array_supdata.Rd:23: Escaped LaTeX specials: \$
checkRd: (-1) NCI60_4array_supdata.Rd:23-25: Lost braces in \itemize; meant \describe ?
checkRd: (-1) NCI60_4array_supdata.Rd:27: Escaped LaTeX specials: \$
checkRd: (-1) NCI60_4array_supdata.Rd:27-29: Lost braces in \itemize; meant \describe ?
checkRd: (-1) NCI60_4arrays.Rd:21: Escaped LaTeX specials: \$
checkRd: (-1) NCI60_4arrays.Rd:21-23: Lost braces in \itemize; meant \describe ?
checkRd: (-1) NCI60_4arrays.Rd:25: Escaped LaTeX specials: \$
checkRd: (-1) NCI60_4arrays.Rd:25-27: Lost braces in \itemize; meant \describe ?
checkRd: (-1) NCI60_4arrays.Rd:29: Escaped LaTeX specials: \$
checkRd: (-1) NCI60_4arrays.Rd:29-31: Lost braces in \itemize; meant \describe ?
checkRd: (-1) NCI60_4arrays.Rd:33: Escaped LaTeX specials: \$
checkRd: (-1) NCI60_4arrays.Rd:33-35: Lost braces in \itemize; meant \describe ?
checkRd: (-1) mgsa-class.Rd:22-24: Lost braces
    22 |                 \item{combine}{\code{signature(x = "mgsa", y = "mgsa")}}{
       |                                                                         ^
* checking Rd metadata ... OK
* checking Rd cross-references ... OK
* checking for missing documentation entries ... OK
* checking for code/documentation mismatches ... OK
* checking Rd \usage sections ... OK
* checking Rd contents ... OK
* checking for unstated dependencies in examples ... OK
* checking contents of ‘data’ directory ... OK
* checking data for non-ASCII characters ... OK
* checking data for ASCII and uncompressed saves ... OK
* checking files in ‘vignettes’ ... OK
* checking examples ... OK
* checking for unstated dependencies in vignettes ... OK
* checking package vignettes ... OK
* checking re-building of vignette outputs ... OK
* checking PDF version of manual ... OK
* DONE
Status: 1 NOTE
See
  ‘/home/biocbuild/bbs-3.22-bioc/meat/mogsa.Rcheck/00check.log’
for details.
mogsa.Rcheck/00install.out
############################################################################## ############################################################################## ### ### Running command: ### ### /home/biocbuild/bbs-3.22-bioc/R/bin/R CMD INSTALL mogsa ### ############################################################################## ############################################################################## * installing to library ‘/home/biocbuild/bbs-3.22-bioc/R/site-library’ * installing *source* package ‘mogsa’ ... ** this is package ‘mogsa’ version ‘1.43.0’ ** using staged installation ** R ** data ** inst ** byte-compile and prepare package for lazy loading ** help *** installing help indices ** building package indices ** installing vignettes ** testing if installed package can be loaded from temporary location ** testing if installed package can be loaded from final location ** testing if installed package keeps a record of temporary installation path * DONE (mogsa)
mogsa.Rcheck/mogsa-Ex.timings
| name | user | system | elapsed | |
| GIS | 0.712 | 0.044 | 0.756 | |
| annotate.gs | 0.108 | 0.000 | 0.108 | |
| bootMbpca | 0 | 0 | 0 | |
| bootMoa | 0.000 | 0.000 | 0.001 | |
| box.gs.feature | 0.188 | 0.013 | 0.201 | |
| combine-methods | 0.203 | 0.012 | 0.215 | |
| decompose.gs.group | 0.127 | 0.002 | 0.129 | |
| decompose.gs.ind | 0.111 | 0.000 | 0.111 | |
| distMoa | 0.217 | 0.009 | 0.226 | |
| getmgsa | 0.574 | 0.016 | 0.590 | |
| matpower | 0 | 0 | 0 | |
| mbpca | 2.616 | 0.068 | 2.684 | |
| mgsa-class | 0.194 | 0.025 | 0.219 | |
| moGap | 1.544 | 0.015 | 1.559 | |
| moa-class | 0.087 | 0.001 | 0.089 | |
| moa | 0.644 | 0.006 | 0.650 | |
| moa.sup-class | 0.093 | 0.001 | 0.094 | |
| moaCoef | 0.249 | 0.000 | 0.248 | |
| moaScore | 0.244 | 0.005 | 0.247 | |
| mogsa-package | 0.197 | 0.017 | 0.215 | |
| mogsa | 0.300 | 0.001 | 0.301 | |
| pairwise.rv | 0.011 | 0.000 | 0.010 | |
| plotGS | 0.120 | 0.001 | 0.121 | |
| prepGraphite | 0.430 | 0.009 | 0.439 | |
| prepMsigDB | 0.002 | 0.000 | 0.003 | |
| prepSupMoa | 3.246 | 0.108 | 3.354 | |
| softK | 0.001 | 0.000 | 0.000 | |
| sup.moa | 0.254 | 0.006 | 0.261 | |
| wsvd | 0.001 | 0.000 | 0.001 | |