| Back to Multiple platform build/check report for BioC 3.22: simplified long |
|
This page was generated on 2025-11-20 12:05 -0500 (Thu, 20 Nov 2025).
| Hostname | OS | Arch (*) | R version | Installed pkgs |
|---|---|---|---|---|
| nebbiolo2 | Linux (Ubuntu 24.04.3 LTS) | x86_64 | 4.5.2 (2025-10-31) -- "[Not] Part in a Rumble" | 4615 |
| merida1 | macOS 12.7.6 Monterey | x86_64 | 4.5.2 Patched (2025-11-05 r88990) -- "[Not] Part in a Rumble" | 4610 |
| kjohnson1 | macOS 13.7.5 Ventura | arm64 | 4.5.2 Patched (2025-11-04 r88984) -- "[Not] Part in a Rumble" | 4598 |
| taishan | Linux (openEuler 24.03 LTS) | aarch64 | 4.5.0 (2025-04-11) -- "How About a Twenty-Six" | 4668 |
| Click on any hostname to see more info about the system (e.g. compilers) (*) as reported by 'uname -p', except on Windows and Mac OS X | ||||
| Package 1333/2361 | Hostname | OS / Arch | INSTALL | BUILD | CHECK | BUILD BIN | ||||||||
| mixOmics 6.34.0 (landing page) Eva Hamrud
| nebbiolo2 | Linux (Ubuntu 24.04.3 LTS) / x86_64 | OK | OK | OK | |||||||||
| merida1 | macOS 12.7.6 Monterey / x86_64 | OK | OK | TIMEOUT | OK | |||||||||
| kjohnson1 | macOS 13.7.5 Ventura / arm64 | OK | OK | OK | OK | |||||||||
| taishan | Linux (openEuler 24.03 LTS) / aarch64 | OK | OK | ERROR | ||||||||||
|
To the developers/maintainers of the mixOmics package: - Allow up to 24 hours (and sometimes 48 hours) for your latest push to git@git.bioconductor.org:packages/mixOmics.git to reflect on this report. See Troubleshooting Build Report for more information. - Use the following Renviron settings to reproduce errors and warnings. - If 'R CMD check' started to fail recently on the Linux builder(s) over a missing dependency, add the missing dependency to 'Suggests:' in your DESCRIPTION file. See Renviron.bioc for more information. |
| Package: mixOmics |
| Version: 6.34.0 |
| Command: /Library/Frameworks/R.framework/Resources/bin/R CMD check --install=check:mixOmics.install-out.txt --library=/Library/Frameworks/R.framework/Resources/library --no-vignettes --timings mixOmics_6.34.0.tar.gz |
| StartedAt: 2025-11-18 10:29:46 -0500 (Tue, 18 Nov 2025) |
| EndedAt: 2025-11-18 11:09:46 -0500 (Tue, 18 Nov 2025) |
| EllapsedTime: 2400.8 seconds |
| RetCode: None |
| Status: TIMEOUT |
| CheckDir: mixOmics.Rcheck |
| Warnings: NA |
##############################################################################
##############################################################################
###
### Running command:
###
### /Library/Frameworks/R.framework/Resources/bin/R CMD check --install=check:mixOmics.install-out.txt --library=/Library/Frameworks/R.framework/Resources/library --no-vignettes --timings mixOmics_6.34.0.tar.gz
###
##############################################################################
##############################################################################
* using log directory ‘/Users/biocbuild/bbs-3.22-bioc/meat/mixOmics.Rcheck’
* using R version 4.5.2 Patched (2025-11-05 r88990)
* using platform: x86_64-apple-darwin20
* R was compiled by
Apple clang version 14.0.0 (clang-1400.0.29.202)
GNU Fortran (GCC) 14.2.0
* running under: macOS Monterey 12.7.6
* using session charset: UTF-8
* using option ‘--no-vignettes’
* checking for file ‘mixOmics/DESCRIPTION’ ... OK
* checking extension type ... Package
* this is package ‘mixOmics’ version ‘6.34.0’
* package encoding: UTF-8
* checking package namespace information ... OK
* checking package dependencies ... OK
* checking if this is a source package ... OK
* checking if there is a namespace ... OK
* checking for hidden files and directories ... OK
* checking for portable file names ... NOTE
Found the following non-portable file paths:
mixOmics/tests/testthat/_snaps/plotIndiv.pca/pca-plot-coloured-by-primary-groups-custom-cols-reordered-groups.svg
mixOmics/tests/testthat/_snaps/plotIndiv.pca/pca-plot-coloured-by-primary-groups-custom-cols-with-set-pch-circle-for-all-samples.svg
mixOmics/tests/testthat/_snaps/plotIndiv.pca/pca-plot-coloured-by-primary-groups-custom-cols-with-set-pch-triangle-for-all-samples.svg
mixOmics/tests/testthat/_snaps/plotIndiv.pca/pca-plot-coloured-by-primary-groups-with-pch-for-secondary-groups-reordered.svg
mixOmics/tests/testthat/_snaps/plotIndiv.pca/pca-plot-coloured-by-primary-groups-with-pch-for-secondary-groups.svg
mixOmics/tests/testthat/_snaps/plotIndiv.pca/pca-plot-coloured-by-primary-groups-with-set-pch-for-each-group.svg
mixOmics/tests/testthat/_snaps/plotIndiv.pca/pca-plot-sample-names-coloured-by-primary-groups-custom-cols.svg
mixOmics/tests/testthat/_snaps/plotIndiv.pca/pca-plot-with-centroids-coloured-by-primary-groups-custom-cols.svg
mixOmics/tests/testthat/_snaps/plotIndiv.pca/pca-plot-with-ellipse-coloured-by-primary-groups-custom-cols-ellipse-level-0-5.svg
mixOmics/tests/testthat/_snaps/plotIndiv.pca/pca-plot-with-ellipse-coloured-by-primary-groups-custom-cols-sample-names.svg
mixOmics/tests/testthat/_snaps/plotIndiv.pca/pca-plot-with-ellipse-coloured-by-primary-groups-custom-cols.svg
mixOmics/tests/testthat/_snaps/plotIndiv.pls/pca-plot-sample-names-coloured-by-primary-groups-custom-cols.svg
mixOmics/tests/testthat/_snaps/plotIndiv.pls/rcca-plot-coloured-by-primary-groups-custom-cols-reordered-groups.svg
mixOmics/tests/testthat/_snaps/plotIndiv.pls/rcca-plot-coloured-by-primary-groups-custom-cols-with-set-pch-circle-for-all-samples.svg
mixOmics/tests/testthat/_snaps/plotIndiv.pls/rcca-plot-coloured-by-primary-groups-with-pch-for-secondary-groups.svg
mixOmics/tests/testthat/_snaps/plotIndiv.pls/rcca-plot-coloured-by-primary-groups-with-set-pch-for-each-group.svg
mixOmics/tests/testthat/_snaps/plotIndiv.pls/rcca-plot-with-ellipse-coloured-by-primary-groups-ellipse-level-0-5.svg
mixOmics/tests/testthat/_snaps/plotIndiv.pls/rcca-plot-with-pch-for-primary-groups-col-consistent.svg
mixOmics/tests/testthat/_snaps/plotIndiv.pls/spls-plot-with-centroids-and-stars-coloured-by-primary-groups.svg
mixOmics/tests/testthat/_snaps/plotIndiv.pls/splsda-plot-with-centroids-and-stars-custom-cols-pch-on-second-grouping.svg
mixOmics/tests/testthat/_snaps/plotLoadings.mint.pls/loadings-plot-mint-pls-change-cols-and-borders-ggplot2.svg
mixOmics/tests/testthat/_snaps/plotLoadings.mint.pls/loadings-plot-mint-pls-change-cols-and-borders-graphics.svg
mixOmics/tests/testthat/_snaps/plotLoadings.mint.pls/loadings-plot-mint-pls-change-gene-names-ggplot2.svg
mixOmics/tests/testthat/_snaps/plotLoadings.mint.pls/loadings-plot-mint-pls-change-gene-names-graphics.svg
mixOmics/tests/testthat/_snaps/plotLoadings.mint.pls/loadings-plot-mint-pls-change-labels-and-label-sizes-ggplot2.svg
mixOmics/tests/testthat/_snaps/plotLoadings.mint.pls/loadings-plot-mint-pls-change-labels-and-label-sizes-graphics.svg
mixOmics/tests/testthat/_snaps/plotLoadings.mint.pls/loadings-plot-mint-pls-change-layout-ggplot2.svg
mixOmics/tests/testthat/_snaps/plotLoadings.mint.pls/loadings-plot-mint-pls-change-layout-graphics.svg
mixOmics/tests/testthat/_snaps/plotLoadings.mint.pls/loadings-plot-mint-pls-specific-study-ggplot2.svg
mixOmics/tests/testthat/_snaps/plotLoadings.mint.pls/loadings-plot-mint-pls-specific-study-graphics.svg
mixOmics/tests/testthat/_snaps/plotLoadings.mint.plsda/mint-plsda-loadings-ggplot2-specific-study.svg
mixOmics/tests/testthat/_snaps/plotLoadings.pca/loadings-plot-change-gene-names-and-plot-top-3-ggplot2.svg
mixOmics/tests/testthat/_snaps/plotLoadings.pca/loadings-plot-change-gene-names-and-plot-top-3-graphics.svg
mixOmics/tests/testthat/_snaps/plotLoadings.pca/loadings-plot-change-labels-and-label-sizes-ggplot2.svg
mixOmics/tests/testthat/_snaps/plotLoadings.pca/loadings-plot-change-labels-and-label-sizes-graphics.svg
mixOmics/tests/testthat/_snaps/plotLoadings.pls/loadings-plot-spls-change-cols-and-borders-ggplot2.svg
mixOmics/tests/testthat/_snaps/plotLoadings.pls/loadings-plot-spls-change-cols-and-borders-graphics.svg
mixOmics/tests/testthat/_snaps/plotLoadings.pls/loadings-plot-spls-change-gene-names-and-plot-top-3-ggplot2.svg
mixOmics/tests/testthat/_snaps/plotLoadings.pls/loadings-plot-spls-change-gene-names-and-plot-top-3-graphics.svg
mixOmics/tests/testthat/_snaps/plotLoadings.pls/loadings-plot-spls-change-labels-and-label-sizes-ggplot2.svg
mixOmics/tests/testthat/_snaps/plotLoadings.pls/loadings-plot-spls-change-labels-and-label-sizes-graphics.svg
mixOmics/tests/testthat/_snaps/plotLoadings.plsda/loadings-plot-splsda-with-custom-legend-ggplot2.svg
mixOmics/tests/testthat/_snaps/plotLoadings.plsda/loadings-plot-splsda-with-custom-legend-graphics.svg
mixOmics/tests/testthat/_snaps/plotLoadings.plsda/loadings-plot-splsda-with-custom-names-graphics.svg
mixOmics/tests/testthat/_snaps/plotLoadings.plsda/loadings-plot-splsda-with-custom-title-and-labels-ggplot2.svg
mixOmics/tests/testthat/_snaps/plotLoadings.plsda/loadings-plot-splsda-with-custom-title-and-labels-graphics.svg
mixOmics/tests/testthat/_snaps/plotLoadings.sgccda/loadings-plot-diablo-block-specific-with-contrib-ggplot2.svg
mixOmics/tests/testthat/_snaps/plotLoadings.sgccda/loadings-plot-diablo-block-specific-with-contrib-graphics.svg
mixOmics/tests/testthat/_snaps/plotLoadings.sgccda/loadings-plot-diablo-change-labels-and-label-sizes-ggplot2.svg
mixOmics/tests/testthat/_snaps/plotLoadings.sgccda/loadings-plot-diablo-change-labels-and-label-sizes-graphics.svg
Tarballs are only required to store paths of up to 100 bytes and cannot
store those of more than 256 bytes, with restrictions including to 100
bytes for the final component.
See section ‘Package structure’ in the ‘Writing R Extensions’ manual.
* checking for sufficient/correct file permissions ... OK
* checking whether package ‘mixOmics’ can be installed ... OK
* checking installed package size ... INFO
installed size is 6.5Mb
sub-directories of 1Mb or more:
R 1.6Mb
data 3.3Mb
* checking package directory ... OK
* checking DESCRIPTION meta-information ... OK
* checking top-level files ... OK
* checking for left-over files ... OK
* checking index information ... OK
* checking package subdirectories ... OK
* checking code files for non-ASCII characters ... OK
* checking R files for syntax errors ... OK
* checking whether the package can be loaded ... OK
* checking whether the package can be loaded with stated dependencies ... OK
* checking whether the package can be unloaded cleanly ... OK
* checking whether the namespace can be loaded with stated dependencies ... OK
* checking whether the namespace can be unloaded cleanly ... OK
* checking whether startup messages can be suppressed ... OK
* checking dependencies in R code ... NOTE
Namespace in Imports field not imported from: ‘gsignal’
All declared Imports should be used.
* checking S3 generic/method consistency ... OK
* checking replacement functions ... OK
* checking foreign function calls ... OK
* checking R code for possible problems ... NOTE
.plotLoadings_barplot: no visible binding for global variable
‘size.axis’
perf.assess.sgccda: no visible binding for global variable
‘signif.threshold’
plotLoadings.mint.pls: no visible binding for global variable
‘importance’
plotLoadings.mint.pls: no visible binding for global variable ‘color’
plotLoadings.mint.plsda: no visible binding for global variable
‘importance’
plotLoadings.mint.plsda: no visible binding for global variable ‘color’
plotLoadings.mint.spls: no visible binding for global variable
‘importance’
plotLoadings.mint.spls: no visible binding for global variable ‘color’
plotLoadings.mint.splsda: no visible binding for global variable
‘importance’
plotLoadings.mint.splsda: no visible binding for global variable
‘color’
plotLoadings.mixo_pls: no visible binding for global variable
‘importance’
plotLoadings.mixo_plsda: no visible binding for global variable
‘importance’
plotLoadings.mixo_plsda: no visible binding for global variable ‘color’
plotLoadings.mixo_plsda: no visible binding for global variable ‘group’
plotLoadings.mixo_spls: no visible binding for global variable
‘importance’
plotLoadings.mixo_splsda: no visible binding for global variable
‘importance’
plotLoadings.mixo_splsda: no visible binding for global variable
‘color’
plotLoadings.mixo_splsda: no visible binding for global variable
‘group’
plotLoadings.pca: no visible binding for global variable ‘importance’
plotLoadings.rcc: no visible binding for global variable ‘importance’
plotLoadings.rgcca: no visible binding for global variable ‘importance’
plotLoadings.sgcca: no visible binding for global variable ‘importance’
plotLoadings.sgccda: no visible binding for global variable
‘importance’
plotLoadings.sgccda: no visible binding for global variable ‘color’
plotLoadings.sgccda: no visible binding for global variable ‘group’
Undefined global functions or variables:
color group importance signif.threshold size.axis
* checking Rd files ... NOTE
checkRd: (-1) plotLoadings.Rd:479: Lost braces
479 | For code{mint.pls}, \code{mint.spls}: when \code{study="all.partial"},
| ^
* checking Rd metadata ... OK
* checking Rd cross-references ... NOTE
Found the following Rd file(s) with Rd \link{} targets missing package
anchors:
perf.Rd: BiocParallelParam-class
perf.assess.Rd: BiocParallelParam-class
rcc.Rd: estimate.lambda
tune.Rd: BiocParallelParam-class
tune.block.plsda.Rd: BiocParallelParam-class
tune.block.splsda.Rd: BiocParallelParam-class
tune.pls.Rd: BiocParallelParam-class
tune.plsda.Rd: BiocParallelParam-class
tune.spca.Rd: BiocParallelParam-class
tune.spls.Rd: BiocParallelParam-class
tune.splsda.Rd: BiocParallelParam-class
Please provide package anchors for all Rd \link{} targets not in the
package itself and the base packages.
* checking for missing documentation entries ... OK
* checking for code/documentation mismatches ... OK
* checking Rd \usage sections ... NOTE
S3 methods shown with full name in Rd file 'perf.assess.Rd':
‘perf.assess’
The \usage entries for S3 methods should use the \method markup and not
their full name.
See chapter ‘Writing R documentation files’ in the ‘Writing R
Extensions’ manual.
* checking Rd contents ... OK
* checking for unstated dependencies in examples ... OK
* checking contents of ‘data’ directory ... OK
* checking data for non-ASCII characters ... OK
* checking data for ASCII and uncompressed saves ... OK
* checking files in ‘vignettes’ ... OK
* checking examples ... OK
Examples with CPU (user + system) or elapsed time > 5s
user system elapsed
tune.spls 481.218 11.172 514.307
tune.splsda 189.708 5.192 199.248
tune.plsda 96.217 2.641 99.849
tune.pls 83.216 2.265 86.365
tune.block.plsda 75.585 0.419 76.869
plotIndiv 51.305 1.718 54.799
perf.assess 51.909 0.838 57.910
biplot 31.190 0.157 38.667
tune.block.splsda 29.459 0.280 105.249
block.splsda 19.865 0.150 24.304
background.predict 16.874 0.826 21.325
block.spls 16.481 0.142 20.274
circosPlot 15.908 0.135 17.442
pca 12.734 0.109 15.363
tune 11.290 0.447 12.024
tune.mint.splsda 8.867 0.178 9.266
spca 8.261 0.167 8.714
plotArrow 5.228 0.058 5.820
perf 5.135 0.120 5.540
* checking for unstated dependencies in ‘tests’ ... OK
* checking tests ...
Running ‘testthat.R’
mixOmics.Rcheck/00install.out
############################################################################## ############################################################################## ### ### Running command: ### ### /Library/Frameworks/R.framework/Resources/bin/R CMD INSTALL mixOmics ### ############################################################################## ############################################################################## * installing to library ‘/Library/Frameworks/R.framework/Versions/4.5-x86_64/Resources/library’ * installing *source* package ‘mixOmics’ ... ** this is package ‘mixOmics’ version ‘6.34.0’ ** using staged installation ** R ** data ** inst ** byte-compile and prepare package for lazy loading ** help *** installing help indices ** building package indices ** installing vignettes ** testing if installed package can be loaded from temporary location ** testing if installed package can be loaded from final location ** testing if installed package keeps a record of temporary installation path * DONE (mixOmics)
mixOmics.Rcheck/tests/testthat.Rout
R version 4.5.2 Patched (2025-11-05 r88990) -- "[Not] Part in a Rumble"
Copyright (C) 2025 The R Foundation for Statistical Computing
Platform: x86_64-apple-darwin20
R is free software and comes with ABSOLUTELY NO WARRANTY.
You are welcome to redistribute it under certain conditions.
Type 'license()' or 'licence()' for distribution details.
R is a collaborative project with many contributors.
Type 'contributors()' for more information and
'citation()' on how to cite R or R packages in publications.
Type 'demo()' for some demos, 'help()' for on-line help, or
'help.start()' for an HTML browser interface to help.
Type 'q()' to quit R.
> library(testthat)
> library(mixOmics)
Loading required package: MASS
Loading required package: lattice
Loading required package: ggplot2
Loaded mixOmics 6.34.0
Thank you for using mixOmics!
Tutorials: http://mixomics.org
Bookdown vignette: https://mixomicsteam.github.io/Bookdown
Questions, issues: Follow the prompts at http://mixomics.org/contact-us
Cite us: citation('mixOmics')
>
> test_check("mixOmics")
2025-11-18 10:59:32.326 R[92322:27934939] XType: com.apple.fonts is not accessible.
2025-11-18 10:59:32.326 R[92322:27934939] XType: XTFontStaticRegistry is enabled.
character(0)
character(0)
character(0)
character(0)
character(0)
character(0)
character(0)
character(0)
character(0)
character(0)
character(0)
character(0)
character(0)
character(0)
mixOmics.Rcheck/mixOmics-Ex.timings
| name | user | system | elapsed | |
| S3methods-print | 0.026 | 0.006 | 0.038 | |
| auroc | 2.312 | 0.038 | 2.856 | |
| background.predict | 16.874 | 0.826 | 21.325 | |
| biplot | 31.190 | 0.157 | 38.667 | |
| block.pls | 1.635 | 0.025 | 2.112 | |
| block.plsda | 2.754 | 0.020 | 3.454 | |
| block.spls | 16.481 | 0.142 | 20.274 | |
| block.splsda | 19.865 | 0.150 | 24.304 | |
| cim | 0.060 | 0.012 | 0.074 | |
| cimDiablo | 0.664 | 0.015 | 0.755 | |
| circosPlot | 15.908 | 0.135 | 17.442 | |
| colors | 0.051 | 0.004 | 0.062 | |
| explained_variance | 0.165 | 0.006 | 0.190 | |
| get.confusion_matrix | 0.380 | 0.012 | 0.435 | |
| image.tune.rcc | 3.184 | 0.060 | 3.485 | |
| imgCor | 0.128 | 0.020 | 0.162 | |
| impute.nipals | 0.020 | 0.004 | 0.029 | |
| ipca | 2.718 | 0.033 | 3.099 | |
| logratio-transformations | 0.105 | 0.013 | 0.131 | |
| map | 0.006 | 0.003 | 0.010 | |
| mat.rank | 0.004 | 0.001 | 0.005 | |
| mint.block.pls | 0.193 | 0.013 | 0.226 | |
| mint.block.plsda | 0.150 | 0.011 | 0.181 | |
| mint.block.spls | 0.223 | 0.014 | 0.268 | |
| mint.block.splsda | 0.179 | 0.012 | 0.222 | |
| mint.pca | 1.418 | 0.011 | 1.652 | |
| mint.pls | 2.418 | 0.030 | 2.833 | |
| mint.plsda | 2.553 | 0.018 | 3.097 | |
| mint.spls | 2.410 | 0.016 | 3.001 | |
| mint.splsda | 2.583 | 0.016 | 3.206 | |
| mixOmics | 0.520 | 0.018 | 0.658 | |
| nearZeroVar | 1.557 | 0.036 | 1.882 | |
| network | 0.020 | 0.005 | 0.027 | |
| pca | 12.734 | 0.109 | 15.363 | |
| perf | 5.135 | 0.120 | 5.540 | |
| perf.assess | 51.909 | 0.838 | 57.910 | |
| plot.rcc | 0.022 | 0.005 | 0.028 | |
| plot.tune | 0.001 | 0.004 | 0.006 | |
| plotArrow | 5.228 | 0.058 | 5.820 | |
| plotDiablo | 0.296 | 0.015 | 0.346 | |
| plotIndiv | 51.305 | 1.718 | 54.799 | |
| plotLoadings | 1.046 | 0.053 | 1.164 | |
| plotMarkers | 0.000 | 0.000 | 0.001 | |
| plotVar | 2.162 | 0.026 | 2.387 | |
| pls | 0.013 | 0.003 | 0.019 | |
| plsda | 1.272 | 0.017 | 1.413 | |
| predict | 0.393 | 0.013 | 0.459 | |
| rcc | 0.005 | 0.004 | 0.008 | |
| selectVar | 0.646 | 0.059 | 0.850 | |
| sipca | 1.613 | 0.031 | 1.737 | |
| spca | 8.261 | 0.167 | 8.714 | |
| spls | 0.321 | 0.015 | 0.355 | |
| splsda | 1.287 | 0.017 | 1.351 | |
| study_split | 0.008 | 0.004 | 0.011 | |
| summary | 0.026 | 0.007 | 0.033 | |
| tune | 11.290 | 0.447 | 12.024 | |
| tune.block.plsda | 75.585 | 0.419 | 76.869 | |
| tune.block.splsda | 29.459 | 0.280 | 105.249 | |
| tune.mint.plsda | 2.020 | 0.028 | 2.057 | |
| tune.mint.splsda | 8.867 | 0.178 | 9.266 | |
| tune.pca | 2.246 | 0.036 | 2.292 | |
| tune.pls | 83.216 | 2.265 | 86.365 | |
| tune.plsda | 96.217 | 2.641 | 99.849 | |
| tune.rcc | 3.172 | 0.067 | 3.268 | |
| tune.spca | 1.891 | 0.027 | 1.939 | |
| tune.spls | 481.218 | 11.172 | 514.307 | |
| tune.splsda | 189.708 | 5.192 | 199.248 | |
| unmap | 0.006 | 0.011 | 0.017 | |
| vip | 0.018 | 0.004 | 0.021 | |
| withinVariation | 3.149 | 0.021 | 3.178 | |
| wrapper.rgcca | 0.130 | 0.009 | 0.141 | |
| wrapper.sgcca | 0.305 | 0.011 | 0.317 | |