| Back to Multiple platform build/check report for BioC 3.22: simplified long |
|
This page was generated on 2025-10-24 12:04 -0400 (Fri, 24 Oct 2025).
| Hostname | OS | Arch (*) | R version | Installed pkgs |
|---|---|---|---|---|
| nebbiolo2 | Linux (Ubuntu 24.04.3 LTS) | x86_64 | 4.5.1 Patched (2025-08-23 r88802) -- "Great Square Root" | 4898 |
| lconway | macOS 12.7.6 Monterey | x86_64 | 4.5.1 Patched (2025-09-10 r88807) -- "Great Square Root" | 4688 |
| kjohnson3 | macOS 13.7.7 Ventura | arm64 | 4.5.1 Patched (2025-09-10 r88807) -- "Great Square Root" | 4634 |
| taishan | Linux (openEuler 24.03 LTS) | aarch64 | 4.5.0 (2025-04-11) -- "How About a Twenty-Six" | 4658 |
| Click on any hostname to see more info about the system (e.g. compilers) (*) as reported by 'uname -p', except on Windows and Mac OS X | ||||
| Package 1294/2359 | Hostname | OS / Arch | INSTALL | BUILD | CHECK | BUILD BIN | ||||||||
| microbiome 1.31.4 (landing page) Leo Lahti
| nebbiolo2 | Linux (Ubuntu 24.04.3 LTS) / x86_64 | OK | OK | OK | |||||||||
| lconway | macOS 12.7.6 Monterey / x86_64 | OK | OK | OK | OK | |||||||||
| kjohnson3 | macOS 13.7.7 Ventura / arm64 | OK | OK | OK | OK | |||||||||
| taishan | Linux (openEuler 24.03 LTS) / aarch64 | OK | OK | NA | ||||||||||
|
To the developers/maintainers of the microbiome package: - Allow up to 24 hours (and sometimes 48 hours) for your latest push to git@git.bioconductor.org:packages/microbiome.git to reflect on this report. See Troubleshooting Build Report for more information. - Use the following Renviron settings to reproduce errors and warnings. - If 'R CMD check' started to fail recently on the Linux builder(s) over a missing dependency, add the missing dependency to 'Suggests:' in your DESCRIPTION file. See Renviron.bioc for more information. |
| Package: microbiome |
| Version: 1.31.4 |
| Command: /home/biocbuild/bbs-3.22-bioc/R/bin/R CMD check --install=check:microbiome.install-out.txt --library=/home/biocbuild/bbs-3.22-bioc/R/site-library --timings microbiome_1.31.4.tar.gz |
| StartedAt: 2025-10-24 01:22:33 -0400 (Fri, 24 Oct 2025) |
| EndedAt: 2025-10-24 01:25:58 -0400 (Fri, 24 Oct 2025) |
| EllapsedTime: 205.2 seconds |
| RetCode: 0 |
| Status: OK |
| CheckDir: microbiome.Rcheck |
| Warnings: 0 |
##############################################################################
##############################################################################
###
### Running command:
###
### /home/biocbuild/bbs-3.22-bioc/R/bin/R CMD check --install=check:microbiome.install-out.txt --library=/home/biocbuild/bbs-3.22-bioc/R/site-library --timings microbiome_1.31.4.tar.gz
###
##############################################################################
##############################################################################
* using log directory ‘/home/biocbuild/bbs-3.22-bioc/meat/microbiome.Rcheck’
* using R version 4.5.1 Patched (2025-08-23 r88802)
* using platform: x86_64-pc-linux-gnu
* R was compiled by
gcc (Ubuntu 13.3.0-6ubuntu2~24.04) 13.3.0
GNU Fortran (Ubuntu 13.3.0-6ubuntu2~24.04) 13.3.0
* running under: Ubuntu 24.04.3 LTS
* using session charset: UTF-8
* checking for file ‘microbiome/DESCRIPTION’ ... OK
* checking extension type ... Package
* this is package ‘microbiome’ version ‘1.31.4’
* package encoding: UTF-8
* checking package namespace information ... OK
* checking package dependencies ... OK
* checking if this is a source package ... OK
* checking if there is a namespace ... OK
* checking for hidden files and directories ... OK
* checking for portable file names ... OK
* checking for sufficient/correct file permissions ... OK
* checking whether package ‘microbiome’ can be installed ... OK
* checking installed package size ... OK
* checking package directory ... OK
* checking ‘build’ directory ... OK
* checking DESCRIPTION meta-information ... OK
* checking top-level files ... OK
* checking for left-over files ... OK
* checking index information ... OK
* checking package subdirectories ... OK
* checking code files for non-ASCII characters ... OK
* checking R files for syntax errors ... OK
* checking whether the package can be loaded ... OK
* checking whether the package can be loaded with stated dependencies ... OK
* checking whether the package can be unloaded cleanly ... OK
* checking whether the namespace can be loaded with stated dependencies ... OK
* checking whether the namespace can be unloaded cleanly ... OK
* checking loading without being on the library search path ... OK
* checking whether startup messages can be suppressed ... OK
* checking dependencies in R code ... OK
* checking S3 generic/method consistency ... OK
* checking replacement functions ... OK
* checking foreign function calls ... OK
* checking R code for possible problems ... OK
* checking Rd files ... NOTE
checkRd: (-1) bimodality.Rd:51-52: Lost braces in \itemize; meant \describe ?
checkRd: (-1) bimodality.Rd:53-54: Lost braces in \itemize; meant \describe ?
checkRd: (-1) bimodality.Rd:55-58: Lost braces in \itemize; meant \describe ?
checkRd: (-1) bimodality.Rd:38-39: Lost braces in \itemize; \value handles \item{}{} directly
checkRd: (-1) bimodality.Rd:40-41: Lost braces in \itemize; \value handles \item{}{} directly
checkRd: (-1) bimodality.Rd:42-43: Lost braces in \itemize; \value handles \item{}{} directly
checkRd: (-1) bimodality.Rd:91-93: Lost braces in \itemize; meant \describe ?
checkRd: (-1) bimodality.Rd:94-95: Lost braces in \itemize; meant \describe ?
checkRd: (-1) bimodality.Rd:96: Lost braces in \itemize; meant \describe ?
checkRd: (-1) bimodality.Rd:97: Lost braces in \itemize; meant \describe ?
checkRd: (-1) bimodality.Rd:98: Lost braces in \itemize; meant \describe ?
checkRd: (-1) bimodality.Rd:99: Lost braces in \itemize; meant \describe ?
checkRd: (-1) bimodality_sarle.Rd:45: Lost braces in \itemize; meant \describe ?
checkRd: (-1) bimodality_sarle.Rd:46: Lost braces in \itemize; meant \describe ?
checkRd: (-1) bimodality_sarle.Rd:47: Lost braces in \itemize; meant \describe ?
checkRd: (-1) bimodality_sarle.Rd:48: Lost braces in \itemize; meant \describe ?
checkRd: (-1) diversity.Rd:28-29: Lost braces in \itemize; meant \describe ?
checkRd: (-1) diversity.Rd:30-32: Lost braces in \itemize; meant \describe ?
checkRd: (-1) diversity.Rd:33: Lost braces in \itemize; meant \describe ?
checkRd: (-1) diversity.Rd:34: Lost braces in \itemize; meant \describe ?
checkRd: (-1) diversity.Rd:35-36: Lost braces in \itemize; meant \describe ?
checkRd: (-1) dominance.Rd:39-43: Lost braces in \itemize; meant \describe ?
checkRd: (-1) dominance.Rd:44-45: Lost braces in \itemize; meant \describe ?
checkRd: (-1) dominance.Rd:46-48: Lost braces in \itemize; meant \describe ?
checkRd: (-1) dominance.Rd:49-51: Lost braces in \itemize; meant \describe ?
checkRd: (-1) dominance.Rd:52-58: Lost braces in \itemize; meant \describe ?
checkRd: (-1) dominance.Rd:59-60: Lost braces in \itemize; meant \describe ?
checkRd: (-1) dominance.Rd:61-62: Lost braces in \itemize; meant \describe ?
checkRd: (-1) multimodality.Rd:33-34: Lost braces in \itemize; \value handles \item{}{} directly
checkRd: (-1) multimodality.Rd:35-36: Lost braces in \itemize; \value handles \item{}{} directly
checkRd: (-1) multimodality.Rd:37-38: Lost braces in \itemize; \value handles \item{}{} directly
checkRd: (-1) multimodality.Rd:55-57: Lost braces in \itemize; meant \describe ?
checkRd: (-1) multimodality.Rd:58-59: Lost braces in \itemize; meant \describe ?
checkRd: (-1) potential_analysis.Rd:30-31: Lost braces in \itemize; \value handles \item{}{} directly
checkRd: (-1) potential_analysis.Rd:32-33: Lost braces in \itemize; \value handles \item{}{} directly
checkRd: (-1) potential_analysis.Rd:34-35: Lost braces in \itemize; \value handles \item{}{} directly
checkRd: (-1) potential_analysis.Rd:36-37: Lost braces in \itemize; \value handles \item{}{} directly
checkRd: (-1) potential_analysis.Rd:38: Lost braces in \itemize; \value handles \item{}{} directly
checkRd: (-1) potential_analysis.Rd:61-63: Lost braces in \itemize; meant \describe ?
checkRd: (-1) potential_analysis.Rd:64-65: Lost braces in \itemize; meant \describe ?
checkRd: (-1) potential_univariate.Rd:50: Lost braces in \itemize; \value handles \item{}{} directly
checkRd: (-1) potential_univariate.Rd:51-52: Lost braces in \itemize; \value handles \item{}{} directly
checkRd: (-1) potential_univariate.Rd:53: Lost braces in \itemize; \value handles \item{}{} directly
checkRd: (-1) potential_univariate.Rd:54-55: Lost braces in \itemize; \value handles \item{}{} directly
checkRd: (-1) potential_univariate.Rd:56-57: Lost braces in \itemize; \value handles \item{}{} directly
checkRd: (-1) potential_univariate.Rd:58: Lost braces in \itemize; \value handles \item{}{} directly
checkRd: (-1) potential_univariate.Rd:59-60: Lost braces in \itemize; \value handles \item{}{} directly
checkRd: (-1) potential_univariate.Rd:61-62: Lost braces in \itemize; \value handles \item{}{} directly
checkRd: (-1) potential_univariate.Rd:73-75: Lost braces in \itemize; meant \describe ?
checkRd: (-1) potential_univariate.Rd:76-78: Lost braces in \itemize; meant \describe ?
checkRd: (-1) rarity.Rd:35-41: Lost braces in \itemize; meant \describe ?
checkRd: (-1) rarity.Rd:42-44: Lost braces in \itemize; meant \describe ?
checkRd: (-1) rarity.Rd:45-48: Lost braces in \itemize; meant \describe ?
* checking Rd metadata ... OK
* checking Rd cross-references ... NOTE
Found the following Rd file(s) with Rd \link{} targets missing package
anchors:
TibbleUtilites.Rd: phyloseq-class
abundances.Rd: phyloseq-class
add_besthit.Rd: phyloseq-class
add_refseq.Rd: phyloseq-class
aggregate_rare.Rd: phyloseq-class
aggregate_taxa.Rd: phyloseq-class
alpha.Rd: phyloseq-class, estimate_richness
atlas1006.Rd: phyloseq-class
baseline.Rd: phyloseq
boxplot_abundance.Rd: phyloseq-class, ggplot
boxplot_alpha.Rd: phyloseq-class, ggplot
collapse_replicates.Rd: phyloseq-class
core.Rd: phyloseq-class
core_abundance.Rd: phyloseq-class
core_matrix.Rd: phyloseq
core_members.Rd: phyloseq-class
coverage.Rd: phyloseq-class
dietswap.Rd: phyloseq-class
diversity.Rd: phyloseq-class
dominance.Rd: phyloseq-class
dominant.Rd: phyloseq-class
evenness.Rd: phyloseq-class
hotplot.Rd: phyloseq-class, ggplot
inequality.Rd: phyloseq-class
is_compositional.Rd: phyloseq-class
low_abundance.Rd: phyloseq-class
map_levels.Rd: phyloseq, taxonomyTable-class
merge_taxa2.Rd: phyloseq-class
meta.Rd: sample_data
neat.Rd: vegdist
neatsort.Rd: phyloseq-class, ordinate
overlap.Rd: phyloseq-class
peerj32.Rd: phyloseq-class
plot_composition.Rd: phyloseq-class, ggplot
plot_core.Rd: phyloseq
plot_density.Rd: phyloseq-class, ggplot
plot_frequencies.Rd: ggplot
plot_landscape.Rd: phyloseq-class, ggplot
plot_taxa_prevalence.Rd: phyloseq-class, ggplot
plot_tipping.Rd: phyloseq-class, ggplot
prevalence.Rd: phyloseq
psmelt2.Rd: phyloseq-class
rare.Rd: phyloseq-class
rare_abundance.Rd: phyloseq-class
rare_members.Rd: phyloseq-class
rarity.Rd: phyloseq-class
read_biom2phyloseq.Rd: phyloseq-class
read_csv2phyloseq.Rd: phyloseq-class
read_mothur2phyloseq.Rd: phyloseq-class
read_phyloseq.Rd: phyloseq-class
readcount.Rd: phyloseq-class
remove_samples.Rd: phyloseq-class
remove_taxa.Rd: phyloseq-class
richness.Rd: phyloseq-class
spreadplot.Rd: phyloseq-class
summarize_phyloseq.Rd: phyloseq-class
taxa.Rd: phyloseq-class
transform.Rd: phyloseq-class, phyloseq
Please provide package anchors for all Rd \link{} targets not in the
package itself and the base packages.
* checking for missing documentation entries ... OK
* checking for code/documentation mismatches ... OK
* checking Rd \usage sections ... OK
* checking Rd contents ... OK
* checking for unstated dependencies in examples ... OK
* checking contents of ‘data’ directory ... OK
* checking data for non-ASCII characters ... OK
* checking data for ASCII and uncompressed saves ... OK
* checking files in ‘vignettes’ ... OK
* checking examples ... OK
Examples with CPU (user + system) or elapsed time > 5s
user system elapsed
overlap 14.309 0.154 14.466
* checking for unstated dependencies in ‘tests’ ... OK
* checking tests ...
Running ‘testthat.R’
OK
* checking for unstated dependencies in vignettes ... OK
* checking package vignettes ... OK
* checking re-building of vignette outputs ... OK
* checking PDF version of manual ... OK
* DONE
Status: 2 NOTEs
See
‘/home/biocbuild/bbs-3.22-bioc/meat/microbiome.Rcheck/00check.log’
for details.
microbiome.Rcheck/00install.out
############################################################################## ############################################################################## ### ### Running command: ### ### /home/biocbuild/bbs-3.22-bioc/R/bin/R CMD INSTALL microbiome ### ############################################################################## ############################################################################## * installing to library ‘/home/biocbuild/bbs-3.22-bioc/R/site-library’ * installing *source* package ‘microbiome’ ... ** this is package ‘microbiome’ version ‘1.31.4’ ** using staged installation ** R ** data ** inst ** byte-compile and prepare package for lazy loading ** help *** installing help indices ** building package indices ** installing vignettes ** testing if installed package can be loaded from temporary location ** testing if installed package can be loaded from final location ** testing if installed package keeps a record of temporary installation path * DONE (microbiome)
microbiome.Rcheck/tests/testthat.Rout
R version 4.5.1 Patched (2025-08-23 r88802) -- "Great Square Root"
Copyright (C) 2025 The R Foundation for Statistical Computing
Platform: x86_64-pc-linux-gnu
R is free software and comes with ABSOLUTELY NO WARRANTY.
You are welcome to redistribute it under certain conditions.
Type 'license()' or 'licence()' for distribution details.
R is a collaborative project with many contributors.
Type 'contributors()' for more information and
'citation()' on how to cite R or R packages in publications.
Type 'demo()' for some demos, 'help()' for on-line help, or
'help.start()' for an HTML browser interface to help.
Type 'q()' to quit R.
> library(testthat)
> test_check("microbiome")
Loading required package: microbiome
Loading required package: phyloseq
Loading required package: ggplot2
microbiome R package (microbiome.github.com)
Copyright (C) 2011-2025 Leo Lahti,
Sudarshan Shetty et al. <microbiome.github.io>
Note: we recommend switching to the SummarizedExperiment
framework, see microbiome.github.io/OMA and the mia package.
Minimum maintenance is provided microbiome R package but the
development efforts have switched to mia.
Attaching package: 'microbiome'
The following object is masked from 'package:ggplot2':
alpha
The following object is masked from 'package:base':
transform
[ FAIL 0 | WARN 0 | SKIP 1 | PASS 75 ]
══ Skipped tests (1) ═══════════════════════════════════════════════════════════
• On Bioconductor (1): 'test_divergence.R:5:3'
[ FAIL 0 | WARN 0 | SKIP 1 | PASS 75 ]
>
> proc.time()
user system elapsed
11.150 0.473 11.615
microbiome.Rcheck/microbiome-Ex.timings
| name | user | system | elapsed | |
| TibbleUtilites | 0.149 | 0.028 | 0.177 | |
| abundances | 0.005 | 0.001 | 0.007 | |
| add_besthit | 0 | 0 | 0 | |
| add_refseq | 0 | 0 | 0 | |
| aggregate_rare | 0.232 | 0.010 | 0.243 | |
| aggregate_taxa | 0.081 | 0.000 | 0.080 | |
| alpha | 0.011 | 0.000 | 0.011 | |
| associate | 0.033 | 0.000 | 0.032 | |
| baseline | 0.034 | 0.000 | 0.034 | |
| bimodality | 0.001 | 0.000 | 0.001 | |
| bimodality_sarle | 0 | 0 | 0 | |
| boxplot_abundance | 0.215 | 0.001 | 0.215 | |
| boxplot_alpha | 0.534 | 0.016 | 0.549 | |
| chunk_reorder | 0 | 0 | 0 | |
| cmat2table | 0.060 | 0.009 | 0.070 | |
| collapse_replicates | 0.040 | 0.008 | 0.047 | |
| core | 0.046 | 0.002 | 0.047 | |
| core_abundance | 0.028 | 0.000 | 0.028 | |
| core_matrix | 0 | 0 | 0 | |
| core_members | 0.008 | 0.001 | 0.008 | |
| coverage | 0.026 | 0.000 | 0.026 | |
| default_colors | 0.001 | 0.000 | 0.000 | |
| densityplot | 0 | 0 | 0 | |
| divergence | 0.421 | 0.000 | 0.420 | |
| diversity | 0.024 | 0.000 | 0.024 | |
| dominance | 0.009 | 0.000 | 0.008 | |
| dominant | 0.009 | 0.000 | 0.008 | |
| estimate_stability | 0 | 0 | 0 | |
| evenness | 0.006 | 0.000 | 0.007 | |
| find_optima | 0 | 0 | 0 | |
| gktau | 0.012 | 0.000 | 0.012 | |
| group_age | 0.021 | 0.001 | 0.022 | |
| group_bmi | 0 | 0 | 0 | |
| heat | 0.057 | 0.000 | 0.057 | |
| hotplot | 0.167 | 0.005 | 0.172 | |
| inequality | 0.097 | 0.000 | 0.098 | |
| intermediate_stability | 0.386 | 0.010 | 0.397 | |
| is_compositional | 0.065 | 0.012 | 0.076 | |
| log_modulo_skewness | 0.092 | 0.000 | 0.091 | |
| low_abundance | 0.012 | 0.000 | 0.011 | |
| map_levels | 0.037 | 0.001 | 0.037 | |
| merge_taxa2 | 0.021 | 0.002 | 0.022 | |
| meta | 0.006 | 0.000 | 0.006 | |
| microbiome-package | 0.009 | 0.000 | 0.009 | |
| multimodality | 0 | 0 | 0 | |
| neat | 0.066 | 0.003 | 0.070 | |
| neatsort | 0.121 | 0.000 | 0.121 | |
| overlap | 14.309 | 0.154 | 14.466 | |
| plot_atlas | 0.066 | 0.009 | 0.075 | |
| plot_composition | 0.227 | 0.006 | 0.233 | |
| plot_core | 0.065 | 0.007 | 0.072 | |
| plot_density | 0.045 | 0.001 | 0.046 | |
| plot_frequencies | 0.027 | 0.001 | 0.028 | |
| plot_landscape | 0.825 | 0.026 | 0.851 | |
| plot_regression | 0.146 | 0.001 | 0.147 | |
| plot_taxa_prevalence | 0.519 | 0.009 | 0.528 | |
| plot_tipping | 0.129 | 0.011 | 0.140 | |
| potential_analysis | 0.029 | 0.002 | 0.031 | |
| potential_univariate | 0 | 0 | 0 | |
| prevalence | 0.010 | 0.001 | 0.011 | |
| psmelt2 | 0.071 | 0.002 | 0.074 | |
| quiet | 0 | 0 | 0 | |
| rare | 0.019 | 0.000 | 0.019 | |
| rare_abundance | 0.028 | 0.002 | 0.030 | |
| rare_members | 0.009 | 0.000 | 0.009 | |
| rarity | 0.059 | 0.002 | 0.061 | |
| read_biom2phyloseq | 0 | 0 | 0 | |
| read_csv2phyloseq | 0 | 0 | 0 | |
| read_mothur2phyloseq | 0 | 0 | 0 | |
| read_phyloseq | 0 | 0 | 0 | |
| readcount | 0.005 | 0.001 | 0.006 | |
| remove_samples | 0.013 | 0.000 | 0.013 | |
| remove_taxa | 0.015 | 0.000 | 0.016 | |
| richness | 0.01 | 0.00 | 0.01 | |
| spreadplot | 0.065 | 0.002 | 0.067 | |
| summarize_phyloseq | 0.014 | 0.001 | 0.015 | |
| taxa | 0.005 | 0.000 | 0.005 | |
| time_normalize | 0.029 | 0.002 | 0.031 | |
| time_sort | 0.109 | 0.005 | 0.114 | |
| timesplit | 0.101 | 0.002 | 0.103 | |
| top | 0.006 | 0.000 | 0.006 | |
| top_taxa | 0.005 | 0.001 | 0.006 | |
| transform | 0.250 | 0.007 | 0.257 | |
| ztransform | 0 | 0 | 0 | |