Back to Multiple platform build/check report for BioC 3.22:   simplified   long
ABCDEFGHIJKL[M]NOPQRSTUVWXYZ

This page was generated on 2025-11-20 12:06 -0500 (Thu, 20 Nov 2025).

HostnameOSArch (*)R versionInstalled pkgs
nebbiolo2Linux (Ubuntu 24.04.3 LTS)x86_644.5.2 (2025-10-31) -- "[Not] Part in a Rumble" 4615
merida1macOS 12.7.6 Montereyx86_644.5.2 Patched (2025-11-05 r88990) -- "[Not] Part in a Rumble" 4610
kjohnson1macOS 13.7.5 Venturaarm644.5.2 Patched (2025-11-04 r88984) -- "[Not] Part in a Rumble" 4598
taishanLinux (openEuler 24.03 LTS)aarch644.5.0 (2025-04-11) -- "How About a Twenty-Six" 4668
Click on any hostname to see more info about the system (e.g. compilers)      (*) as reported by 'uname -p', except on Windows and Mac OS X

Package 1238/2361HostnameOS / ArchINSTALLBUILDCHECKBUILD BIN
metabinR 1.12.0  (landing page)
Anestis Gkanogiannis
Snapshot Date: 2025-11-17 13:45 -0500 (Mon, 17 Nov 2025)
git_url: https://git.bioconductor.org/packages/metabinR
git_branch: RELEASE_3_22
git_last_commit: 5af1469
git_last_commit_date: 2025-10-29 11:19:59 -0500 (Wed, 29 Oct 2025)
nebbiolo2Linux (Ubuntu 24.04.3 LTS) / x86_64  OK    OK    OK  UNNEEDED, same version is already published
merida1macOS 12.7.6 Monterey / x86_64  OK    OK    OK    OK  UNNEEDED, same version is already published
kjohnson1macOS 13.7.5 Ventura / arm64  OK    OK    OK    OK  UNNEEDED, same version is already published
taishanLinux (openEuler 24.03 LTS) / aarch64  OK    OK    OK  


CHECK results for metabinR on kjohnson1

To the developers/maintainers of the metabinR package:
- Allow up to 24 hours (and sometimes 48 hours) for your latest push to git@git.bioconductor.org:packages/metabinR.git to reflect on this report. See Troubleshooting Build Report for more information.
- Use the following Renviron settings to reproduce errors and warnings.
- If 'R CMD check' started to fail recently on the Linux builder(s) over a missing dependency, add the missing dependency to 'Suggests:' in your DESCRIPTION file. See Renviron.bioc for more information.

raw results


Summary

Package: metabinR
Version: 1.12.0
Command: /Library/Frameworks/R.framework/Resources/bin/R CMD check --install=check:metabinR.install-out.txt --library=/Library/Frameworks/R.framework/Resources/library --no-vignettes --timings metabinR_1.12.0.tar.gz
StartedAt: 2025-11-18 08:44:09 -0500 (Tue, 18 Nov 2025)
EndedAt: 2025-11-18 08:44:49 -0500 (Tue, 18 Nov 2025)
EllapsedTime: 39.4 seconds
RetCode: 0
Status:   OK  
CheckDir: metabinR.Rcheck
Warnings: 0

Command output

##############################################################################
##############################################################################
###
### Running command:
###
###   /Library/Frameworks/R.framework/Resources/bin/R CMD check --install=check:metabinR.install-out.txt --library=/Library/Frameworks/R.framework/Resources/library --no-vignettes --timings metabinR_1.12.0.tar.gz
###
##############################################################################
##############################################################################


* using log directory ‘/Users/biocbuild/bbs-3.22-bioc/meat/metabinR.Rcheck’
* using R version 4.5.2 Patched (2025-11-04 r88984)
* using platform: aarch64-apple-darwin20
* R was compiled by
    Apple clang version 16.0.0 (clang-1600.0.26.6)
    GNU Fortran (GCC) 14.2.0
* running under: macOS Ventura 13.7.8
* using session charset: UTF-8
* using option ‘--no-vignettes’
* checking for file ‘metabinR/DESCRIPTION’ ... OK
* checking extension type ... Package
* this is package ‘metabinR’ version ‘1.12.0’
* package encoding: UTF-8
* checking package namespace information ... OK
* checking package dependencies ... OK
* checking if this is a source package ... OK
* checking if there is a namespace ... OK
* checking for hidden files and directories ... OK
* checking for portable file names ... OK
* checking for sufficient/correct file permissions ... OK
* checking whether package ‘metabinR’ can be installed ... OK
* checking installed package size ... OK
* checking package directory ... OK
* checking ‘build’ directory ... OK
* checking DESCRIPTION meta-information ... OK
* checking top-level files ... OK
* checking for left-over files ... OK
* checking index information ... OK
* checking package subdirectories ... OK
* checking code files for non-ASCII characters ... OK
* checking R files for syntax errors ... OK
* checking whether the package can be loaded ... OK
* checking whether the package can be loaded with stated dependencies ... OK
* checking whether the package can be unloaded cleanly ... OK
* checking whether the namespace can be loaded with stated dependencies ... OK
* checking whether the namespace can be unloaded cleanly ... OK
* checking whether startup messages can be suppressed ... OK
* checking dependencies in R code ... OK
* checking S3 generic/method consistency ... OK
* checking replacement functions ... OK
* checking foreign function calls ... OK
* checking R code for possible problems ... OK
* checking Rd files ... OK
* checking Rd metadata ... OK
* checking Rd cross-references ... OK
* checking for missing documentation entries ... OK
* checking for code/documentation mismatches ... OK
* checking Rd \usage sections ... OK
* checking Rd contents ... OK
* checking for unstated dependencies in examples ... OK
* checking files in ‘vignettes’ ... OK
* checking examples ... OK
* checking for unstated dependencies in ‘tests’ ... OK
* checking tests ...
  Running ‘spelling.R’
  Running ‘testthat.R’
 OK
* checking for unstated dependencies in vignettes ... OK
* checking package vignettes ... OK
* checking running R code from vignettes ... SKIPPED
* checking re-building of vignette outputs ... SKIPPED
* checking PDF version of manual ... OK
* DONE

Status: OK


Installation output

metabinR.Rcheck/00install.out

##############################################################################
##############################################################################
###
### Running command:
###
###   /Library/Frameworks/R.framework/Resources/bin/R CMD INSTALL metabinR
###
##############################################################################
##############################################################################


* installing to library ‘/Library/Frameworks/R.framework/Versions/4.5-arm64/Resources/library’
* installing *source* package ‘metabinR’ ...
** this is package ‘metabinR’ version ‘1.12.0’
** using staged installation
** R
** inst
** byte-compile and prepare package for lazy loading
** help
*** installing help indices
** building package indices
** installing vignettes
** testing if installed package can be loaded from temporary location
** testing if installed package can be loaded from final location
** testing if installed package keeps a record of temporary installation path
* DONE (metabinR)

Tests output

metabinR.Rcheck/tests/spelling.Rout


R version 4.5.2 Patched (2025-11-04 r88984) -- "[Not] Part in a Rumble"
Copyright (C) 2025 The R Foundation for Statistical Computing
Platform: aarch64-apple-darwin20

R is free software and comes with ABSOLUTELY NO WARRANTY.
You are welcome to redistribute it under certain conditions.
Type 'license()' or 'licence()' for distribution details.

R is a collaborative project with many contributors.
Type 'contributors()' for more information and
'citation()' on how to cite R or R packages in publications.

Type 'demo()' for some demos, 'help()' for on-line help, or
'help.start()' for an HTML browser interface to help.
Type 'q()' to quit R.

> if(requireNamespace('spelling', quietly = TRUE))
+     spelling::spell_check_test(vignettes = TRUE, error = FALSE,
+                                                         skip_on_cran = TRUE)
All Done!
> 
> proc.time()
   user  system elapsed 
  0.087   0.027   0.120 

metabinR.Rcheck/tests/testthat.Rout


R version 4.5.2 Patched (2025-11-04 r88984) -- "[Not] Part in a Rumble"
Copyright (C) 2025 The R Foundation for Statistical Computing
Platform: aarch64-apple-darwin20

R is free software and comes with ABSOLUTELY NO WARRANTY.
You are welcome to redistribute it under certain conditions.
Type 'license()' or 'licence()' for distribution details.

R is a collaborative project with many contributors.
Type 'contributors()' for more information and
'citation()' on how to cite R or R packages in publications.

Type 'demo()' for some demos, 'help()' for on-line help, or
'help.start()' for an HTML browser interface to help.
Type 'q()' to quit R.

> library(testthat)
> library(metabinR)
> 
> test_check("metabinR")
version MTxAB =Mon Nov 17 16:54:26 EST 2025
cpus=10
using=1
2025/11/18 08:44:29 Using Dictionary ORIGINAL
2025/11/18 08:44:29 START of AB Counting
2025/11/18 08:44:29 FastaManager: START READ
2025/11/18 08:44:29 SequenceProcessor: 0	AB_KMERCOUNT START
CHUNK_SIZE=67108864
2025/11/18 08:44:29 FastaManager: lines read 53328
2025/11/18 08:44:30 FastaManager: END READ
2025/11/18 08:44:30 FastaManager: FASTA
2025/11/18 08:44:30 SequenceProcessor: 0	AB_KMERCOUNT EXIT
2025/11/18 08:44:30 END of AB Counting
2025/11/18 08:44:30 Loaded sequences: 26664
2025/11/18 08:44:30 Total kmers(before remove):	65536


##### Heap utilization statistics [GB] #####
Max Memory=0.5
Current Total Memory=0.5
Current Used Memory=0.267
Current Free Memory=0.233
############################################

2025/11/18 08:44:30
Unique:		0
Distinct:	65536
Total:		7625904
MaxCount:	1574

2025/11/18 08:44:30 START of EMsync
	Run=1
	Run=2
	Run=3
	Run=4
	Run=5
	Run=6
	Run=7
	Run=8
	Run=9
	Run=10
	Run=11
	Run=12
	Run=13
	Run=14
	Run=15
	Run=16
	Run=17
	Run=18
	Run=19
	Run=20
	Run=21
	Run=22
	Run=23
	Run=24
	Run=25
2025/11/18 08:44:30	Runs=25
2025/11/18 08:44:30 END of EMsync
2025/11/18 08:44:30 START of Creating AB Cluster Vectors
	Cluster 1	Abundance=241.01134335779187	Length=16168.173737759447	LowLimit=163	HighLimit=318
	Cluster 2	Abundance=75.538888587297	Length=49367.82626224055	LowLimit=32	HighLimit=118
2025/11/18 08:44:30	Trove size/4=18022
2025/11/18 08:44:30	Trove size/4=18022
2025/11/18 08:44:31	Cluster 2	size in kmers=65536	norm=221.81983091435748
2025/11/18 08:44:31	Cluster 1	size in kmers=65536	norm=126.50589485137961
2025/11/18 08:44:31 END of Creating AB Cluster Vectors
cpus=10
using=1
2025/11/18 08:44:31 START of AB Binning
2025/11/18 08:44:31 FastaManager: START READ
2025/11/18 08:44:31 SequenceProcessor: 0	AB_BINNING START
2025/11/18 08:44:31 FastaManager: lines read 53328
2025/11/18 08:44:31 FastaManager: END READ
2025/11/18 08:44:31 FastaManager: FASTA
2025/11/18 08:44:32 SequenceProcessor: 0	AB_BINNING EXIT
2025/11/18 08:44:32 END of AB Binning
	Clustered reads:
		AB Cluster 1: 19871
		AB Cluster 2: 6793

##### Heap utilization statistics [GB] #####
Max Memory=0.5
Current Total Memory=0.5
Current Used Memory=0.35
Current Free Memory=0.15
############################################

version MTxCB =Mon Nov 17 16:54:26 EST 2025
cpus=10
using=1
2025/11/18 08:44:32 START of CB Counting
2025/11/18 08:44:32 FastaManager: START READ
2025/11/18 08:44:32 SequenceProcessor: 0	CB_SEQUENCEVECTORBUILD START
2025/11/18 08:44:32 FastaManager: lines read 53328
2025/11/18 08:44:32 FastaManager: END READ
2025/11/18 08:44:32 FastaManager: FASTA
2025/11/18 08:44:33 SequenceProcessor: 0	CB_SEQUENCEVECTORBUILD EXIT
2025/11/18 08:44:33 END of CB Counting
2025/11/18 08:44:33 Loaded sequences: 26664

##### Heap utilization statistics [GB] #####
Max Memory=0.5
Current Total Memory=0.5
Current Used Memory=0.394
Current Free Memory=0.106
############################################

cpus=10
using=1
2025/11/18 08:44:33 START of Creating CB Clusters	Size=26664
K-Means clustering started
... centers initialized
... concurrent processing mode with 1 subtask threads
... iteration 1 moves = 7480
... iteration 2 moves = 2148
... iteration 3 moves = 685
... iteration 4 moves = 498
... iteration 5 moves = 458
... iteration 6 moves = 421
... iteration 7 moves = 358
... iteration 8 moves = 310
... iteration 9 moves = 290
... iteration 10 moves = 269
... iteration 11 moves = 234
... iteration 12 moves = 184
... iteration 13 moves = 115
... iteration 14 moves = 60
... iteration 15 moves = 62
... iteration 16 moves = 40
... iteration 17 moves = 17
... iteration 18 moves = 14
... iteration 19 moves = 6
... iteration 20 moves = 2
... iteration 21 moves = 2
... iteration 22 moves = 0
...end.	4.187 seconds.
2025/11/18 08:44:37 : kMeans cleanup.
2025/11/18 08:44:37 END of Creating CB Clusters.
cpus=10
using=1
2025/11/18 08:44:37 START of CB Binning
2025/11/18 08:44:37 FastaManager: START READ
2025/11/18 08:44:37 SequenceProcessor: 0	CB_BINNING START
2025/11/18 08:44:37 FastaManager: lines read 53328
2025/11/18 08:44:37 FastaManager: END READ
2025/11/18 08:44:37 FastaManager: FASTA
2025/11/18 08:44:37 SequenceProcessor: 0	CB_BINNING EXIT
	Clustered reads:
		CB Cluster 1: 17349
		CB Cluster 2: 9315

##### Heap utilization statistics [GB] #####
Max Memory=0.5
Current Total Memory=0.5
Current Used Memory=0.451
Current Free Memory=0.049
############################################

version MTxABxCB =Mon Nov 17 16:54:26 EST 2025
cpus=10
using=1
2025/11/18 08:44:37 Using Dictionary ORIGINAL
2025/11/18 08:44:37 START of AB Counting
2025/11/18 08:44:37 FastaManager: START READ
2025/11/18 08:44:37 SequenceProcessor: 0	AB_KMERCOUNT START
2025/11/18 08:44:37 FastaManager: lines read 53328
2025/11/18 08:44:37 FastaManager: END READ
2025/11/18 08:44:37 FastaManager: FASTA
2025/11/18 08:44:38 SequenceProcessor: 0	AB_KMERCOUNT EXIT
2025/11/18 08:44:38 END of AB Counting
2025/11/18 08:44:38 Loaded sequences: 26664
2025/11/18 08:44:38 Distinct kmers(before remove):	65536


##### Heap utilization statistics [GB] #####
Max Memory=0.5
Current Total Memory=0.5
Current Used Memory=0.294
Current Free Memory=0.206
############################################

2025/11/18 08:44:38
Unique:		0
Distinct:	65536
Total:		7625904
MaxCount:	1574

2025/11/18 08:44:38 START of EMsync
	Run=1
	Run=2
	Run=3
	Run=4
	Run=5
	Run=6
	Run=7
	Run=8
	Run=9
	Run=10
	Run=11
	Run=12
	Run=13
	Run=14
	Run=15
	Run=16
	Run=17
	Run=18
	Run=19
	Run=20
	Run=21
	Run=22
	Run=23
	Run=24
	Run=25
2025/11/18 08:44:38	Runs=25
2025/11/18 08:44:38 END of EMsync
2025/11/18 08:44:38	Filter before=2
2025/11/18 08:44:38	Filter after=2
2025/11/18 08:44:38 START of Creating AB Cluster Vectors
	Cluster 1	Abundance=241.01134335779187	Length=16168.173737759447	LowLimit=163	HighLimit=318
	Cluster 2	Abundance=75.538888587297	Length=49367.82626224055	LowLimit=32	HighLimit=118
2025/11/18 08:44:38	Trove size/4=18022
2025/11/18 08:44:38	Trove size/4=18022
2025/11/18 08:44:38	Cluster 1	size in kmers=65536	norm=126.50589485137961
2025/11/18 08:44:38	Cluster 2	size in kmers=65536	norm=221.81983091435748
2025/11/18 08:44:38 END of Creating AB Cluster Vectors
cpus=10
using=1
2025/11/18 08:44:38 START of AB Binning
2025/11/18 08:44:38 FastaManager: START READ
2025/11/18 08:44:38 SequenceProcessor: 0	AB_BINNING START
2025/11/18 08:44:38 FastaManager: lines read 53328
2025/11/18 08:44:38 FastaManager: END READ
2025/11/18 08:44:38 FastaManager: FASTA
2025/11/18 08:44:39 SequenceProcessor: 0	AB_BINNING EXIT
2025/11/18 08:44:39 END of AB Binning
cpus=10
using=1
2025/11/18 08:44:39 START of CB Counting
2025/11/18 08:44:39 FastaManager: START READ
2025/11/18 08:44:39 SequenceProcessor: 0	CB_SEQUENCEVECTORBUILD START
2025/11/18 08:44:40 FastaManager: lines read 53328
2025/11/18 08:44:40 FastaManager: END READ
2025/11/18 08:44:40 FastaManager: FASTA
2025/11/18 08:44:40 SequenceProcessor: 0	CB_SEQUENCEVECTORBUILD EXIT
2025/11/18 08:44:40 END of CB Counting
2025/11/18 08:44:40 Loaded sequences: 26664

##### Heap utilization statistics [GB] #####
Max Memory=0.5
Current Total Memory=0.493
Current Used Memory=0.324
Current Free Memory=0.169
############################################

2025/11/18 08:44:40 AB Cluster=1	Size=19871
2025/11/18 08:44:40 AB Cluster=2	Size=6793

cpus=10
using=1
 ABid	    size	   abundance	  EMLength	 newLength	 EMspecies	newspecies
-----	    ----	   ---------	  --------	 ---------	 ---------	----------
    1	  19,871	   241.01134	    16,168	    12,367	    1		    1
2025/11/18 08:44:40 START of Creating CB Clusters for AB Cluster=1	Size=19871
K-Means clustering started
... centers initialized
... concurrent processing mode with 1 subtask threads
... iteration 1 moves = 0
...end.	1.675 seconds.
2025/11/18 08:44:42 : kMeans cleanup.
2025/11/18 08:44:42 END of Creating CB Clusters for AB Cluster=1
cpus=10
using=1
 ABid	    size	   abundance	  EMLength	 newLength	 EMspecies	newspecies
-----	    ----	   ---------	  --------	 ---------	 ---------	----------
    2	   6,793	    75.53889	    49,367	    13,489	    1		    1
2025/11/18 08:44:42 START of Creating CB Clusters for AB Cluster=2	Size=6793
K-Means clustering started
... centers initialized
... concurrent processing mode with 1 subtask threads
... iteration 1 moves = 0
...end.	0.465 seconds.
2025/11/18 08:44:42 : kMeans cleanup.
2025/11/18 08:44:42 END of Creating CB Clusters for AB Cluster=2

##### Heap utilization statistics [GB] #####
Max Memory=0.5
Current Total Memory=0.493
Current Used Memory=0.434
Current Free Memory=0.059
############################################

cpus=10
using=1
2025/11/18 08:44:42 START of CB Binning
2025/11/18 08:44:42 FastaManager: START READ
2025/11/18 08:44:42 SequenceProcessor: 0	CB_BINNING START
2025/11/18 08:44:42 FastaManager: lines read 53328
2025/11/18 08:44:42 FastaManager: END READ
2025/11/18 08:44:42 FastaManager: FASTA
2025/11/18 08:44:42 SequenceProcessor: 0	CB_BINNING EXIT
	Clustered reads:
		ABxCB Cluster 1: 19871
		ABxCB Cluster 2: 6793

##### Heap utilization statistics [GB] #####
Max Memory=0.5
Current Total Memory=0.5
Current Used Memory=0.432
Current Free Memory=0.068
############################################

[ FAIL 0 | WARN 0 | SKIP 0 | PASS 52 ]
> 
> proc.time()
   user  system elapsed 
 14.788   0.295  13.670 

Example timings

metabinR.Rcheck/metabinR-Ex.timings

nameusersystemelapsed
abundance_based_binning3.6090.3423.411
composition_based_binning1.8880.2721.462
hierarchical_binning2.6710.2462.371