| Back to Multiple platform build/check report for BioC 3.22: simplified long |
|
This page was generated on 2025-10-29 12:05 -0400 (Wed, 29 Oct 2025).
| Hostname | OS | Arch (*) | R version | Installed pkgs |
|---|---|---|---|---|
| nebbiolo2 | Linux (Ubuntu 24.04.3 LTS) | x86_64 | 4.5.1 Patched (2025-08-23 r88802) -- "Great Square Root" | 4901 |
| lconway | macOS 12.7.6 Monterey | x86_64 | 4.5.1 Patched (2025-09-10 r88807) -- "Great Square Root" | 4691 |
| kjohnson3 | macOS 13.7.7 Ventura | arm64 | 4.5.1 Patched (2025-09-10 r88807) -- "Great Square Root" | 4637 |
| Click on any hostname to see more info about the system (e.g. compilers) (*) as reported by 'uname -p', except on Windows and Mac OS X | ||||
| Package 1132/2361 | Hostname | OS / Arch | INSTALL | BUILD | CHECK | BUILD BIN | ||||||||
| les 1.59.0 (landing page) Julian Gehring
| nebbiolo2 | Linux (Ubuntu 24.04.3 LTS) / x86_64 | OK | OK | OK | |||||||||
| lconway | macOS 12.7.6 Monterey / x86_64 | OK | OK | OK | OK | |||||||||
| kjohnson3 | macOS 13.7.7 Ventura / arm64 | OK | OK | OK | OK | |||||||||
|
To the developers/maintainers of the les package: - Allow up to 24 hours (and sometimes 48 hours) for your latest push to git@git.bioconductor.org:packages/les.git to reflect on this report. See Troubleshooting Build Report for more information. - Use the following Renviron settings to reproduce errors and warnings. - If 'R CMD check' started to fail recently on the Linux builder(s) over a missing dependency, add the missing dependency to 'Suggests:' in your DESCRIPTION file. See Renviron.bioc for more information. |
| Package: les |
| Version: 1.59.0 |
| Command: /home/biocbuild/bbs-3.22-bioc/R/bin/R CMD check --install=check:les.install-out.txt --library=/home/biocbuild/bbs-3.22-bioc/R/site-library --timings les_1.59.0.tar.gz |
| StartedAt: 2025-10-29 00:49:26 -0400 (Wed, 29 Oct 2025) |
| EndedAt: 2025-10-29 00:50:17 -0400 (Wed, 29 Oct 2025) |
| EllapsedTime: 51.1 seconds |
| RetCode: 0 |
| Status: OK |
| CheckDir: les.Rcheck |
| Warnings: 0 |
##############################################################################
##############################################################################
###
### Running command:
###
### /home/biocbuild/bbs-3.22-bioc/R/bin/R CMD check --install=check:les.install-out.txt --library=/home/biocbuild/bbs-3.22-bioc/R/site-library --timings les_1.59.0.tar.gz
###
##############################################################################
##############################################################################
* using log directory ‘/home/biocbuild/bbs-3.22-bioc/meat/les.Rcheck’
* using R version 4.5.1 Patched (2025-08-23 r88802)
* using platform: x86_64-pc-linux-gnu
* R was compiled by
gcc (Ubuntu 13.3.0-6ubuntu2~24.04) 13.3.0
GNU Fortran (Ubuntu 13.3.0-6ubuntu2~24.04) 13.3.0
* running under: Ubuntu 24.04.3 LTS
* using session charset: UTF-8
* checking for file ‘les/DESCRIPTION’ ... OK
* checking extension type ... Package
* this is package ‘les’ version ‘1.59.0’
* checking package namespace information ... OK
* checking package dependencies ... OK
* checking if this is a source package ... OK
* checking if there is a namespace ... OK
* checking for hidden files and directories ... OK
* checking for portable file names ... OK
* checking for sufficient/correct file permissions ... OK
* checking whether package ‘les’ can be installed ... OK
* checking installed package size ... OK
* checking package directory ... OK
* checking ‘build’ directory ... OK
* checking DESCRIPTION meta-information ... OK
* checking top-level files ... NOTE
File
LICENSE
is not mentioned in the DESCRIPTION file.
* checking for left-over files ... OK
* checking index information ... OK
* checking package subdirectories ... OK
* checking code files for non-ASCII characters ... OK
* checking R files for syntax errors ... OK
* checking whether the package can be loaded ... OK
* checking whether the package can be loaded with stated dependencies ... OK
* checking whether the package can be unloaded cleanly ... OK
* checking whether the namespace can be loaded with stated dependencies ... OK
* checking whether the namespace can be unloaded cleanly ... OK
* checking loading without being on the library search path ... OK
* checking dependencies in R code ... NOTE
Package in Depends field not imported from: ‘fdrtool’
These packages need to be imported from (in the NAMESPACE file)
for when this namespace is loaded but not attached.
':::' call which should be '::': ‘stats:::lm.wfit’
See the note in ?`:::` about the use of this operator.
There are ::: calls to the package's namespace in its code. A package
almost never needs to use ::: for its own objects:
‘calcSingle’ ‘cdfDuplicates’ ‘checkState’ ‘diagSquare’ ‘fitGsri’
‘gsri’ ‘itLinReg’ ‘mcsapply’ ‘modGrenander’ ‘qrSlope’ ‘reg2log’
‘scaleNorm’ ‘seSlopeWeight’ ‘setState’ ‘slopeWeight’ ‘wcdf2’
‘wcdfGrenander’ ‘xvalWeight’
* checking S3 generic/method consistency ... OK
* checking replacement functions ... OK
* checking foreign function calls ... NOTE
Foreign function call to a different package:
.C("C_isomean", ..., PACKAGE = "fdrtool")
Call with DUP:
.C("C_isomean", as.double(rawslope), as.double(dx), as.integer(n),
ghat = double(n), PACKAGE = "fdrtool", DUP = FALSE)
DUP is no longer supported and will be ignored.
* checking R code for possible problems ... OK
* checking Rd files ... OK
* checking Rd metadata ... OK
* checking Rd cross-references ... OK
* checking for missing documentation entries ... OK
* checking for code/documentation mismatches ... OK
* checking Rd \usage sections ... NOTE
Objects in \usage without \alias in Rd file 'les-internal.Rd':
‘gsri’ ‘diagSquare’ ‘getArgs’
Functions with \usage entries need to have the appropriate \alias
entries, and all their arguments documented.
The \usage entries must correspond to syntactically valid R code.
See chapter ‘Writing R documentation files’ in the ‘Writing R
Extensions’ manual.
* checking Rd contents ... OK
* checking for unstated dependencies in examples ... OK
* checking contents of ‘data’ directory ... OK
* checking data for non-ASCII characters ... OK
* checking data for ASCII and uncompressed saves ... OK
* checking files in ‘vignettes’ ... OK
* checking examples ... OK
Examples with CPU (user + system) or elapsed time > 5s
user system elapsed
les-package 9.259 0.001 9.260
ci 7.130 0.016 7.147
* checking for unstated dependencies in vignettes ... OK
* checking package vignettes ... OK
* checking re-building of vignette outputs ... OK
* checking PDF version of manual ... OK
* DONE
Status: 4 NOTEs
See
‘/home/biocbuild/bbs-3.22-bioc/meat/les.Rcheck/00check.log’
for details.
les.Rcheck/00install.out
############################################################################## ############################################################################## ### ### Running command: ### ### /home/biocbuild/bbs-3.22-bioc/R/bin/R CMD INSTALL les ### ############################################################################## ############################################################################## * installing to library ‘/home/biocbuild/bbs-3.22-bioc/R/site-library’ * installing *source* package ‘les’ ... ** this is package ‘les’ version ‘1.59.0’ ** using staged installation ** R ** data ** byte-compile and prepare package for lazy loading ** help *** installing help indices ** building package indices ** installing vignettes ** testing if installed package can be loaded from temporary location ** testing if installed package can be loaded from final location ** testing if installed package keeps a record of temporary installation path * DONE (les)
les.Rcheck/les-Ex.timings
| name | user | system | elapsed | |
| Les-class | 0.000 | 0.001 | 0.001 | |
| Les | 0.015 | 0.002 | 0.017 | |
| chi2 | 2.427 | 0.048 | 2.475 | |
| ci | 7.130 | 0.016 | 7.147 | |
| estimate | 0.179 | 0.018 | 0.196 | |
| export | 0 | 0 | 0 | |
| les-package | 9.259 | 0.001 | 9.260 | |
| plot | 0.184 | 0.002 | 0.186 | |
| regions | 0.174 | 0.000 | 0.175 | |
| threshold | 0.166 | 0.000 | 0.167 | |
| weighting | 0.012 | 0.000 | 0.012 | |