| Back to Multiple platform build/check report for BioC 3.22: simplified long |
|
This page was generated on 2025-11-20 12:05 -0500 (Thu, 20 Nov 2025).
| Hostname | OS | Arch (*) | R version | Installed pkgs |
|---|---|---|---|---|
| nebbiolo2 | Linux (Ubuntu 24.04.3 LTS) | x86_64 | 4.5.2 (2025-10-31) -- "[Not] Part in a Rumble" | 4615 |
| merida1 | macOS 12.7.6 Monterey | x86_64 | 4.5.2 Patched (2025-11-05 r88990) -- "[Not] Part in a Rumble" | 4610 |
| kjohnson1 | macOS 13.7.5 Ventura | arm64 | 4.5.2 Patched (2025-11-04 r88984) -- "[Not] Part in a Rumble" | 4598 |
| taishan | Linux (openEuler 24.03 LTS) | aarch64 | 4.5.0 (2025-04-11) -- "How About a Twenty-Six" | 4668 |
| Click on any hostname to see more info about the system (e.g. compilers) (*) as reported by 'uname -p', except on Windows and Mac OS X | ||||
| Package 1082/2361 | Hostname | OS / Arch | INSTALL | BUILD | CHECK | BUILD BIN | ||||||||
| iscream 1.0.0 (landing page) James Eapen
| nebbiolo2 | Linux (Ubuntu 24.04.3 LTS) / x86_64 | OK | OK | OK | |||||||||
| merida1 | macOS 12.7.6 Monterey / x86_64 | OK | OK | OK | OK | |||||||||
| kjohnson1 | macOS 13.7.5 Ventura / arm64 | OK | OK | OK | OK | |||||||||
| taishan | Linux (openEuler 24.03 LTS) / aarch64 | OK | OK | OK | ||||||||||
|
To the developers/maintainers of the iscream package: - Allow up to 24 hours (and sometimes 48 hours) for your latest push to git@git.bioconductor.org:packages/iscream.git to reflect on this report. See Troubleshooting Build Report for more information. - Use the following Renviron settings to reproduce errors and warnings. - If 'R CMD check' started to fail recently on the Linux builder(s) over a missing dependency, add the missing dependency to 'Suggests:' in your DESCRIPTION file. See Renviron.bioc for more information. |
| Package: iscream |
| Version: 1.0.0 |
| Command: rm -rf iscream.buildbin-libdir && mkdir iscream.buildbin-libdir && /Users/biocbuild/BBS/utils/build-universal.sh iscream_1.0.0.tar.gz /Library/Frameworks/R.framework/Resources/bin/R iscream.buildbin-libdir |
| StartedAt: 2025-11-18 17:52:40 -0500 (Tue, 18 Nov 2025) |
| EndedAt: 2025-11-18 17:56:17 -0500 (Tue, 18 Nov 2025) |
| EllapsedTime: 216.6 seconds |
| RetCode: 0 |
| Status: OK |
| PackageFile: iscream_1.0.0.tgz |
| PackageFileSize: 5.752 MiB |
##############################################################################
##############################################################################
###
### Running command:
###
### rm -rf iscream.buildbin-libdir && mkdir iscream.buildbin-libdir && /Users/biocbuild/BBS/utils/build-universal.sh iscream_1.0.0.tar.gz /Library/Frameworks/R.framework/Resources/bin/R iscream.buildbin-libdir
###
##############################################################################
##############################################################################
>>>>>>>
>>>>>>> INSTALLATION WITH 'R CMD INSTALL --preclean --no-multiarch --library=iscream.buildbin-libdir iscream_1.0.0.tar.gz'
>>>>>>>
* installing *source* package ‘iscream’ ...
** this is package ‘iscream’ version ‘1.0.0’
** using staged installation
*** Configuring for package installation...
**** Trying pkg-config to use system htslib headers...
Found pkg-config cflags and libs for htslib!
**** Using clang
Apple clang version 14.0.0 (clang-1400.0.29.202)
Target: x86_64-apple-darwin21.6.0
Thread model: posix
InstalledDir: /Library/Developer/CommandLineTools/usr/bin
**** Checking htslib version
htslib version 1.21 meets minimum requirements!
**** Compilation flags
Using PKG_CFLAGS=-I/usr/local/Cellar/htslib/1.21/include -I/usr/include -I/opt/R/x86_64/include
Using PKG_LIBS=-L/usr/local/Cellar/htslib/1.21/lib -lhts
**** Checking if htslib was compiled with libdeflate
htslib compiled with libdeflate!
**** Success!
** libs
using C++ compiler: ‘Apple clang version 14.0.0 (clang-1400.0.29.202)’
using C++17
using SDK: ‘MacOSX11.3.1.sdk’
clang++ -arch x86_64 -std=gnu++17 -I"/Library/Frameworks/R.framework/Resources/include" -DNDEBUG -I/usr/local/Cellar/htslib/1.21/include -I/usr/include -I/opt/R/x86_64/include -I'/Library/Frameworks/R.framework/Versions/4.5-x86_64/Resources/library/Rcpp/include' -I'/Library/Frameworks/R.framework/Versions/4.5-x86_64/Resources/library/RcppArmadillo/include' -I'/Library/Frameworks/R.framework/Versions/4.5-x86_64/Resources/library/RcppProgress/include' -I'/Library/Frameworks/R.framework/Versions/4.5-x86_64/Resources/library/RcppSpdlog/include' -I'/Library/Frameworks/R.framework/Versions/4.5-x86_64/Resources/library/Rhtslib/include' -I'/Library/Frameworks/R.framework/Versions/4.5-x86_64/Resources/library/stringfish/include' -I/opt/R/x86_64/include -fPIC -falign-functions=64 -Wall -g -O2 -c RcppExports.cpp -o RcppExports.o
clang++ -arch x86_64 -std=gnu++17 -I"/Library/Frameworks/R.framework/Resources/include" -DNDEBUG -I/usr/local/Cellar/htslib/1.21/include -I/usr/include -I/opt/R/x86_64/include -I'/Library/Frameworks/R.framework/Versions/4.5-x86_64/Resources/library/Rcpp/include' -I'/Library/Frameworks/R.framework/Versions/4.5-x86_64/Resources/library/RcppArmadillo/include' -I'/Library/Frameworks/R.framework/Versions/4.5-x86_64/Resources/library/RcppProgress/include' -I'/Library/Frameworks/R.framework/Versions/4.5-x86_64/Resources/library/RcppSpdlog/include' -I'/Library/Frameworks/R.framework/Versions/4.5-x86_64/Resources/library/Rhtslib/include' -I'/Library/Frameworks/R.framework/Versions/4.5-x86_64/Resources/library/stringfish/include' -I/opt/R/x86_64/include -fPIC -falign-functions=64 -Wall -g -O2 -c decode_mat.cpp -o decode_mat.o
clang++ -arch x86_64 -std=gnu++17 -I"/Library/Frameworks/R.framework/Resources/include" -DNDEBUG -I/usr/local/Cellar/htslib/1.21/include -I/usr/include -I/opt/R/x86_64/include -I'/Library/Frameworks/R.framework/Versions/4.5-x86_64/Resources/library/Rcpp/include' -I'/Library/Frameworks/R.framework/Versions/4.5-x86_64/Resources/library/RcppArmadillo/include' -I'/Library/Frameworks/R.framework/Versions/4.5-x86_64/Resources/library/RcppProgress/include' -I'/Library/Frameworks/R.framework/Versions/4.5-x86_64/Resources/library/RcppSpdlog/include' -I'/Library/Frameworks/R.framework/Versions/4.5-x86_64/Resources/library/Rhtslib/include' -I'/Library/Frameworks/R.framework/Versions/4.5-x86_64/Resources/library/stringfish/include' -I/opt/R/x86_64/include -fPIC -falign-functions=64 -Wall -g -O2 -c get_threads.cpp -o get_threads.o
clang++ -arch x86_64 -std=gnu++17 -I"/Library/Frameworks/R.framework/Resources/include" -DNDEBUG -I/usr/local/Cellar/htslib/1.21/include -I/usr/include -I/opt/R/x86_64/include -I'/Library/Frameworks/R.framework/Versions/4.5-x86_64/Resources/library/Rcpp/include' -I'/Library/Frameworks/R.framework/Versions/4.5-x86_64/Resources/library/RcppArmadillo/include' -I'/Library/Frameworks/R.framework/Versions/4.5-x86_64/Resources/library/RcppProgress/include' -I'/Library/Frameworks/R.framework/Versions/4.5-x86_64/Resources/library/RcppSpdlog/include' -I'/Library/Frameworks/R.framework/Versions/4.5-x86_64/Resources/library/Rhtslib/include' -I'/Library/Frameworks/R.framework/Versions/4.5-x86_64/Resources/library/stringfish/include' -I/opt/R/x86_64/include -fPIC -falign-functions=64 -Wall -g -O2 -c log.cpp -o log.o
clang++ -arch x86_64 -std=gnu++17 -I"/Library/Frameworks/R.framework/Resources/include" -DNDEBUG -I/usr/local/Cellar/htslib/1.21/include -I/usr/include -I/opt/R/x86_64/include -I'/Library/Frameworks/R.framework/Versions/4.5-x86_64/Resources/library/Rcpp/include' -I'/Library/Frameworks/R.framework/Versions/4.5-x86_64/Resources/library/RcppArmadillo/include' -I'/Library/Frameworks/R.framework/Versions/4.5-x86_64/Resources/library/RcppProgress/include' -I'/Library/Frameworks/R.framework/Versions/4.5-x86_64/Resources/library/RcppSpdlog/include' -I'/Library/Frameworks/R.framework/Versions/4.5-x86_64/Resources/library/Rhtslib/include' -I'/Library/Frameworks/R.framework/Versions/4.5-x86_64/Resources/library/stringfish/include' -I/opt/R/x86_64/include -fPIC -falign-functions=64 -Wall -g -O2 -c parsers.cpp -o parsers.o
clang++ -arch x86_64 -std=gnu++17 -I"/Library/Frameworks/R.framework/Resources/include" -DNDEBUG -I/usr/local/Cellar/htslib/1.21/include -I/usr/include -I/opt/R/x86_64/include -I'/Library/Frameworks/R.framework/Versions/4.5-x86_64/Resources/library/Rcpp/include' -I'/Library/Frameworks/R.framework/Versions/4.5-x86_64/Resources/library/RcppArmadillo/include' -I'/Library/Frameworks/R.framework/Versions/4.5-x86_64/Resources/library/RcppProgress/include' -I'/Library/Frameworks/R.framework/Versions/4.5-x86_64/Resources/library/RcppSpdlog/include' -I'/Library/Frameworks/R.framework/Versions/4.5-x86_64/Resources/library/Rhtslib/include' -I'/Library/Frameworks/R.framework/Versions/4.5-x86_64/Resources/library/stringfish/include' -I/opt/R/x86_64/include -fPIC -falign-functions=64 -Wall -g -O2 -c query.cpp -o query.o
clang++ -arch x86_64 -std=gnu++17 -I"/Library/Frameworks/R.framework/Resources/include" -DNDEBUG -I/usr/local/Cellar/htslib/1.21/include -I/usr/include -I/opt/R/x86_64/include -I'/Library/Frameworks/R.framework/Versions/4.5-x86_64/Resources/library/Rcpp/include' -I'/Library/Frameworks/R.framework/Versions/4.5-x86_64/Resources/library/RcppArmadillo/include' -I'/Library/Frameworks/R.framework/Versions/4.5-x86_64/Resources/library/RcppProgress/include' -I'/Library/Frameworks/R.framework/Versions/4.5-x86_64/Resources/library/RcppSpdlog/include' -I'/Library/Frameworks/R.framework/Versions/4.5-x86_64/Resources/library/Rhtslib/include' -I'/Library/Frameworks/R.framework/Versions/4.5-x86_64/Resources/library/stringfish/include' -I/opt/R/x86_64/include -fPIC -falign-functions=64 -Wall -g -O2 -c query_all.cpp -o query_all.o
In file included from query_all.cpp:1:
./query_all.hpp:56:1: warning: unused function 'khmap_destroy' [-Wunused-function]
KHASHL_MAP_INIT(static, khmap_t, khmap, CpG, int, kh_hash_cpg, kh_eq_cpg);
^
./../inst/include/khashl.h:350:13: note: expanded from macro 'KHASHL_MAP_INIT'
SCOPE void prefix##_destroy(HType *h) { prefix##_m_destroy(h); } \
^
<scratch space>:100:1: note: expanded from here
khmap_destroy
^
In file included from query_all.cpp:1:
./query_all.hpp:56:1: warning: unused function 'khmap_del' [-Wunused-function]
./../inst/include/khashl.h:352:12: note: expanded from macro 'KHASHL_MAP_INIT'
SCOPE int prefix##_del(HType *h, khint_t k) { return prefix##_m_del(h, k); } \
^
<scratch space>:105:1: note: expanded from here
khmap_del
^
2 warnings generated.
clang++ -arch x86_64 -std=gnu++17 -I"/Library/Frameworks/R.framework/Resources/include" -DNDEBUG -I/usr/local/Cellar/htslib/1.21/include -I/usr/include -I/opt/R/x86_64/include -I'/Library/Frameworks/R.framework/Versions/4.5-x86_64/Resources/library/Rcpp/include' -I'/Library/Frameworks/R.framework/Versions/4.5-x86_64/Resources/library/RcppArmadillo/include' -I'/Library/Frameworks/R.framework/Versions/4.5-x86_64/Resources/library/RcppProgress/include' -I'/Library/Frameworks/R.framework/Versions/4.5-x86_64/Resources/library/RcppSpdlog/include' -I'/Library/Frameworks/R.framework/Versions/4.5-x86_64/Resources/library/Rhtslib/include' -I'/Library/Frameworks/R.framework/Versions/4.5-x86_64/Resources/library/stringfish/include' -I/opt/R/x86_64/include -fPIC -falign-functions=64 -Wall -g -O2 -c summarize_regions.cpp -o summarize_regions.o
clang++ -arch x86_64 -std=gnu++17 -dynamiclib -Wl,-headerpad_max_install_names -undefined dynamic_lookup -L/Library/Frameworks/R.framework/Resources/lib -L/opt/R/x86_64/lib -o iscream.so RcppExports.o decode_mat.o get_threads.o log.o parsers.o query.o query_all.o summarize_regions.o -L/usr/local/Cellar/htslib/1.21/lib -lhts -F/Library/Frameworks/R.framework/.. -framework R
ld: warning: dylib (/usr/local/Cellar/htslib/1.21/lib/libhts.dylib) was built for newer macOS version (12.0) than being linked (11.0)
installing to /Users/biocbuild/bbs-3.22-bioc/meat/iscream.buildbin-libdir/00LOCK-iscream/00new/iscream/libs
** R
** inst
** byte-compile and prepare package for lazy loading
** help
*** installing help indices
*** copying figures
** building package indices
** installing vignettes
** testing if installed package can be loaded from temporary location
** checking absolute paths in shared objects and dynamic libraries
** testing if installed package can be loaded from final location
** testing if installed package keeps a record of temporary installation path
* DONE (iscream)
>>>>>>>
>>>>>>> FIXING PATHS TO DYNAMIC LIBRARIES FOR iscream.buildbin-libdir/iscream/libs/iscream.so
>>>>>>>
>>>>>>> Paths before fix:
iscream.buildbin-libdir/iscream/libs/iscream.so:
iscream.so (compatibility version 0.0.0, current version 0.0.0)
/usr/local/opt/htslib/lib/libhts.3.dylib (compatibility version 3.1.21, current version 3.1.21)
/Library/Frameworks/R.framework/Versions/4.5-x86_64/Resources/lib/libR.dylib (compatibility version 4.5.0, current version 4.5.2)
/usr/lib/libc++.1.dylib (compatibility version 1.0.0, current version 905.6.0)
/usr/lib/libSystem.B.dylib (compatibility version 1.0.0, current version 1292.100.5)
>>>>>>> Fix with install_name_tool:
install_name_tool -change "/usr/local/lib/libgcc_s.1.1.dylib" "/Library/Frameworks/R.framework/Versions/4.5-x86_64/Resources/lib/libgcc_s.1.1.dylib" "iscream.buildbin-libdir/iscream/libs/iscream.so"
install_name_tool -change "/usr/local/lib/libgfortran.5.dylib" "/Library/Frameworks/R.framework/Versions/4.5-x86_64/Resources/lib/libgfortran.5.dylib" "iscream.buildbin-libdir/iscream/libs/iscream.so"
install_name_tool -change "/usr/local/lib/libquadmath.0.dylib" "/Library/Frameworks/R.framework/Versions/4.5-x86_64/Resources/lib/libquadmath.0.dylib" "iscream.buildbin-libdir/iscream/libs/iscream.so"
>>>>>>> Paths after fix:
iscream.buildbin-libdir/iscream/libs/iscream.so:
iscream.so (compatibility version 0.0.0, current version 0.0.0)
/usr/local/opt/htslib/lib/libhts.3.dylib (compatibility version 3.1.21, current version 3.1.21)
/Library/Frameworks/R.framework/Versions/4.5-x86_64/Resources/lib/libR.dylib (compatibility version 4.5.0, current version 4.5.2)
/usr/lib/libc++.1.dylib (compatibility version 1.0.0, current version 905.6.0)
/usr/lib/libSystem.B.dylib (compatibility version 1.0.0, current version 1292.100.5)