| Back to Multiple platform build/check report for BioC 3.22: simplified long |
|
This page was generated on 2025-10-24 12:03 -0400 (Fri, 24 Oct 2025).
| Hostname | OS | Arch (*) | R version | Installed pkgs |
|---|---|---|---|---|
| nebbiolo2 | Linux (Ubuntu 24.04.3 LTS) | x86_64 | 4.5.1 Patched (2025-08-23 r88802) -- "Great Square Root" | 4898 |
| lconway | macOS 12.7.6 Monterey | x86_64 | 4.5.1 Patched (2025-09-10 r88807) -- "Great Square Root" | 4688 |
| kjohnson3 | macOS 13.7.7 Ventura | arm64 | 4.5.1 Patched (2025-09-10 r88807) -- "Great Square Root" | 4634 |
| taishan | Linux (openEuler 24.03 LTS) | aarch64 | 4.5.0 (2025-04-11) -- "How About a Twenty-Six" | 4658 |
| Click on any hostname to see more info about the system (e.g. compilers) (*) as reported by 'uname -p', except on Windows and Mac OS X | ||||
| Package 1026/2359 | Hostname | OS / Arch | INSTALL | BUILD | CHECK | BUILD BIN | ||||||||
| iCheck 1.39.0 (landing page) Weiliang Qiu
| nebbiolo2 | Linux (Ubuntu 24.04.3 LTS) / x86_64 | OK | OK | OK | |||||||||
| lconway | macOS 12.7.6 Monterey / x86_64 | OK | OK | OK | OK | |||||||||
| kjohnson3 | macOS 13.7.7 Ventura / arm64 | OK | OK | OK | OK | |||||||||
| taishan | Linux (openEuler 24.03 LTS) / aarch64 | OK | OK | NA | ||||||||||
|
To the developers/maintainers of the iCheck package: - Allow up to 24 hours (and sometimes 48 hours) for your latest push to git@git.bioconductor.org:packages/iCheck.git to reflect on this report. See Troubleshooting Build Report for more information. - Use the following Renviron settings to reproduce errors and warnings. - If 'R CMD check' started to fail recently on the Linux builder(s) over a missing dependency, add the missing dependency to 'Suggests:' in your DESCRIPTION file. See Renviron.bioc for more information. |
| Package: iCheck |
| Version: 1.39.0 |
| Command: /home/biocbuild/bbs-3.22-bioc/R/bin/R CMD check --install=check:iCheck.install-out.txt --library=/home/biocbuild/bbs-3.22-bioc/R/site-library --timings iCheck_1.39.0.tar.gz |
| StartedAt: 2025-10-24 00:31:31 -0400 (Fri, 24 Oct 2025) |
| EndedAt: 2025-10-24 00:37:07 -0400 (Fri, 24 Oct 2025) |
| EllapsedTime: 335.4 seconds |
| RetCode: 0 |
| Status: OK |
| CheckDir: iCheck.Rcheck |
| Warnings: 0 |
##############################################################################
##############################################################################
###
### Running command:
###
### /home/biocbuild/bbs-3.22-bioc/R/bin/R CMD check --install=check:iCheck.install-out.txt --library=/home/biocbuild/bbs-3.22-bioc/R/site-library --timings iCheck_1.39.0.tar.gz
###
##############################################################################
##############################################################################
* using log directory ‘/home/biocbuild/bbs-3.22-bioc/meat/iCheck.Rcheck’
* using R version 4.5.1 Patched (2025-08-23 r88802)
* using platform: x86_64-pc-linux-gnu
* R was compiled by
gcc (Ubuntu 13.3.0-6ubuntu2~24.04) 13.3.0
GNU Fortran (Ubuntu 13.3.0-6ubuntu2~24.04) 13.3.0
* running under: Ubuntu 24.04.3 LTS
* using session charset: UTF-8
* checking for file ‘iCheck/DESCRIPTION’ ... OK
* checking extension type ... Package
* this is package ‘iCheck’ version ‘1.39.0’
* checking package namespace information ... OK
* checking package dependencies ... OK
* checking if this is a source package ... OK
* checking if there is a namespace ... OK
* checking for hidden files and directories ... OK
* checking for portable file names ... OK
* checking for sufficient/correct file permissions ... OK
* checking whether package ‘iCheck’ can be installed ... OK
* checking installed package size ... OK
* checking package directory ... OK
* checking ‘build’ directory ... OK
* checking DESCRIPTION meta-information ... OK
* checking top-level files ... OK
* checking for left-over files ... OK
* checking index information ... OK
* checking package subdirectories ... OK
* checking code files for non-ASCII characters ... OK
* checking R files for syntax errors ... OK
* checking whether the package can be loaded ... OK
* checking whether the package can be loaded with stated dependencies ... OK
* checking whether the package can be unloaded cleanly ... OK
* checking whether the namespace can be loaded with stated dependencies ... OK
* checking whether the namespace can be unloaded cleanly ... OK
* checking loading without being on the library search path ... OK
* checking dependencies in R code ... OK
* checking S3 generic/method consistency ... OK
* checking replacement functions ... OK
* checking foreign function calls ... OK
* checking R code for possible problems ... OK
* checking Rd files ... NOTE
checkRd: (-1) R2PlotFunc.Rd:74: Lost braces; missing escapes or markup?
74 | 'las' numeric in {0,1,2,3}; the style of axis labels.
| ^
checkRd: (-1) genSimData.BayesNormal.Rd:93: Lost braces; missing escapes or markup?
93 | contains 2 columns: \code{arrayID} (array id) and {memSubj} (subject
| ^
checkRd: (-1) lmFitWrapper.Rd:85: Lost braces
85 | code{pval} (p-values of the tests for the covariate of interest, i.e.
| ^
checkRd: (-1) plotCurves.Rd:75: Lost braces; missing escapes or markup?
75 | 'las' numeric in {0,1,2,3}; the style of axis labels.
| ^
checkRd: (-1) plotQCCurves.Rd:102: Lost braces; missing escapes or markup?
102 | 'las' numeric in {0,1,2,3}; the style of axis labels.
| ^
checkRd: (-1) plotSamplep95p05.Rd:92: Lost braces; missing escapes or markup?
92 | 'las' numeric in {0,1,2,3}; the style of axis labels.
| ^
checkRd: (-1) quantilePlot.Rd:78: Lost braces; missing escapes or markup?
78 | 'las' numeric in {0,1,2,3}; the style of axis labels.
| ^
* checking Rd metadata ... OK
* checking Rd cross-references ... NOTE
Found the following Rd file(s) with Rd \link{} targets missing package
anchors:
R2PlotFunc.Rd: heatmap.2
Please provide package anchors for all Rd \link{} targets not in the
package itself and the base packages.
* checking for missing documentation entries ... OK
* checking for code/documentation mismatches ... OK
* checking Rd \usage sections ... OK
* checking Rd contents ... OK
* checking for unstated dependencies in examples ... OK
* checking files in ‘vignettes’ ... OK
* checking examples ... OK
* checking for unstated dependencies in vignettes ... OK
* checking package vignettes ... OK
* checking re-building of vignette outputs ... OK
* checking PDF version of manual ... OK
* DONE
Status: 2 NOTEs
See
‘/home/biocbuild/bbs-3.22-bioc/meat/iCheck.Rcheck/00check.log’
for details.
iCheck.Rcheck/00install.out
############################################################################## ############################################################################## ### ### Running command: ### ### /home/biocbuild/bbs-3.22-bioc/R/bin/R CMD INSTALL iCheck ### ############################################################################## ############################################################################## * installing to library ‘/home/biocbuild/bbs-3.22-bioc/R/site-library’ * installing *source* package ‘iCheck’ ... ** this is package ‘iCheck’ version ‘1.39.0’ ** using staged installation ** R ** byte-compile and prepare package for lazy loading No methods found in package ‘RSQLite’ for request: ‘dbListFields’ when loading ‘lumi’ ** help *** installing help indices ** building package indices ** installing vignettes ** testing if installed package can be loaded from temporary location No methods found in package ‘RSQLite’ for request: ‘dbListFields’ when loading ‘lumi’ ** testing if installed package can be loaded from final location No methods found in package ‘RSQLite’ for request: ‘dbListFields’ when loading ‘lumi’ ** testing if installed package keeps a record of temporary installation path * DONE (iCheck)
iCheck.Rcheck/iCheck-Ex.timings
| name | user | system | elapsed | |
| LumiBatch2Table | 0.080 | 0.000 | 0.081 | |
| R2PlotFunc | 0.197 | 0.006 | 0.191 | |
| boxPlots | 0.140 | 0.002 | 0.142 | |
| densityPlots | 0.101 | 0.005 | 0.107 | |
| genSimData.BayesNormal | 0.026 | 0.000 | 0.026 | |
| getPCAFunc | 0.041 | 0.000 | 0.042 | |
| glmWrapper | 0.278 | 0.001 | 0.279 | |
| lkhrWrapper | 0.364 | 0.026 | 0.391 | |
| lmFitPaired | 0.033 | 0.007 | 0.040 | |
| lmFitWrapper | 0.032 | 0.008 | 0.041 | |
| pca2DPlot | 0.072 | 0.005 | 0.077 | |
| pca3DPlot | 0.043 | 0.006 | 0.050 | |
| plotCurves | 0.030 | 0.006 | 0.037 | |
| plotQCCurves | 0.046 | 0.009 | 0.054 | |
| plotSamplep95p05 | 0.044 | 0.015 | 0.059 | |
| quantilePlot | 0.077 | 0.006 | 0.078 | |
| scatterPlots | 0.103 | 0.011 | 0.115 | |
| sortExpressionSet | 0.04 | 0.00 | 0.04 | |