| Back to Multiple platform build/check report for BioC 3.22: simplified long | 
 | 
This page was generated on 2025-10-24 12:03 -0400 (Fri, 24 Oct 2025).
| Hostname | OS | Arch (*) | R version | Installed pkgs | 
|---|---|---|---|---|
| nebbiolo2 | Linux (Ubuntu 24.04.3 LTS) | x86_64 | 4.5.1 Patched (2025-08-23 r88802) -- "Great Square Root" | 4898 | 
| lconway | macOS 12.7.6 Monterey | x86_64 | 4.5.1 Patched (2025-09-10 r88807) -- "Great Square Root" | 4688 | 
| kjohnson3 | macOS 13.7.7 Ventura | arm64 | 4.5.1 Patched (2025-09-10 r88807) -- "Great Square Root" | 4634 | 
| taishan | Linux (openEuler 24.03 LTS) | aarch64 | 4.5.0 (2025-04-11) -- "How About a Twenty-Six" | 4658 | 
| Click on any hostname to see more info about the system (e.g. compilers) (*) as reported by 'uname -p', except on Windows and Mac OS X | ||||
| Package 1030/2359 | Hostname | OS / Arch | INSTALL | BUILD | CHECK | BUILD BIN | ||||||||
| iCOBRA 1.37.1  (landing page) Charlotte Soneson 
 | nebbiolo2 | Linux (Ubuntu 24.04.3 LTS) / x86_64 | OK | OK | OK |  | ||||||||
| lconway | macOS 12.7.6 Monterey / x86_64 | OK | OK | OK | OK |  | ||||||||
| kjohnson3 | macOS 13.7.7 Ventura / arm64 | OK | OK | OK | OK |  | ||||||||
| taishan | Linux (openEuler 24.03 LTS) / aarch64 | OK | OK | NA | ||||||||||
| To the developers/maintainers of the iCOBRA package: - Allow up to 24 hours (and sometimes 48 hours) for your latest push to git@git.bioconductor.org:packages/iCOBRA.git to reflect on this report. See Troubleshooting Build Report for more information. - Use the following Renviron settings to reproduce errors and warnings. - If 'R CMD check' started to fail recently on the Linux builder(s) over a missing dependency, add the missing dependency to 'Suggests:' in your DESCRIPTION file. See Renviron.bioc for more information. | 
| Package: iCOBRA | 
| Version: 1.37.1 | 
| Command: /home/biocbuild/bbs-3.22-bioc/R/bin/R CMD check --install=check:iCOBRA.install-out.txt --library=/home/biocbuild/bbs-3.22-bioc/R/site-library --timings iCOBRA_1.37.1.tar.gz | 
| StartedAt: 2025-10-24 00:31:42 -0400 (Fri, 24 Oct 2025) | 
| EndedAt: 2025-10-24 00:33:53 -0400 (Fri, 24 Oct 2025) | 
| EllapsedTime: 130.2 seconds | 
| RetCode: 0 | 
| Status: OK | 
| CheckDir: iCOBRA.Rcheck | 
| Warnings: 0 | 
##############################################################################
##############################################################################
###
### Running command:
###
###   /home/biocbuild/bbs-3.22-bioc/R/bin/R CMD check --install=check:iCOBRA.install-out.txt --library=/home/biocbuild/bbs-3.22-bioc/R/site-library --timings iCOBRA_1.37.1.tar.gz
###
##############################################################################
##############################################################################
* using log directory ‘/home/biocbuild/bbs-3.22-bioc/meat/iCOBRA.Rcheck’
* using R version 4.5.1 Patched (2025-08-23 r88802)
* using platform: x86_64-pc-linux-gnu
* R was compiled by
    gcc (Ubuntu 13.3.0-6ubuntu2~24.04) 13.3.0
    GNU Fortran (Ubuntu 13.3.0-6ubuntu2~24.04) 13.3.0
* running under: Ubuntu 24.04.3 LTS
* using session charset: UTF-8
* checking for file ‘iCOBRA/DESCRIPTION’ ... OK
* checking extension type ... Package
* this is package ‘iCOBRA’ version ‘1.37.1’
* package encoding: UTF-8
* checking package namespace information ... OK
* checking package dependencies ... OK
* checking if this is a source package ... OK
* checking if there is a namespace ... OK
* checking for hidden files and directories ... OK
* checking for portable file names ... OK
* checking for sufficient/correct file permissions ... OK
* checking whether package ‘iCOBRA’ can be installed ... OK
* checking installed package size ... OK
* checking package directory ... OK
* checking ‘build’ directory ... OK
* checking DESCRIPTION meta-information ... OK
* checking top-level files ... OK
* checking for left-over files ... OK
* checking index information ... OK
* checking package subdirectories ... OK
* checking code files for non-ASCII characters ... OK
* checking R files for syntax errors ... OK
* checking whether the package can be loaded ... OK
* checking whether the package can be loaded with stated dependencies ... OK
* checking whether the package can be unloaded cleanly ... OK
* checking whether the namespace can be loaded with stated dependencies ... OK
* checking whether the namespace can be unloaded cleanly ... OK
* checking loading without being on the library search path ... OK
* checking dependencies in R code ... OK
* checking S3 generic/method consistency ... OK
* checking replacement functions ... OK
* checking foreign function calls ... OK
* checking R code for possible problems ... OK
* checking Rd files ... OK
* checking Rd metadata ... OK
* checking Rd cross-references ... OK
* checking for missing documentation entries ... OK
* checking for code/documentation mismatches ... OK
* checking Rd \usage sections ... OK
* checking Rd contents ... OK
* checking for unstated dependencies in examples ... OK
* checking contents of ‘data’ directory ... OK
* checking data for non-ASCII characters ... OK
* checking LazyData ... OK
* checking data for ASCII and uncompressed saves ... OK
* checking files in ‘vignettes’ ... OK
* checking examples ... OK
* checking for unstated dependencies in ‘tests’ ... OK
* checking tests ...
  Running ‘testthat.R’
 OK
* checking for unstated dependencies in vignettes ... OK
* checking package vignettes ... OK
* checking re-building of vignette outputs ... OK
* checking PDF version of manual ... OK
* DONE
Status: OK
iCOBRA.Rcheck/00install.out
############################################################################## ############################################################################## ### ### Running command: ### ### /home/biocbuild/bbs-3.22-bioc/R/bin/R CMD INSTALL iCOBRA ### ############################################################################## ############################################################################## * installing to library ‘/home/biocbuild/bbs-3.22-bioc/R/site-library’ * installing *source* package ‘iCOBRA’ ... ** this is package ‘iCOBRA’ version ‘1.37.1’ ** using staged installation ** R ** data *** moving datasets to lazyload DB ** inst ** byte-compile and prepare package for lazy loading ** help *** installing help indices ** building package indices ** installing vignettes ** testing if installed package can be loaded from temporary location ** testing if installed package can be loaded from final location ** testing if installed package keeps a record of temporary installation path * DONE (iCOBRA)
iCOBRA.Rcheck/tests/testthat.Rout
R version 4.5.1 Patched (2025-08-23 r88802) -- "Great Square Root"
Copyright (C) 2025 The R Foundation for Statistical Computing
Platform: x86_64-pc-linux-gnu
R is free software and comes with ABSOLUTELY NO WARRANTY.
You are welcome to redistribute it under certain conditions.
Type 'license()' or 'licence()' for distribution details.
R is a collaborative project with many contributors.
Type 'contributors()' for more information and
'citation()' on how to cite R or R packages in publications.
Type 'demo()' for some demos, 'help()' for on-line help, or
'help.start()' for an HTML browser interface to help.
Type 'q()' to quit R.
> library(testthat)
> library(iCOBRA)
> 
> test_check("iCOBRA")
An object of class "COBRAData"
@pval
                   Method1     Method2     Method3
ENSG00000000457 0.01446441 0.008665558 0.003317162
ENSG00000000460 0.95247473 0.927616428 0.974301159
ENSG00000000938 0.74556923 0.632987431 0.639716304
ENSG00000000971 0.72582371 0.568683774 0.610769221
ENSG00000001460 0.64292689 0.629807292 0.613039563
2413 more rows ...
@padj
                   Method1    Method2
ENSG00000000457 0.05544853 0.03916508
ENSG00000000460 0.98752284 0.96680023
ENSG00000000938 0.91465571 0.82867282
ENSG00000000971 0.90618247 0.79410144
ENSG00000001460 0.87662457 0.82779499
2413 more rows ...
@sval
                   Method1    Method2
ENSG00000000457 0.05544853 0.03916508
ENSG00000000460 0.98752284 0.96680023
ENSG00000000938 0.91465571 0.82867282
ENSG00000000971 0.90618247 0.79410144
ENSG00000001460 0.87662457 0.82779499
2413 more rows ...
@score
                    Method1     Method2      Method3
ENSG00000000457 -0.76274305 -0.75783824 -0.743951068
ENSG00000000460 -0.02033394 -0.02096682 -0.007355491
ENSG00000000938  0.10235482  0.10968180  0.113127202
ENSG00000000971 -0.12495998 -0.12090589 -0.112072431
ENSG00000001460 -0.16319682 -0.13257307 -0.149343205
2413 more rows ...
@truth
                status n_isoforms      logFC     logFC_cat       expr
ENSG00000000457      0          5  0.0000000 [ 0.00, 0.56)   8.525774
ENSG00000000460      1         10  1.1643146 [ 0.56, 1.54)   5.371661
ENSG00000000938      0          8  0.0000000 [ 0.00, 0.56)  11.543626
ENSG00000000971      0          6  0.0000000 [ 0.00, 0.56) 163.547797
ENSG00000001460      1         13 -0.1033807 [ 0.00, 0.56)   6.874695
                           expr_cat
ENSG00000000457 [   2.628,  17.148)
ENSG00000000460 [   2.628,  17.148)
ENSG00000000938 [   2.628,  17.148)
ENSG00000000971 [  17.148,3265.406]
ENSG00000001460 [   2.628,  17.148)
3853 more rows ...
An object of class "COBRAPerformance"
@fdrtpr
data frame with 0 columns and 0 rows
@fdrtprcurve
data frame with 0 columns and 0 rows
@fdrnbr
data frame with 0 columns and 0 rows
@fdrnbrcurve
data frame with 0 columns and 0 rows
@fsrnbr
data frame with 0 columns and 0 rows
@fsrnbrcurve
data frame with 0 columns and 0 rows
@deviation
data frame with 0 columns and 0 rows
@tpr
      thr  method basemethod   meas      fullmethod splitval NBR  TP  FP   TN
1 thr0.01 Method1    Method1 __padj Method1_overall  overall 508 387 121 1473
2 thr0.01 Method2    Method2 __padj Method2_overall  overall 392 308  84 1510
3 thr0.05 Method1    Method1 __padj Method1_overall  overall 620 448 172 1422
4 thr0.05 Method2    Method2 __padj Method2_overall  overall 565 406 159 1435
5  thr0.1 Method1    Method1 __padj Method1_overall  overall 697 478 219 1375
6  thr0.1 Method2    Method2 __padj Method2_overall  overall 651 448 203 1391
   FN TOT_CALLED DIFF NONDIFF       TPR
1 437       2418  842    3016 0.4596200
2 516       2418  842    3016 0.3657957
3 376       2418  842    3016 0.5320665
4 418       2418  842    3016 0.4821853
5 346       2418  842    3016 0.5676960
6 376       2418  842    3016 0.5320665
@fpr
data frame with 0 columns and 0 rows
@roc
data frame with 0 columns and 0 rows
@scatter
data frame with 0 columns and 0 rows
@fpc
data frame with 0 columns and 0 rows
@overlap
data frame with 0 columns and 0 rows
@corr
data frame with 0 columns and 0 rows
@maxsplit
[1] 3
@splv
[1] "none"
@onlyshared
[1] FALSE
An object of class "COBRAPerformance"
@fdrtpr
data frame with 0 columns and 0 rows
@fdrtprcurve
data frame with 0 columns and 0 rows
@fdrnbr
data frame with 0 columns and 0 rows
@fdrnbrcurve
data frame with 0 columns and 0 rows
@fsrnbr
data frame with 0 columns and 0 rows
@fsrnbrcurve
data frame with 0 columns and 0 rows
@deviation
data frame with 0 columns and 0 rows
@tpr
      thr  method basemethod   meas                           fullmethod
1 thr0.01 Method1    Method1 __padj Method1_expr_cat:[   0.000,   0.362)
2 thr0.01 Method1    Method1 __padj Method1_expr_cat:[   0.362,   2.628)
3 thr0.01 Method1    Method1 __padj Method1_expr_cat:[   2.628,  17.148)
4 thr0.01 Method1    Method1 __padj Method1_expr_cat:[  17.148,3265.406]
5 thr0.01 Method1    Method1 __padj                      Method1_overall
                      splitval NBR  TP  FP   TN  FN TOT_CALLED DIFF NONDIFF
1 expr_cat:[   0.000,   0.362)  18  12   6  341  12        371   30    1747
2 expr_cat:[   0.362,   2.628) 112 100  12  374 175        661  287     406
3 expr_cat:[   2.628,  17.148) 157 102  55  414 121        692  223     471
4 expr_cat:[  17.148,3265.406] 221 173  48  344 129        694  302     392
5                      overall 508 387 121 1473 437       2418  842    3016
        TPR
1 0.4000000
2 0.3484321
3 0.4573991
4 0.5728477
5 0.4596200
25 more rows ...
@fpr
data frame with 0 columns and 0 rows
@roc
data frame with 0 columns and 0 rows
@scatter
data frame with 0 columns and 0 rows
@fpc
data frame with 0 columns and 0 rows
@overlap
$[   0.000,   0.362)
                Method1 Method2 truth
ENSG00000007908       0       0     0
ENSG00000008118       0       0     0
ENSG00000042781       0       0     0
ENSG00000049247       0       0     1
ENSG00000057468       0       0     0
1772 more rows ...
$[   2.628,  17.148)
                Method1 Method2 truth
ENSG00000000457       0       1     0
ENSG00000000460       0       0     1
ENSG00000000938       0       0     0
ENSG00000001460       0       0     1
ENSG00000006555       0       0     1
689 more rows ...
$[  17.148,3265.406]
                Method1 Method2 truth
ENSG00000000971       0       0     0
ENSG00000001461       0       0     0
ENSG00000004455       1       1     0
ENSG00000004487       0       0     1
ENSG00000007923       0       0     0
689 more rows ...
$[   0.362,   2.628)
                Method1 Method2 truth
ENSG00000007933       0       0     0
ENSG00000007968       1       1     0
ENSG00000009724       0       0     0
ENSG00000010932       0       0     1
ENSG00000024526       1       1     1
688 more rows ...
$overall
                Method1 Method2 truth
ENSG00000000457       0       1     0
ENSG00000000460       0       0     1
ENSG00000000938       0       0     0
ENSG00000000971       0       0     0
ENSG00000001460       0       0     1
3853 more rows ...
@corr
data frame with 0 columns and 0 rows
@maxsplit
[1] 4
@splv
[1] "expr_cat"
@onlyshared
[1] FALSE
An object of class "COBRAPlot"
@plotcolors
                             Method1                              Method2 
                           "#00ACFC"                            "#8B93FF" 
                               truth Method1_expr_cat:[   0.000,   0.362) 
                           "#FF65AC"                            "#F8766D" 
Method2_expr_cat:[   0.000,   0.362) 
                           "#E18A00" 
58 more elements ...
@facetted
[1] FALSE
@fdrtpr
data frame with 0 columns and 0 rows
@fdrtprcurve
data frame with 0 columns and 0 rows
@fdrnbr
data frame with 0 columns and 0 rows
@fdrnbrcurve
data frame with 0 columns and 0 rows
@fsrnbr
data frame with 0 columns and 0 rows
@fsrnbrcurve
data frame with 0 columns and 0 rows
@deviation
data frame with 0 columns and 0 rows
@tpr
      thr  method basemethod   meas                           fullmethod
1 thr0.01 Method1    Method1 __padj Method1_expr_cat:[   0.000,   0.362)
2 thr0.01 Method1    Method1 __padj Method1_expr_cat:[   0.362,   2.628)
3 thr0.01 Method1    Method1 __padj Method1_expr_cat:[   2.628,  17.148)
4 thr0.01 Method1    Method1 __padj Method1_expr_cat:[  17.148,3265.406]
5 thr0.01 Method1    Method1 __padj                      Method1_overall
                      splitval NBR  TP  FP   TN  FN TOT_CALLED DIFF NONDIFF
1 expr_cat:[   0.000,   0.362)  18  12   6  341  12        371   30    1747
2 expr_cat:[   0.362,   2.628) 112 100  12  374 175        661  287     406
3 expr_cat:[   2.628,  17.148) 157 102  55  414 121        692  223     471
4 expr_cat:[  17.148,3265.406] 221 173  48  344 129        694  302     392
5                      overall 508 387 121 1473 437       2418  842    3016
        TPR num_method
1 0.4000000          1
2 0.3484321          2
3 0.4573991          3
4 0.5728477          4
5 0.4596200          5
25 more rows ...
@fpr
data frame with 0 columns and 0 rows
@roc
data frame with 0 columns and 0 rows
@scatter
data frame with 0 columns and 0 rows
@fpc
data frame with 0 columns and 0 rows
@overlap
$[   0.000,   0.362)
                Method1 Method2 truth
ENSG00000007908       0       0     0
ENSG00000008118       0       0     0
ENSG00000042781       0       0     0
ENSG00000049247       0       0     1
ENSG00000057468       0       0     0
1772 more rows ...
$[   2.628,  17.148)
                Method1 Method2 truth
ENSG00000000457       0       1     0
ENSG00000000460       0       0     1
ENSG00000000938       0       0     0
ENSG00000001460       0       0     1
ENSG00000006555       0       0     1
689 more rows ...
$[  17.148,3265.406]
                Method1 Method2 truth
ENSG00000000971       0       0     0
ENSG00000001461       0       0     0
ENSG00000004455       1       1     0
ENSG00000004487       0       0     1
ENSG00000007923       0       0     0
689 more rows ...
$[   0.362,   2.628)
                Method1 Method2 truth
ENSG00000007933       0       0     0
ENSG00000007968       1       1     0
ENSG00000009724       0       0     0
ENSG00000010932       0       0     1
ENSG00000024526       1       1     1
688 more rows ...
$overall
                Method1 Method2 truth
ENSG00000000457       0       1     0
ENSG00000000460       0       0     1
ENSG00000000938       0       0     0
ENSG00000000971       0       0     0
ENSG00000001460       0       0     1
3853 more rows ...
@corr
data frame with 0 columns and 0 rows
@maxsplit
[1] 4
@splv
[1] "expr_cat"
@onlyshared
[1] FALSE
[ FAIL 0 | WARN 3 | SKIP 0 | PASS 408 ]
[ FAIL 0 | WARN 3 | SKIP 0 | PASS 408 ]
> 
> proc.time()
   user  system elapsed 
 42.106   0.571  42.675 
iCOBRA.Rcheck/iCOBRA-Ex.timings
| name | user | system | elapsed | |
| COBRAData | 0.005 | 0.000 | 0.005 | |
| COBRAPerformance | 0.004 | 0.000 | 0.004 | |
| COBRAPlot | 0.002 | 0.000 | 0.002 | |
| COBRAapp | 0.606 | 0.052 | 0.661 | |
| Extract | 0.178 | 0.044 | 0.223 | |
| basemethods | 0.210 | 0.012 | 0.222 | |
| calculate_adjp | 0.014 | 0.000 | 0.014 | |
| calculate_performance | 0.445 | 0.010 | 0.455 | |
| coerce | 0.096 | 0.001 | 0.097 | |
| corr | 0.023 | 0.000 | 0.024 | |
| deviation | 0.27 | 0.00 | 0.27 | |
| facetted | 0.075 | 0.000 | 0.075 | |
| fdrnbr | 0.067 | 0.000 | 0.067 | |
| fdrnbrcurve | 0.204 | 0.000 | 0.204 | |
| fdrtpr | 0.067 | 0.001 | 0.068 | |
| fdrtprcurve | 0.204 | 0.001 | 0.206 | |
| fpc | 0.186 | 0.000 | 0.186 | |
| fpr | 0.061 | 0.000 | 0.061 | |
| fsrnbr | 0.036 | 0.000 | 0.037 | |
| fsrnbrcurve | 0.586 | 0.002 | 0.588 | |
| maxsplit | 0.252 | 0.001 | 0.253 | |
| onlyshared | 0.068 | 0.000 | 0.068 | |
| overlap | 0.017 | 0.000 | 0.017 | |
| padj | 0.004 | 0.001 | 0.006 | |
| plot_corr | 0.456 | 0.003 | 0.460 | |
| plot_deviation | 1.134 | 0.005 | 1.138 | |
| plot_fdrnbrcurve | 0.941 | 0.002 | 0.942 | |
| plot_fdrtprcurve | 0.810 | 0.033 | 0.842 | |
| plot_fpc | 0.560 | 0.012 | 0.573 | |
| plot_fpr | 0.375 | 0.000 | 0.374 | |
| plot_fsrnbrcurve | 1.132 | 0.005 | 1.137 | |
| plot_overlap | 0.032 | 0.000 | 0.032 | |
| plot_roc | 0.552 | 0.000 | 0.552 | |
| plot_scatter | 0.984 | 0.007 | 0.990 | |
| plot_tpr | 0.477 | 0.001 | 0.478 | |
| plot_upset | 2.135 | 0.001 | 2.137 | |
| plotcolors | 0.073 | 0.001 | 0.075 | |
| prepare_data_for_plot | 0.479 | 0.001 | 0.481 | |
| pval | 0.005 | 0.000 | 0.006 | |
| reorder_levels | 0.065 | 0.002 | 0.067 | |
| roc | 0.183 | 0.000 | 0.183 | |
| scatter | 0.302 | 0.000 | 0.302 | |
| score | 0.005 | 0.001 | 0.005 | |
| splv | 0.21 | 0.00 | 0.21 | |
| stratiflevels | 0.244 | 0.000 | 0.244 | |
| sval | 0.005 | 0.000 | 0.005 | |
| tpr | 0.071 | 0.016 | 0.087 | |
| truth | 0.007 | 0.001 | 0.007 | |
| update_cobradata | 0.002 | 0.000 | 0.002 | |
| update_cobraperformance | 0.050 | 0.008 | 0.059 | |