Back to Multiple platform build/check report for BioC 3.22:   simplified   long
ABCDEF[G]HIJKLMNOPQRSTUVWXYZ

This page was generated on 2025-11-15 11:58 -0500 (Sat, 15 Nov 2025).

HostnameOSArch (*)R versionInstalled pkgs
nebbiolo2Linux (Ubuntu 24.04.3 LTS)x86_644.5.1 Patched (2025-08-23 r88802) -- "Great Square Root" 4903
taishanLinux (openEuler 24.03 LTS)aarch644.5.0 (2025-04-11) -- "How About a Twenty-Six" 4668
Click on any hostname to see more info about the system (e.g. compilers)      (*) as reported by 'uname -p', except on Windows and Mac OS X

Package 926/2361HostnameOS / ArchINSTALLBUILDCHECKBUILD BIN
graphite 1.56.0  (landing page)
Gabriele Sales
Snapshot Date: 2025-11-14 13:45 -0500 (Fri, 14 Nov 2025)
git_url: https://git.bioconductor.org/packages/graphite
git_branch: RELEASE_3_22
git_last_commit: d5cf402
git_last_commit_date: 2025-10-29 10:08:39 -0500 (Wed, 29 Oct 2025)
nebbiolo2Linux (Ubuntu 24.04.3 LTS) / x86_64  OK    OK    OK  UNNEEDED, same version is already published
taishanLinux (openEuler 24.03 LTS) / aarch64  OK    OK    ERROR  


CHECK results for graphite on taishan

To the developers/maintainers of the graphite package:
- Allow up to 24 hours (and sometimes 48 hours) for your latest push to git@git.bioconductor.org:packages/graphite.git to reflect on this report. See Troubleshooting Build Report for more information.
- Use the following Renviron settings to reproduce errors and warnings.
- If 'R CMD check' started to fail recently on the Linux builder(s) over a missing dependency, add the missing dependency to 'Suggests:' in your DESCRIPTION file. See Renviron.bioc for more information.
- See Martin Grigorov's blog post for how to debug Linux ARM64 related issues on a x86_64 host.

raw results


Summary

Package: graphite
Version: 1.56.0
Command: /home/biocbuild/R/R/bin/R CMD check --install=check:graphite.install-out.txt --library=/home/biocbuild/R/R/site-library --no-vignettes --timings graphite_1.56.0.tar.gz
StartedAt: 2025-11-14 10:14:26 -0000 (Fri, 14 Nov 2025)
EndedAt: 2025-11-14 10:19:46 -0000 (Fri, 14 Nov 2025)
EllapsedTime: 319.3 seconds
RetCode: 1
Status:   ERROR  
CheckDir: graphite.Rcheck
Warnings: NA

Command output

##############################################################################
##############################################################################
###
### Running command:
###
###   /home/biocbuild/R/R/bin/R CMD check --install=check:graphite.install-out.txt --library=/home/biocbuild/R/R/site-library --no-vignettes --timings graphite_1.56.0.tar.gz
###
##############################################################################
##############################################################################


* using log directory ‘/home/biocbuild/bbs-3.22-bioc/meat/graphite.Rcheck’
* using R version 4.5.0 (2025-04-11)
* using platform: aarch64-unknown-linux-gnu
* R was compiled by
    aarch64-unknown-linux-gnu-gcc (GCC) 14.2.0
    GNU Fortran (GCC) 14.2.0
* running under: openEuler 24.03 (LTS)
* using session charset: UTF-8
* using option ‘--no-vignettes’
* checking for file ‘graphite/DESCRIPTION’ ... OK
* this is package ‘graphite’ version ‘1.56.0’
* checking package namespace information ... OK
* checking package dependencies ... OK
* checking if this is a source package ... OK
* checking if there is a namespace ... OK
* checking for hidden files and directories ... OK
* checking for portable file names ... OK
* checking for sufficient/correct file permissions ... OK
* checking whether package ‘graphite’ can be installed ... OK
* checking installed package size ... OK
* checking package directory ... OK
* checking ‘build’ directory ... OK
* checking DESCRIPTION meta-information ... OK
* checking top-level files ... OK
* checking for left-over files ... OK
* checking index information ... OK
* checking package subdirectories ... OK
* checking code files for non-ASCII characters ... OK
* checking R files for syntax errors ... OK
* checking whether the package can be loaded ... OK
* checking whether the package can be loaded with stated dependencies ... OK
* checking whether the package can be unloaded cleanly ... OK
* checking whether the namespace can be loaded with stated dependencies ... OK
* checking whether the namespace can be unloaded cleanly ... OK
* checking loading without being on the library search path ... OK
* checking dependencies in R code ... OK
* checking S3 generic/method consistency ... OK
* checking replacement functions ... OK
* checking foreign function calls ... OK
* checking R code for possible problems ... OK
* checking Rd files ... OK
* checking Rd metadata ... OK
* checking Rd cross-references ... OK
* checking for missing documentation entries ... OK
* checking for code/documentation mismatches ... OK
* checking Rd \usage sections ... OK
* checking Rd contents ... OK
* checking for unstated dependencies in examples ... OK
* checking files in ‘vignettes’ ... OK
* checking examples ... OK
Examples with CPU (user + system) or elapsed time > 5s
                     user system elapsed
runClipper         12.640  0.482  13.172
convertIdentifiers  5.907  0.199   6.127
Pathway-class       4.655  0.363   5.037
* checking for unstated dependencies in ‘tests’ ... OK
* checking tests ...
  Running ‘testthat.R’
 ERROR
Running the tests in ‘tests/testthat.R’ failed.
Last 13 lines of output:
   5.         └─graphite:::fetchRemote(name, path)
  ── Error ('test_topologygsa.R:37:3'): (code run outside of `test_that()`) ──────
  Error in `fetchRemote(name, path)`: cannot download pathway data: are you offline?
  Backtrace:
      ▆
   1. └─graphite (local) load_pathways() at test_topologygsa.R:47:1
   2.   └─graphite::pathways("hsapiens", "kegg") at test_topologygsa.R:37:3
   3.     └─graphite:::loadData(paste(species, database, sep = "-"))
   4.       └─graphite:::withArchiveDir(...)
   5.         └─graphite (local) func(path)
   6.           └─graphite:::fetchRemote(name, path)
  
  [ FAIL 5 | WARN 1 | SKIP 0 | PASS 81 ]
  Error: Test failures
  Execution halted
* checking for unstated dependencies in vignettes ... OK
* checking package vignettes ... OK
* checking running R code from vignettes ... SKIPPED
* checking re-building of vignette outputs ... SKIPPED
* checking PDF version of manual ... OK
* DONE

Status: 1 ERROR
See
  ‘/home/biocbuild/bbs-3.22-bioc/meat/graphite.Rcheck/00check.log’
for details.


Installation output

graphite.Rcheck/00install.out

##############################################################################
##############################################################################
###
### Running command:
###
###   /home/biocbuild/R/R/bin/R CMD INSTALL graphite
###
##############################################################################
##############################################################################


* installing to library ‘/home/biocbuild/R/R-4.5.0/site-library’
* installing *source* package ‘graphite’ ...
** this is package ‘graphite’ version ‘1.56.0’
** using staged installation
** R
** inst
** byte-compile and prepare package for lazy loading
** help
*** installing help indices
** building package indices
** installing vignettes
** testing if installed package can be loaded from temporary location
** testing if installed package can be loaded from final location
** testing if installed package keeps a record of temporary installation path
* DONE (graphite)

Tests output

graphite.Rcheck/tests/testthat.Rout.fail


R version 4.5.0 (2025-04-11) -- "How About a Twenty-Six"
Copyright (C) 2025 The R Foundation for Statistical Computing
Platform: aarch64-unknown-linux-gnu

R is free software and comes with ABSOLUTELY NO WARRANTY.
You are welcome to redistribute it under certain conditions.
Type 'license()' or 'licence()' for distribution details.

R is a collaborative project with many contributors.
Type 'contributors()' for more information and
'citation()' on how to cite R or R packages in publications.

Type 'demo()' for some demos, 'help()' for on-line help, or
'help.start()' for an HTML browser interface to help.
Type 'q()' to quit R.

> library(testthat)
> library(graphite)
> 
> test_check("graphite")
Error in curl::curl_fetch_disk(url, x$path, handle = handle) : 
  Timeout was reached [graphiteweb.bio.unipd.it]:
Resolving timed out after 10000 milliseconds
Error in curl::curl_fetch_disk(url, x$path, handle = handle) : 
  Timeout was reached [graphiteweb.bio.unipd.it]:
Resolving timed out after 10001 milliseconds
Error in curl::curl_fetch_disk(url, x$path, handle = handle) : 
  Timeout was reached [graphiteweb.bio.unipd.it]:
Resolving timed out after 10000 milliseconds
Error in curl::curl_fetch_disk(url, x$path, handle = handle) : 
  Timeout was reached [graphiteweb.bio.unipd.it]:
Resolving timed out after 10002 milliseconds
Error in curl::curl_fetch_disk(url, x$path, handle = handle) : 
  Timeout was reached [graphiteweb.bio.unipd.it]:
Resolving timed out after 10002 milliseconds
[ FAIL 5 | WARN 1 | SKIP 0 | PASS 81 ]

══ Failed tests ════════════════════════════════════════════════════════════════
── Error ('test_fetch.R:24:3'): Mus musculus pathways can be downloaded ────────
Error in `fetchRemote(name, path)`: cannot download pathway data: are you offline?
Backtrace:
    ▆
 1. └─graphite::pathways("mmusculus", "kegg") at test_fetch.R:24:3
 2.   └─graphite:::loadData(paste(species, database, sep = "-"))
 3.     └─graphite:::withArchiveDir(...)
 4.       └─graphite (local) func(path)
 5.         └─graphite:::fetchRemote(name, path)
── Error ('test_graph.R:102:3'): graphNEL includes metabolites from pathway ────
Error in `fetchRemote(name, path)`: cannot download pathway data: are you offline?
Backtrace:
    ▆
 1. └─graphite::pathways("hsapiens", "kegg") at test_graph.R:102:3
 2.   └─graphite:::loadData(paste(species, database, sep = "-"))
 3.     └─graphite:::withArchiveDir(...)
 4.       └─graphite (local) func(path)
 5.         └─graphite:::fetchRemote(name, path)
── Error ('test_graph.R:110:3'): Selection of an invalid type of edge is rejected ──
Error in `fetchRemote(name, path)`: cannot download pathway data: are you offline?
Backtrace:
    ▆
 1. └─graphite::pathways("hsapiens", "kegg") at test_graph.R:110:3
 2.   └─graphite:::loadData(paste(species, database, sep = "-"))
 3.     └─graphite:::withArchiveDir(...)
 4.       └─graphite (local) func(path)
 5.         └─graphite:::fetchRemote(name, path)
── Error ('test_spia.R:38:3'): analysis result contains one row for each pathway ──
Error in `fetchRemote(name, path)`: cannot download pathway data: are you offline?
Backtrace:
    ▆
 1. └─graphite::pathways("hsapiens", "kegg") at test_spia.R:38:3
 2.   └─graphite:::loadData(paste(species, database, sep = "-"))
 3.     └─graphite:::withArchiveDir(...)
 4.       └─graphite (local) func(path)
 5.         └─graphite:::fetchRemote(name, path)
── Error ('test_topologygsa.R:37:3'): (code run outside of `test_that()`) ──────
Error in `fetchRemote(name, path)`: cannot download pathway data: are you offline?
Backtrace:
    ▆
 1. └─graphite (local) load_pathways() at test_topologygsa.R:47:1
 2.   └─graphite::pathways("hsapiens", "kegg") at test_topologygsa.R:37:3
 3.     └─graphite:::loadData(paste(species, database, sep = "-"))
 4.       └─graphite:::withArchiveDir(...)
 5.         └─graphite (local) func(path)
 6.           └─graphite:::fetchRemote(name, path)

[ FAIL 5 | WARN 1 | SKIP 0 | PASS 81 ]
Error: Test failures
Execution halted

Example timings

graphite.Rcheck/graphite-Ex.timings

nameusersystemelapsed
Pathway-class4.6550.3635.037
as.list.PathwayList1.1540.0401.197
buildPathway0.0070.0000.008
convertIdentifiers5.9070.1996.127
cytoscapePlot000
pathwayDatabases0.0020.0040.006
pathwayGraph4.0150.0404.066
pathways3.7900.0483.848
purgeCacheV1000
runClipper12.640 0.48213.172
runSPIA3.8320.0723.925
runTopologyGSA2.6010.1032.716