| Back to Multiple platform build/check report for BioC 3.22: simplified long |
|
This page was generated on 2025-11-20 12:04 -0500 (Thu, 20 Nov 2025).
| Hostname | OS | Arch (*) | R version | Installed pkgs |
|---|---|---|---|---|
| nebbiolo2 | Linux (Ubuntu 24.04.3 LTS) | x86_64 | 4.5.2 (2025-10-31) -- "[Not] Part in a Rumble" | 4615 |
| merida1 | macOS 12.7.6 Monterey | x86_64 | 4.5.2 Patched (2025-11-05 r88990) -- "[Not] Part in a Rumble" | 4610 |
| kjohnson1 | macOS 13.7.5 Ventura | arm64 | 4.5.2 Patched (2025-11-04 r88984) -- "[Not] Part in a Rumble" | 4598 |
| taishan | Linux (openEuler 24.03 LTS) | aarch64 | 4.5.0 (2025-04-11) -- "How About a Twenty-Six" | 4668 |
| Click on any hostname to see more info about the system (e.g. compilers) (*) as reported by 'uname -p', except on Windows and Mac OS X | ||||
| Package 868/2361 | Hostname | OS / Arch | INSTALL | BUILD | CHECK | BUILD BIN | ||||||||
| getDEE2 1.20.0 (landing page) Mark 0000-0002-7688-6974 Ziemann
| nebbiolo2 | Linux (Ubuntu 24.04.3 LTS) / x86_64 | OK | OK | OK | |||||||||
| merida1 | macOS 12.7.6 Monterey / x86_64 | OK | OK | OK | OK | |||||||||
| kjohnson1 | macOS 13.7.5 Ventura / arm64 | OK | OK | OK | OK | |||||||||
| taishan | Linux (openEuler 24.03 LTS) / aarch64 | OK | OK | OK | ||||||||||
|
To the developers/maintainers of the getDEE2 package: - Allow up to 24 hours (and sometimes 48 hours) for your latest push to git@git.bioconductor.org:packages/getDEE2.git to reflect on this report. See Troubleshooting Build Report for more information. - Use the following Renviron settings to reproduce errors and warnings. - If 'R CMD check' started to fail recently on the Linux builder(s) over a missing dependency, add the missing dependency to 'Suggests:' in your DESCRIPTION file. See Renviron.bioc for more information. |
| Package: getDEE2 |
| Version: 1.20.0 |
| Command: /Library/Frameworks/R.framework/Resources/bin/R CMD check --install=check:getDEE2.install-out.txt --library=/Library/Frameworks/R.framework/Resources/library --no-vignettes --timings getDEE2_1.20.0.tar.gz |
| StartedAt: 2025-11-18 08:13:28 -0500 (Tue, 18 Nov 2025) |
| EndedAt: 2025-11-18 08:20:25 -0500 (Tue, 18 Nov 2025) |
| EllapsedTime: 416.9 seconds |
| RetCode: 0 |
| Status: OK |
| CheckDir: getDEE2.Rcheck |
| Warnings: 0 |
##############################################################################
##############################################################################
###
### Running command:
###
### /Library/Frameworks/R.framework/Resources/bin/R CMD check --install=check:getDEE2.install-out.txt --library=/Library/Frameworks/R.framework/Resources/library --no-vignettes --timings getDEE2_1.20.0.tar.gz
###
##############################################################################
##############################################################################
* using log directory ‘/Users/biocbuild/bbs-3.22-bioc/meat/getDEE2.Rcheck’
* using R version 4.5.2 Patched (2025-11-05 r88990)
* using platform: x86_64-apple-darwin20
* R was compiled by
Apple clang version 14.0.0 (clang-1400.0.29.202)
GNU Fortran (GCC) 14.2.0
* running under: macOS Monterey 12.7.6
* using session charset: UTF-8
* using option ‘--no-vignettes’
* checking for file ‘getDEE2/DESCRIPTION’ ... OK
* this is package ‘getDEE2’ version ‘1.20.0’
* package encoding: UTF-8
* checking package namespace information ... OK
* checking package dependencies ... OK
* checking if this is a source package ... OK
* checking if there is a namespace ... OK
* checking for hidden files and directories ... OK
* checking for portable file names ... OK
* checking for sufficient/correct file permissions ... OK
* checking whether package ‘getDEE2’ can be installed ... OK
* checking installed package size ... OK
* checking package directory ... OK
* checking ‘build’ directory ... OK
* checking DESCRIPTION meta-information ... OK
* checking top-level files ... OK
* checking for left-over files ... OK
* checking index information ... OK
* checking package subdirectories ... OK
* checking code files for non-ASCII characters ... OK
* checking R files for syntax errors ... OK
* checking whether the package can be loaded ... OK
* checking whether the package can be loaded with stated dependencies ... OK
* checking whether the package can be unloaded cleanly ... OK
* checking whether the namespace can be loaded with stated dependencies ... OK
* checking whether the namespace can be unloaded cleanly ... OK
* checking dependencies in R code ... OK
* checking S3 generic/method consistency ... OK
* checking replacement functions ... OK
* checking foreign function calls ... OK
* checking R code for possible problems ... NOTE
srx_agg: no visible global function definition for ‘is’
Undefined global functions or variables:
is
Consider adding
importFrom("methods", "is")
to your NAMESPACE file (and ensure that your DESCRIPTION Imports field
contains 'methods').
* checking Rd files ... OK
* checking Rd metadata ... OK
* checking Rd cross-references ... OK
* checking for missing documentation entries ... OK
* checking for code/documentation mismatches ... OK
* checking Rd \usage sections ... OK
* checking Rd contents ... OK
* checking for unstated dependencies in examples ... OK
* checking files in ‘vignettes’ ... OK
* checking examples ... OK
Examples with CPU (user + system) or elapsed time > 5s
user system elapsed
getDEE2_bundle 3.726 0.308 8.963
getDEE2 2.017 0.232 11.625
Tx2Gene 0.690 0.122 11.632
loadTxInfo 0.306 0.083 7.384
* checking for unstated dependencies in ‘tests’ ... OK
* checking tests ...
Running ‘test-getDEE2.R’
OK
* checking for unstated dependencies in vignettes ... OK
* checking package vignettes ... OK
* checking running R code from vignettes ... SKIPPED
* checking re-building of vignette outputs ... SKIPPED
* checking PDF version of manual ... OK
* DONE
Status: 1 NOTE
See
‘/Users/biocbuild/bbs-3.22-bioc/meat/getDEE2.Rcheck/00check.log’
for details.
getDEE2.Rcheck/00install.out
############################################################################## ############################################################################## ### ### Running command: ### ### /Library/Frameworks/R.framework/Resources/bin/R CMD INSTALL getDEE2 ### ############################################################################## ############################################################################## * installing to library ‘/Library/Frameworks/R.framework/Versions/4.5-x86_64/Resources/library’ * installing *source* package ‘getDEE2’ ... ** this is package ‘getDEE2’ version ‘1.20.0’ ** using staged installation Warning in person1(given = given[[i]], family = family[[i]], middle = middle[[i]], : It is recommended to use ‘given’ instead of ‘middle’. Warning in person1(given = given[[i]], family = family[[i]], middle = middle[[i]], : It is recommended to use ‘given’ instead of ‘middle’. ** R ** inst ** byte-compile and prepare package for lazy loading ** help *** installing help indices ** building package indices ** installing vignettes ** testing if installed package can be loaded from temporary location ** testing if installed package can be loaded from final location ** testing if installed package keeps a record of temporary installation path * DONE (getDEE2)
getDEE2.Rcheck/tests/test-getDEE2.Rout
R version 4.5.2 Patched (2025-11-05 r88990) -- "[Not] Part in a Rumble"
Copyright (C) 2025 The R Foundation for Statistical Computing
Platform: x86_64-apple-darwin20
R is free software and comes with ABSOLUTELY NO WARRANTY.
You are welcome to redistribute it under certain conditions.
Type 'license()' or 'licence()' for distribution details.
R is a collaborative project with many contributors.
Type 'contributors()' for more information and
'citation()' on how to cite R or R packages in publications.
Type 'demo()' for some demos, 'help()' for on-line help, or
'help.start()' for an HTML browser interface to help.
Type 'q()' to quit R.
> library("getDEE2")
> library("SummarizedExperiment")
Loading required package: MatrixGenerics
Loading required package: matrixStats
Attaching package: 'MatrixGenerics'
The following objects are masked from 'package:matrixStats':
colAlls, colAnyNAs, colAnys, colAvgsPerRowSet, colCollapse,
colCounts, colCummaxs, colCummins, colCumprods, colCumsums,
colDiffs, colIQRDiffs, colIQRs, colLogSumExps, colMadDiffs,
colMads, colMaxs, colMeans2, colMedians, colMins, colOrderStats,
colProds, colQuantiles, colRanges, colRanks, colSdDiffs, colSds,
colSums2, colTabulates, colVarDiffs, colVars, colWeightedMads,
colWeightedMeans, colWeightedMedians, colWeightedSds,
colWeightedVars, rowAlls, rowAnyNAs, rowAnys, rowAvgsPerColSet,
rowCollapse, rowCounts, rowCummaxs, rowCummins, rowCumprods,
rowCumsums, rowDiffs, rowIQRDiffs, rowIQRs, rowLogSumExps,
rowMadDiffs, rowMads, rowMaxs, rowMeans2, rowMedians, rowMins,
rowOrderStats, rowProds, rowQuantiles, rowRanges, rowRanks,
rowSdDiffs, rowSds, rowSums2, rowTabulates, rowVarDiffs, rowVars,
rowWeightedMads, rowWeightedMeans, rowWeightedMedians,
rowWeightedSds, rowWeightedVars
Loading required package: GenomicRanges
Loading required package: stats4
Loading required package: BiocGenerics
Loading required package: generics
Attaching package: 'generics'
The following objects are masked from 'package:base':
as.difftime, as.factor, as.ordered, intersect, is.element, setdiff,
setequal, union
Attaching package: 'BiocGenerics'
The following objects are masked from 'package:stats':
IQR, mad, sd, var, xtabs
The following objects are masked from 'package:base':
Filter, Find, Map, Position, Reduce, anyDuplicated, aperm, append,
as.data.frame, basename, cbind, colnames, dirname, do.call,
duplicated, eval, evalq, get, grep, grepl, is.unsorted, lapply,
mapply, match, mget, order, paste, pmax, pmax.int, pmin, pmin.int,
rank, rbind, rownames, sapply, saveRDS, table, tapply, unique,
unsplit, which.max, which.min
Loading required package: S4Vectors
Attaching package: 'S4Vectors'
The following object is masked from 'package:utils':
findMatches
The following objects are masked from 'package:base':
I, expand.grid, unname
Loading required package: IRanges
Loading required package: Seqinfo
Loading required package: Biobase
Welcome to Bioconductor
Vignettes contain introductory material; view with
'browseVignettes()'. To cite Bioconductor, see
'citation("Biobase")', and for packages 'citation("pkgname")'.
Attaching package: 'Biobase'
The following object is masked from 'package:MatrixGenerics':
rowMedians
The following objects are masked from 'package:matrixStats':
anyMissing, rowMedians
> library("testthat")
>
> # E. coli
> x<-getDEE2("ecoli",c("SRR1613487","SRR1613488"),legacy=TRUE)
trying URL 'http://dee2.io/metadata/ecoli_metadata.tsv.cut'
Content type 'text/tab-separated-values' length 2078249 bytes (2.0 MB)
==================================================
downloaded 2.0 MB
trying URL 'http://dee2.io/cgi-bin/request.sh?org=ecoli&x=SRR1613487&x=SRR1613488'
downloaded 154 KB
For more information about DEE2 QC metrics, visit
https://github.com/markziemann/dee2/blob/master/qc/qc_metrics.md
>
> test_that("eco works", {
+ expect_equal( sum(x$GeneCounts) , 20624168 )
+ })
Test passed with 1 success 🥳.
>
>
> # A. thaliana bundle
> x <- getDEE2_bundle("athaliana", "SRP058781",col="SRP_accession")
trying URL 'http://dee2.io/huge/athaliana/'
downloaded 860 KB
trying URL 'http://dee2.io/huge/athaliana/SRP058781_NA.zip'
Content type 'application/zip' length 4214382 bytes (4.0 MB)
==================================================
downloaded 4.0 MB
For more information about DEE2 QC metrics, visit
https://github.com/markziemann/dee2/blob/master/qc/qc_metrics.md
>
> test_that("ath bundles work", {
+ expect_equal( nrow(assays(x)[[1]]) , 32833 )
+ expect_equal( ncol(assays(x)[[1]]) , 32 )
+ })
Test passed with 2 successes 🎉.
>
>
> # check absent present
> dat <- query_bundles("drerio",c("SRP131781","SRP055996","SRXXX"),col="SRP_accession")
trying URL 'http://dee2.io/huge/drerio/'
downloaded 170 KB
>
> test_that("dre bundle query", {
+ expect_equal( length(dat$absent) , 1 )
+ expect_equal( length(dat$present) , 2 )
+ })
Test passed with 2 successes 🎊.
>
> proc.time()
user system elapsed
25.463 1.468 39.295
getDEE2.Rcheck/getDEE2-Ex.timings
| name | user | system | elapsed | |
| Tx2Gene | 0.690 | 0.122 | 11.632 | |
| getDEE2 | 2.017 | 0.232 | 11.625 | |
| getDEE2Metadata | 0.170 | 0.031 | 2.603 | |
| getDEE2_bundle | 3.726 | 0.308 | 8.963 | |
| list_bundles | 1.702 | 0.069 | 3.740 | |
| loadFullMeta | 0.301 | 0.074 | 4.790 | |
| loadGeneCounts | 0.301 | 0.072 | 4.750 | |
| loadGeneInfo | 0.340 | 0.076 | 4.760 | |
| loadQcMx | 0.279 | 0.067 | 4.924 | |
| loadSummaryMeta | 0.287 | 0.067 | 4.915 | |
| loadTxCounts | 0.295 | 0.071 | 4.764 | |
| loadTxInfo | 0.306 | 0.083 | 7.384 | |
| queryDEE2 | 0.168 | 0.035 | 2.859 | |
| query_bundles | 1.024 | 0.043 | 2.866 | |
| se | 0.287 | 0.072 | 4.475 | |
| srx_agg | 0.288 | 0.074 | 4.675 | |