Back to Multiple platform build/check report for BioC 3.22:   simplified   long
ABCDEF[G]HIJKLMNOPQRSTUVWXYZ

This page was generated on 2025-11-20 12:04 -0500 (Thu, 20 Nov 2025).

HostnameOSArch (*)R versionInstalled pkgs
nebbiolo2Linux (Ubuntu 24.04.3 LTS)x86_644.5.2 (2025-10-31) -- "[Not] Part in a Rumble" 4615
merida1macOS 12.7.6 Montereyx86_644.5.2 Patched (2025-11-05 r88990) -- "[Not] Part in a Rumble" 4610
kjohnson1macOS 13.7.5 Venturaarm644.5.2 Patched (2025-11-04 r88984) -- "[Not] Part in a Rumble" 4598
taishanLinux (openEuler 24.03 LTS)aarch644.5.0 (2025-04-11) -- "How About a Twenty-Six" 4668
Click on any hostname to see more info about the system (e.g. compilers)      (*) as reported by 'uname -p', except on Windows and Mac OS X

Package 888/2361HostnameOS / ArchINSTALLBUILDCHECKBUILD BIN
gINTomics 1.6.0  (landing page)
Angelo Velle
Snapshot Date: 2025-11-17 13:45 -0500 (Mon, 17 Nov 2025)
git_url: https://git.bioconductor.org/packages/gINTomics
git_branch: RELEASE_3_22
git_last_commit: d433a6d
git_last_commit_date: 2025-10-29 11:30:01 -0500 (Wed, 29 Oct 2025)
nebbiolo2Linux (Ubuntu 24.04.3 LTS) / x86_64  OK    OK    OK  NO, package depends on 'OmnipathR' which is not available
merida1macOS 12.7.6 Monterey / x86_64  OK    OK    OK    OK  YES
kjohnson1macOS 13.7.5 Ventura / arm64  OK    ERROR  skippedskipped
taishanLinux (openEuler 24.03 LTS) / aarch64  OK    OK    OK  


CHECK results for gINTomics on merida1

To the developers/maintainers of the gINTomics package:
- Allow up to 24 hours (and sometimes 48 hours) for your latest push to git@git.bioconductor.org:packages/gINTomics.git to reflect on this report. See Troubleshooting Build Report for more information.
- Use the following Renviron settings to reproduce errors and warnings.
- If 'R CMD check' started to fail recently on the Linux builder(s) over a missing dependency, add the missing dependency to 'Suggests:' in your DESCRIPTION file. See Renviron.bioc for more information.

raw results


Summary

Package: gINTomics
Version: 1.6.0
Command: /Library/Frameworks/R.framework/Resources/bin/R CMD check --install=check:gINTomics.install-out.txt --library=/Library/Frameworks/R.framework/Resources/library --no-vignettes --timings gINTomics_1.6.0.tar.gz
StartedAt: 2025-11-18 08:21:49 -0500 (Tue, 18 Nov 2025)
EndedAt: 2025-11-18 08:45:53 -0500 (Tue, 18 Nov 2025)
EllapsedTime: 1444.1 seconds
RetCode: 0
Status:   OK  
CheckDir: gINTomics.Rcheck
Warnings: 0

Command output

##############################################################################
##############################################################################
###
### Running command:
###
###   /Library/Frameworks/R.framework/Resources/bin/R CMD check --install=check:gINTomics.install-out.txt --library=/Library/Frameworks/R.framework/Resources/library --no-vignettes --timings gINTomics_1.6.0.tar.gz
###
##############################################################################
##############################################################################


* using log directory ‘/Users/biocbuild/bbs-3.22-bioc/meat/gINTomics.Rcheck’
* using R version 4.5.2 Patched (2025-11-05 r88990)
* using platform: x86_64-apple-darwin20
* R was compiled by
    Apple clang version 14.0.0 (clang-1400.0.29.202)
    GNU Fortran (GCC) 14.2.0
* running under: macOS Monterey 12.7.6
* using session charset: UTF-8
* using option ‘--no-vignettes’
* checking for file ‘gINTomics/DESCRIPTION’ ... OK
* this is package ‘gINTomics’ version ‘1.6.0’
* package encoding: UTF-8
* checking package namespace information ... OK
* checking package dependencies ... INFO
Imports includes 42 non-default packages.
Importing from so many packages makes the package vulnerable to any of
them becoming unavailable.  Move as many as possible to Suggests and
use conditionally.
* checking if this is a source package ... OK
* checking if there is a namespace ... OK
* checking for hidden files and directories ... OK
* checking for portable file names ... OK
* checking for sufficient/correct file permissions ... OK
* checking whether package ‘gINTomics’ can be installed ... OK
* checking installed package size ... OK
* checking package directory ... OK
* checking ‘build’ directory ... OK
* checking DESCRIPTION meta-information ... OK
* checking top-level files ... OK
* checking for left-over files ... OK
* checking index information ... OK
* checking package subdirectories ... OK
* checking code files for non-ASCII characters ... OK
* checking R files for syntax errors ... OK
* checking whether the package can be loaded ... OK
* checking whether the package can be loaded with stated dependencies ... OK
* checking whether the package can be unloaded cleanly ... OK
* checking whether the namespace can be loaded with stated dependencies ... OK
* checking whether the namespace can be unloaded cleanly ... OK
* checking dependencies in R code ... OK
* checking S3 generic/method consistency ... OK
* checking replacement functions ... OK
* checking foreign function calls ... OK
* checking R code for possible problems ... NOTE
[2025-11-18 08:29:52] [TRACE]   [OmnipathR] Reading JSON from `/Users/biocbuild/Library/Caches/OmnipathR/cache.json` (encoding: UTF-8).
[2025-11-18 08:29:52] [TRACE]   [OmnipathR] JSON validation successful: TRUE
[2025-11-18 08:29:52] [INFO]    [OmnipathR] Initialized cache: `/Users/biocbuild/Library/Caches/OmnipathR`.
[2025-11-18 08:29:52] [INFO]    [OmnipathR] Package `OmnipathR` packaged: NA
[2025-11-18 08:29:52] [INFO]    [OmnipathR] Package `OmnipathR` date/publication: 2025-11-17
[2025-11-18 08:29:52] [INFO]    [OmnipathR] Package `OmnipathR` built: R 4.5.2; ; 2025-11-17 22:02:15 UTC; unix
[2025-11-18 08:29:52] [INFO]    [OmnipathR] Package `OmnipathR` version: 3.18.2
[2025-11-18 08:29:52] [INFO]    [OmnipathR] Package `OmnipathR` repository: Bioconductor 3.22
[2025-11-18 08:29:53] [INFO]    [OmnipathR] Session info: [version=R version 4.5.2 Patched (2025-11-05 r88990); os=macOS Monterey 12.7.6; system=x86_64, darwin20; ui=X11; language=(EN); collate=C; ctype=en_US.UTF-8; tz=America/New_York; date=2025-11-18; pandoc=2.7.3 @ /usr/local/bin/ (via rmarkdown); quarto=1.4.553 @ /usr/local/bin/quarto]
[2025-11-18 08:29:53] [INFO]    [OmnipathR] External libraries: [cairo=1.17.6; cairoFT=; pango=1.50.14; png=1.6.44; jpeg=9.5; tiff=LIBTIFF, Version 4.5.0; tcl=8.6.13; curl=8.7.1; zlib=1.2.11; bzlib=1.0.8, 13-Jul-2019; xz=5.6.3; deflate=1.23; PCRE=10.44 2024-06-07; ICU=70.1; TRE=TRE 0.8.0 R_fixes (BSD); iconv=Apple or GNU libiconv 1.11 /Library/Frameworks/R.framework/Versions/4.5-x86_64/Resources/lib/libR.dylib; readline=5.2; BLAS=/Library/Frameworks/R.framework/Versions/4.5-x86_64/Resources/lib/libRblas.0.dylib; lapack=/Library/Frameworks/R.framework/Versions/4.5-x86_64/Resources/lib/libRlapack.dylib; lapack_version=3.12.1]
[2025-11-18 08:29:54] [INFO]    [OmnipathR] Loaded packages: abind 1.4-8(2024-09-12); AnnotationDbi 1.72.0(2025-11-17); backports 1.5.0(2024-05-23); Biobase 2.70.0(2025-11-17); BiocBaseUtils 1.12.0(2025-11-17); BiocGenerics 0.56.0(2025-11-17); BiocIO 1.20.0(2025-11-17); BiocParallel 1.44.0(2025-11-17); Biostrings 2.78.0(2025-11-17); bit 4.6.0(2025-03-06); bit64 4.6.0-1(2025-01-16); bitops 1.0-9(2024-10-03); blob 1.2.4(2023-03-17); cachem 1.1.0(2024-05-16); cellranger 1.1.0(2016-07-27); checkmate 2.3.3(2025-08-18); chromote 0.5.1(2025-04-24); cigarillo 1.0.0(2025-11-17); circlize 0.4.16(2024-02-20); cli 3.6.5(2025-04-23); clisymbols 1.2.0(2017-05-21); clue 0.3-66(2024-11-13); cluster 2.1.8.1(2025-03-12); codetools 0.2-20(2024-03-31); colorspace 2.1-2(2025-09-22); ComplexHeatmap 2.26.0(2025-11-17); crayon 1.5.3(2024-06-20); curl 7.0.0(2025-08-19); DBI 1.2.3(2024-06-02); DelayedArray 0.36.0(2025-11-17); dichromat 2.0-0.1(2022-05-02); digest 0.6.38(2025-11-12); doParallel 1.0.17(2022-02-07); dplyr 1.1.4(2023-11-17); DT 0.34.0(2025-09-02); evaluate 1.0.5(2025-08-27); farver 2.1.2(2024-05-13); fastmap 1.2.0(2024-05-15); fontawesome 0.5.3(2024-11-16); foreach 1.5.2(2022-02-02); fs 1.6.6(2025-04-12); generics 0.1.4(2025-05-09); GenomicAlignments 1.46.0(2025-11-17); GenomicFeatures 1.62.0(2025-11-17); GenomicRanges 1.62.0(2025-11-17); GetoptLong 1.0.5(2020-12-15); ggplot2 4.0.1(2025-11-14); gINTomics 1.6.0(2025-11-17); GlobalOptions 0.1.2(2020-06-10); glue 1.8.0(2024-09-30); gtable 0.3.6(2024-10-25); hms 1.1.4(2025-10-17); htmltools 0.5.8.1(2024-04-04); htmlwidgets 1.6.4(2023-12-06); httpuv 1.6.16(2025-04-16); httr 1.4.7(2023-08-15); httr2 1.2.1(2025-07-22); igraph 2.2.1(2025-10-27); InteractiveComplexHeatmap 1.18.0(2025-11-17); IRanges 2.44.0(2025-11-17); iterators 1.0.14(2022-02-05); jsonlite 2.0.0(2025-03-27); kableExtra 1.4.0(2024-01-24); KEGGREST 1.50.0(2025-11-17); knitr 1.50(2025-03-16); later 1.4.4(2025-08-27); lattice 0.22-7(2025-04-02); lifecycle 1.0.4(2023-11-07); logger 0.4.1(2025-09-11); lubridate 1.9.4(2024-12-08); magrittr 2.0.4(2025-09-12); MASS 7.3-65(2025-02-28); Matrix 1.7-4(2025-08-28); MatrixGenerics 1.22.0(2025-11-17); matrixStats 1.5.0(2025-01-07); memoise 2.0.1(2021-11-26); MethylMix 2.40.0(2025-11-17); mime 0.13(2025-03-17); MultiAssayExperiment 1.36.1(2025-11-17); OmnipathR 3.18.2(2025-11-17); otel 0.2.0(2025-08-29); pillar 1.11.1(2025-09-17); pkgconfig 2.0.3(2019-09-22); png 0.1-8(2022-11-29); prettyunits 1.2.0(2023-09-24); processx 3.8.6(2025-02-21); progress 1.2.3(2023-12-06); promises 1.5.0(2025-11-01); ps 1.9.1(2025-04-12); purrr 1.2.0(2025-11-04); R.methodsS3 1.8.2(2022-06-13); R.oo 1.27.1(2025-05-02); R.utils 2.13.0(2025-02-24); R6 2.6.1(2025-02-15); rappdirs 0.3.3(2021-01-31); RColorBrewer 1.1-3(2022-04-03); Rcpp 1.1.0(2025-07-02); RCurl 1.98-1.17(2025-03-22); readr 2.1.6(2025-11-14); readxl 1.4.5(2025-03-07); restfulr 0.0.16(2025-06-27); rjson 0.2.23(2024-09-16); rlang 1.1.6(2025-04-11); rmarkdown 2.30(2025-09-28); Rsamtools 2.26.0(2025-11-17); RSQLite 2.4.4(2025-11-10); rstudioapi 0.17.1(2024-10-22); rtracklayer 1.70.0(2025-11-17); rvest 1.0.5(2025-08-29); S4Arrays 1.10.0(2025-11-17); S4Vectors 0.48.0(2025-11-17); S7 0.2.1(2025-11-14); scales 1.4.0(2025-04-24); Seqinfo 1.0.0(2025-11-17); sessioninfo 1.2.3(2025-02-05); shape 1.4.6.1(2024-02-23); shiny 1.11.1(2025-07-03); SparseArray 1.10.2(2025-11-17); stringi 1.8.7(2025-03-27); stringr 1.6.0(2025-11-04); SummarizedExperiment 1.40.0(2025-11-17); svglite 2.2.2(2025-10-21); systemfonts 1.3.1(2025-10-01); textshaping 1.0.4(2025-10-10); tibble 3.3.0(2025-06-08); tidyr 1.3.1(2024-01-24); tidyselect 1.2.1(2024-03-11); timechange 0.3.0(2024-01-18); tzdb 0.5.0(2025-03-15); vctrs 0.6.5(2023-12-01); viridisLite 0.4.2(2023-05-02); websocket 1.4.4(2025-04-10); withr 3.0.2(2024-10-28); xfun 0.54(2025-10-30); XML 3.99-0.20(2025-11-08); xml2 1.5.0(2025-11-17); xtable 1.8-4(2019-04-21); XVector 0.50.0(2025-11-17); yaml 2.3.10(2024-07-26); zip 2.3.3(2025-05-13)
[2025-11-18 08:29:54] [INFO]    [OmnipathR] CURL: version: 8.14.1; headers: 8.14.1; ssl_version: LibreSSL/3.3.6 (SecureTransport); libz_version: 1.2.11; libssh_version: NA; libidn_version: NA; host: x86_64-apple-darwin22.6.0; protocols: dict, file, ftp, ftps, gopher, gophers, http, https, imap, imaps, ldap, ldaps, mqtt, pop3, pop3s, rtsp, smb, smbs, smtp, smtps, telnet, tftp, ws, wss; ipv6: TRUE; http2: TRUE; idn: FALSE; url_parser: TRUE
[2025-11-18 08:29:54] [TRACE]   [OmnipathR] Running on a build server, wiping cache.
[2025-11-18 08:29:54] [TRACE]   [OmnipathR] Cache is at `/Users/biocbuild/Library/Caches/OmnipathR`.
[2025-11-18 08:29:54] [TRACE]   [OmnipathR] Contains 1 files.
[2025-11-18 08:29:54] [TRACE]   [OmnipathR] Cache is locked: FALSE.
[2025-11-18 08:29:54] [TRACE]   [OmnipathR] Reading JSON from `/Users/biocbuild/Library/Caches/OmnipathR/cache.json` (encoding: UTF-8).
[2025-11-18 08:29:54] [TRACE]   [OmnipathR] JSON validation successful: TRUE
[2025-11-18 08:29:54] [SUCCESS] [OmnipathR] Removing all cache contents from `/Users/biocbuild/Library/Caches/OmnipathR`.
[2025-11-18 08:29:54] [TRACE]   [OmnipathR] Pandoc version: `2.7.3`.
[2025-11-18 08:29:54] [TRACE]   [OmnipathR] Reading JSON from `/Library/Frameworks/R.framework/Versions/4.5-x86_64/Resources/library/OmnipathR/db/db_def.json` (encoding: UTF-8).
[2025-11-18 08:29:54] [TRACE]   [OmnipathR] JSON validation successful: TRUE
[2025-11-18 08:29:54] [TRACE]   [OmnipathR] Reading JSON from `/Library/Frameworks/R.framework/Versions/4.5-x86_64/Resources/library/OmnipathR/internal/magic_bytes.json` (encoding: UTF-8).
[2025-11-18 08:29:54] [TRACE]   [OmnipathR] JSON validation successful: TRUE
[2025-11-18 08:29:55] [TRACE]   [OmnipathR] Reading JSON from `/Library/Frameworks/R.framework/Versions/4.5-x86_64/Resources/library/OmnipathR/internal/urls.json` (encoding: UTF-8).
[2025-11-18 08:29:55] [TRACE]   [OmnipathR] JSON validation successful: TRUE
[2025-11-18 08:29:55] [TRACE]   [OmnipathR] Reading JSON from `/Library/Frameworks/R.framework/Versions/4.5-x86_64/Resources/library/OmnipathR/internal/id_types.json` (encoding: UTF-8).
[2025-11-18 08:29:55] [TRACE]   [OmnipathR] JSON validation successful: TRUE
[2025-11-18 08:29:55] [TRACE]   [OmnipathR] Cache locked: FALSE
.build_histo: no visible binding for global variable ‘chr_cov’
.build_histo: no visible binding for global variable ‘significance’
.build_ridge: no visible binding for global variable ‘coef’
.build_ridge: no visible binding for global variable ‘significance’
.circos_preprocess: no visible binding for global variable ‘cnv_met’
.find_deg: no visible global function definition for ‘combn’
.find_deg: no visible global function definition for ‘contrasts.fit’
.prepare_cnv_heatmap: no visible binding for global variable ‘cnv’
.prepare_gen_heatmap: no visible binding for global variable ‘met’
.prepare_gen_heatmap: no visible binding for global variable ‘cnv’
.prepare_met_heatmap: no visible binding for global variable ‘met’
.prepare_mirna_heatmap: no visible binding for global variable
  ‘mirna_cnv’
.prepare_network: no visible binding for global variable ‘omics’
.prepare_reactive_histo_tf: no visible binding for global variable
  ‘Freq’
.prepare_reactive_venn: no visible binding for global variable
  ‘cnv_met’
.prepare_reactive_venn: no visible binding for global variable ‘pval’
.reactive_cnv_test_plots: no visible binding for global variable ‘x’
.reactive_cnv_test_plots: no visible binding for global variable ‘y’
.reactive_transcExpr_plots: no visible binding for global variable ‘x’
.reactive_transcExpr_plots: no visible binding for global variable ‘y’
.run_reactive_tf_enrich: no visible binding for '<<-' assignment to
  ‘bg_process’
.server_enrich_bg : <anonymous>: no visible binding for global variable
  ‘bg_process’
.server_enrich_bgTF: no visible binding for '<<-' assignment to
  ‘bg_process’
.server_enrich_bgTF : <anonymous>: no visible binding for global
  variable ‘bg_process’
.shiny_preprocess: no visible binding for global variable ‘cov’
plot_tf_distribution: no visible binding for global variable ‘Freq’
Undefined global functions or variables:
  Freq bg_process chr_cov cnv cnv_met coef combn contrasts.fit cov met
  mirna_cnv omics pval significance x y
Consider adding
  importFrom("stats", "coef", "cov")
  importFrom("utils", "combn")
to your NAMESPACE file.
* checking Rd files ... OK
* checking Rd metadata ... OK
* checking Rd cross-references ... NOTE
Found the following Rd file(s) with Rd \link{} targets missing package
anchors:
  mmultiassay_ov.Rd: MultiAssayExperiment-class
Please provide package anchors for all Rd \link{} targets not in the
package itself and the base packages.
* checking for missing documentation entries ... OK
* checking for code/documentation mismatches ... OK
* checking Rd \usage sections ... OK
* checking Rd contents ... OK
* checking for unstated dependencies in examples ... OK
* checking contents of ‘data’ directory ... OK
* checking data for non-ASCII characters ... OK
* checking data for ASCII and uncompressed saves ... OK
* checking R/sysdata.rda ... OK
* checking files in ‘vignettes’ ... OK
* checking examples ... OK
Examples with CPU (user + system) or elapsed time > 5s
                     user system elapsed
plot_volcano       87.335  9.249 132.583
extract_model_res  21.328  2.264  24.547
plot_ridge         18.342  1.920  21.284
run_multiomics     12.893  1.164  18.709
run_tf_integration  8.418  0.574  13.615
* checking for unstated dependencies in ‘tests’ ... OK
* checking tests ...
  Running ‘testthat.R’
 OK
* checking for unstated dependencies in vignettes ... OK
* checking package vignettes ... OK
* checking running R code from vignettes ... SKIPPED
* checking re-building of vignette outputs ... SKIPPED
* checking PDF version of manual ... OK
* DONE

Status: 2 NOTEs
See
  ‘/Users/biocbuild/bbs-3.22-bioc/meat/gINTomics.Rcheck/00check.log’
for details.


Installation output

gINTomics.Rcheck/00install.out

##############################################################################
##############################################################################
###
### Running command:
###
###   /Library/Frameworks/R.framework/Resources/bin/R CMD INSTALL gINTomics
###
##############################################################################
##############################################################################


* installing to library ‘/Library/Frameworks/R.framework/Versions/4.5-x86_64/Resources/library’
* installing *source* package ‘gINTomics’ ...
** this is package ‘gINTomics’ version ‘1.6.0’
** using staged installation
** R
[2025-11-17 18:36:16] [TRACE]   [OmnipathR] Reading JSON from `/Users/biocbuild/Library/Caches/OmnipathR/cache.json` (encoding: UTF-8).
[2025-11-17 18:36:16] [TRACE]   [OmnipathR] JSON validation successful: TRUE
[2025-11-17 18:36:16] [INFO]    [OmnipathR] Initialized cache: `/Users/biocbuild/Library/Caches/OmnipathR`.
[2025-11-17 18:36:16] [INFO]    [OmnipathR] Package `OmnipathR` packaged: NA
[2025-11-17 18:36:16] [INFO]    [OmnipathR] Package `OmnipathR` date/publication: 2025-11-17
[2025-11-17 18:36:16] [INFO]    [OmnipathR] Package `OmnipathR` built: R 4.5.2; ; 2025-11-17 22:02:15 UTC; unix
[2025-11-17 18:36:16] [INFO]    [OmnipathR] Package `OmnipathR` version: 3.18.2
[2025-11-17 18:36:16] [INFO]    [OmnipathR] Package `OmnipathR` repository: Bioconductor 3.22
[2025-11-17 18:36:21] [INFO]    [OmnipathR] Session info: [version=R version 4.5.2 Patched (2025-11-05 r88990); os=macOS Monterey 12.7.6; system=x86_64, darwin20; ui=X11; language=(EN); collate=C; ctype=en_US.UTF-8; tz=America/New_York; date=2025-11-17; pandoc=2.7.3 @ /usr/local/bin/ (via rmarkdown); quarto=1.4.553 @ /usr/local/bin/quarto]
[2025-11-17 18:36:22] [INFO]    [OmnipathR] External libraries: [cairo=1.17.6; cairoFT=; pango=1.50.14; png=1.6.44; jpeg=9.5; tiff=LIBTIFF, Version 4.5.0; tcl=8.6.13; curl=8.7.1; zlib=1.2.11; bzlib=1.0.8, 13-Jul-2019; xz=5.6.3; deflate=1.23; PCRE=10.44 2024-06-07; ICU=70.1; TRE=TRE 0.8.0 R_fixes (BSD); iconv=Apple or GNU libiconv 1.11 /Library/Frameworks/R.framework/Versions/4.5-x86_64/Resources/lib/libR.dylib; readline=5.2; BLAS=/Library/Frameworks/R.framework/Versions/4.5-x86_64/Resources/lib/libRblas.0.dylib; lapack=/Library/Frameworks/R.framework/Versions/4.5-x86_64/Resources/lib/libRlapack.dylib; lapack_version=3.12.1]
[2025-11-17 18:36:23] [INFO]    [OmnipathR] Loaded packages: abind 1.4-8(2024-09-12); AnnotationDbi 1.72.0(2025-11-17); backports 1.5.0(2024-05-23); Biobase 2.70.0(2025-11-17); BiocBaseUtils 1.12.0(2025-11-17); BiocGenerics 0.56.0(2025-11-17); BiocIO 1.20.0(2025-11-17); BiocParallel 1.44.0(2025-11-17); Biostrings 2.78.0(2025-11-17); bit 4.6.0(2025-03-06); bit64 4.6.0-1(2025-01-16); bitops 1.0-9(2024-10-03); blob 1.2.4(2023-03-17); cachem 1.1.0(2024-05-16); cellranger 1.1.0(2016-07-27); checkmate 2.3.3(2025-08-18); chromote 0.5.1(2025-04-24); cigarillo 1.0.0(2025-11-17); circlize 0.4.16(2024-02-20); cli 3.6.5(2025-04-23); clisymbols 1.2.0(2017-05-21); clue 0.3-66(2024-11-13); cluster 2.1.8.1(2025-03-12); codetools 0.2-20(2024-03-31); colorspace 2.1-2(2025-09-22); ComplexHeatmap 2.26.0(2025-11-17); crayon 1.5.3(2024-06-20); curl 7.0.0(2025-08-19); DBI 1.2.3(2024-06-02); DelayedArray 0.36.0(2025-11-17); dichromat 2.0-0.1(2022-05-02); digest 0.6.38(2025-11-12); doParallel 1.0.17(2022-02-07); dplyr 1.1.4(2023-11-17); DT 0.34.0(2025-09-02); evaluate 1.0.5(2025-08-27); farver 2.1.2(2024-05-13); fastmap 1.2.0(2024-05-15); fontawesome 0.5.3(2024-11-16); foreach 1.5.2(2022-02-02); fs 1.6.6(2025-04-12); generics 0.1.4(2025-05-09); GenomicAlignments 1.46.0(2025-11-17); GenomicFeatures 1.62.0(2025-11-17); GenomicRanges 1.62.0(2025-11-17); GetoptLong 1.0.5(2020-12-15); ggplot2 4.0.1(2025-11-14); gINTomics 1.6.0(2025-11-17); GlobalOptions 0.1.2(2020-06-10); glue 1.8.0(2024-09-30); gtable 0.3.6(2024-10-25); hms 1.1.4(2025-10-17); htmltools 0.5.8.1(2024-04-04); htmlwidgets 1.6.4(2023-12-06); httpuv 1.6.16(2025-04-16); httr 1.4.7(2023-08-15); httr2 1.2.1(2025-07-22); igraph 2.2.1(2025-10-27); InteractiveComplexHeatmap 1.18.0(2025-11-17); IRanges 2.44.0(2025-11-17); iterators 1.0.14(2022-02-05); jsonlite 2.0.0(2025-03-27); kableExtra 1.4.0(2024-01-24); KEGGREST 1.50.0(2025-11-17); knitr 1.50(2025-03-16); later 1.4.4(2025-08-27); lattice 0.22-7(2025-04-02); lifecycle 1.0.4(2023-11-07); logger 0.4.1(2025-09-11); lubridate 1.9.4(2024-12-08); magrittr 2.0.4(2025-09-12); MASS 7.3-65(2025-02-28); Matrix 1.7-4(2025-08-28); MatrixGenerics 1.22.0(2025-11-17); matrixStats 1.5.0(2025-01-07); memoise 2.0.1(2021-11-26); MethylMix 2.40.0(2025-11-17); mime 0.13(2025-03-17); MultiAssayExperiment 1.36.1(2025-11-17); OmnipathR 3.18.2(2025-11-17); otel 0.2.0(2025-08-29); pillar 1.11.1(2025-09-17); pkgconfig 2.0.3(2019-09-22); png 0.1-8(2022-11-29); prettyunits 1.2.0(2023-09-24); processx 3.8.6(2025-02-21); progress 1.2.3(2023-12-06); promises 1.5.0(2025-11-01); ps 1.9.1(2025-04-12); purrr 1.2.0(2025-11-04); R.methodsS3 1.8.2(2022-06-13); R.oo 1.27.1(2025-05-02); R.utils 2.13.0(2025-02-24); R6 2.6.1(2025-02-15); rappdirs 0.3.3(2021-01-31); RColorBrewer 1.1-3(2022-04-03); Rcpp 1.1.0(2025-07-02); RCurl 1.98-1.17(2025-03-22); readr 2.1.6(2025-11-14); readxl 1.4.5(2025-03-07); restfulr 0.0.16(2025-06-27); rjson 0.2.23(2024-09-16); rlang 1.1.6(2025-04-11); rmarkdown 2.30(2025-09-28); Rsamtools 2.26.0(2025-11-17); RSQLite 2.4.4(2025-11-10); rstudioapi 0.17.1(2024-10-22); rtracklayer 1.70.0(2025-11-17); rvest 1.0.5(2025-08-29); S4Arrays 1.10.0(2025-11-17); S4Vectors 0.48.0(2025-11-17); S7 0.2.1(2025-11-14); scales 1.4.0(2025-04-24); Seqinfo 1.0.0(2025-11-17); sessioninfo 1.2.3(2025-02-05); shape 1.4.6.1(2024-02-23); shiny 1.11.1(2025-07-03); SparseArray 1.10.2(2025-11-17); stringi 1.8.7(2025-03-27); stringr 1.6.0(2025-11-04); SummarizedExperiment 1.40.0(2025-11-17); svglite 2.2.2(2025-10-21); systemfonts 1.3.1(2025-10-01); textshaping 1.0.4(2025-10-10); tibble 3.3.0(2025-06-08); tidyr 1.3.1(2024-01-24); tidyselect 1.2.1(2024-03-11); timechange 0.3.0(2024-01-18); tzdb 0.5.0(2025-03-15); vctrs 0.6.5(2023-12-01); viridisLite 0.4.2(2023-05-02); websocket 1.4.4(2025-04-10); withr 3.0.2(2024-10-28); xfun 0.54(2025-10-30); XML 3.99-0.20(2025-11-08); xml2 1.5.0(2025-11-17); xtable 1.8-4(2019-04-21); XVector 0.50.0(2025-11-17); yaml 2.3.10(2024-07-26); zip 2.3.3(2025-05-13)
[2025-11-17 18:36:23] [INFO]    [OmnipathR] CURL: version: 8.14.1; headers: 8.14.1; ssl_version: LibreSSL/3.3.6 (SecureTransport); libz_version: 1.2.11; libssh_version: NA; libidn_version: NA; host: x86_64-apple-darwin22.6.0; protocols: dict, file, ftp, ftps, gopher, gophers, http, https, imap, imaps, ldap, ldaps, mqtt, pop3, pop3s, rtsp, smb, smbs, smtp, smtps, telnet, tftp, ws, wss; ipv6: TRUE; http2: TRUE; idn: FALSE; url_parser: TRUE
[2025-11-17 18:36:23] [TRACE]   [OmnipathR] Running on a build server, wiping cache.
[2025-11-17 18:36:23] [TRACE]   [OmnipathR] Cache is at `/Users/biocbuild/Library/Caches/OmnipathR`.
[2025-11-17 18:36:23] [TRACE]   [OmnipathR] Contains 1 files.
[2025-11-17 18:36:23] [TRACE]   [OmnipathR] Cache is locked: FALSE.
[2025-11-17 18:36:23] [TRACE]   [OmnipathR] Reading JSON from `/Users/biocbuild/Library/Caches/OmnipathR/cache.json` (encoding: UTF-8).
[2025-11-17 18:36:23] [TRACE]   [OmnipathR] JSON validation successful: TRUE
[2025-11-17 18:36:23] [SUCCESS] [OmnipathR] Removing all cache contents from `/Users/biocbuild/Library/Caches/OmnipathR`.
[2025-11-17 18:36:23] [TRACE]   [OmnipathR] Pandoc version: `2.7.3`.
[2025-11-17 18:36:23] [TRACE]   [OmnipathR] Reading JSON from `/Library/Frameworks/R.framework/Versions/4.5-x86_64/Resources/library/OmnipathR/db/db_def.json` (encoding: UTF-8).
[2025-11-17 18:36:23] [TRACE]   [OmnipathR] JSON validation successful: TRUE
[2025-11-17 18:36:23] [TRACE]   [OmnipathR] Reading JSON from `/Library/Frameworks/R.framework/Versions/4.5-x86_64/Resources/library/OmnipathR/internal/magic_bytes.json` (encoding: UTF-8).
[2025-11-17 18:36:23] [TRACE]   [OmnipathR] JSON validation successful: TRUE
[2025-11-17 18:36:23] [TRACE]   [OmnipathR] Reading JSON from `/Library/Frameworks/R.framework/Versions/4.5-x86_64/Resources/library/OmnipathR/internal/urls.json` (encoding: UTF-8).
[2025-11-17 18:36:23] [TRACE]   [OmnipathR] JSON validation successful: TRUE
[2025-11-17 18:36:23] [TRACE]   [OmnipathR] Reading JSON from `/Library/Frameworks/R.framework/Versions/4.5-x86_64/Resources/library/OmnipathR/internal/id_types.json` (encoding: UTF-8).
[2025-11-17 18:36:23] [TRACE]   [OmnipathR] JSON validation successful: TRUE
[2025-11-17 18:36:23] [TRACE]   [OmnipathR] Cache locked: FALSE



** data
** inst
** byte-compile and prepare package for lazy loading
[2025-11-17 18:37:03] [TRACE]   [OmnipathR] Reading JSON from `/Users/biocbuild/Library/Caches/OmnipathR/cache.json` (encoding: UTF-8).
[2025-11-17 18:37:03] [TRACE]   [OmnipathR] JSON validation successful: TRUE
[2025-11-17 18:37:03] [INFO]    [OmnipathR] Initialized cache: `/Users/biocbuild/Library/Caches/OmnipathR`.
[2025-11-17 18:37:03] [INFO]    [OmnipathR] Package `OmnipathR` packaged: NA
[2025-11-17 18:37:03] [INFO]    [OmnipathR] Package `OmnipathR` date/publication: 2025-11-17
[2025-11-17 18:37:03] [INFO]    [OmnipathR] Package `OmnipathR` built: R 4.5.2; ; 2025-11-17 22:02:15 UTC; unix
[2025-11-17 18:37:03] [INFO]    [OmnipathR] Package `OmnipathR` version: 3.18.2
[2025-11-17 18:37:03] [INFO]    [OmnipathR] Package `OmnipathR` repository: Bioconductor 3.22
[2025-11-17 18:37:04] [INFO]    [OmnipathR] Session info: [version=R version 4.5.2 Patched (2025-11-05 r88990); os=macOS Monterey 12.7.6; system=x86_64, darwin20; ui=X11; language=(EN); collate=C; ctype=en_US.UTF-8; tz=America/New_York; date=2025-11-17; pandoc=2.7.3 @ /usr/local/bin/ (via rmarkdown); quarto=1.4.553 @ /usr/local/bin/quarto]
[2025-11-17 18:37:04] [INFO]    [OmnipathR] External libraries: [cairo=1.17.6; cairoFT=; pango=1.50.14; png=1.6.44; jpeg=9.5; tiff=LIBTIFF, Version 4.5.0; tcl=8.6.13; curl=8.7.1; zlib=1.2.11; bzlib=1.0.8, 13-Jul-2019; xz=5.6.3; deflate=1.23; PCRE=10.44 2024-06-07; ICU=70.1; TRE=TRE 0.8.0 R_fixes (BSD); iconv=Apple or GNU libiconv 1.11 /Library/Frameworks/R.framework/Versions/4.5-x86_64/Resources/lib/libR.dylib; readline=5.2; BLAS=/Library/Frameworks/R.framework/Versions/4.5-x86_64/Resources/lib/libRblas.0.dylib; lapack=/Library/Frameworks/R.framework/Versions/4.5-x86_64/Resources/lib/libRlapack.dylib; lapack_version=3.12.1]
[2025-11-17 18:37:05] [INFO]    [OmnipathR] Loaded packages: abind 1.4-8(2024-09-12); AnnotationDbi 1.72.0(2025-11-17); backports 1.5.0(2024-05-23); Biobase 2.70.0(2025-11-17); BiocBaseUtils 1.12.0(2025-11-17); BiocGenerics 0.56.0(2025-11-17); BiocIO 1.20.0(2025-11-17); BiocParallel 1.44.0(2025-11-17); Biostrings 2.78.0(2025-11-17); bit 4.6.0(2025-03-06); bit64 4.6.0-1(2025-01-16); bitops 1.0-9(2024-10-03); blob 1.2.4(2023-03-17); cachem 1.1.0(2024-05-16); cellranger 1.1.0(2016-07-27); checkmate 2.3.3(2025-08-18); chromote 0.5.1(2025-04-24); cigarillo 1.0.0(2025-11-17); circlize 0.4.16(2024-02-20); cli 3.6.5(2025-04-23); clisymbols 1.2.0(2017-05-21); clue 0.3-66(2024-11-13); cluster 2.1.8.1(2025-03-12); codetools 0.2-20(2024-03-31); colorspace 2.1-2(2025-09-22); ComplexHeatmap 2.26.0(2025-11-17); crayon 1.5.3(2024-06-20); curl 7.0.0(2025-08-19); DBI 1.2.3(2024-06-02); DelayedArray 0.36.0(2025-11-17); dichromat 2.0-0.1(2022-05-02); digest 0.6.38(2025-11-12); doParallel 1.0.17(2022-02-07); dplyr 1.1.4(2023-11-17); DT 0.34.0(2025-09-02); evaluate 1.0.5(2025-08-27); farver 2.1.2(2024-05-13); fastmap 1.2.0(2024-05-15); fontawesome 0.5.3(2024-11-16); foreach 1.5.2(2022-02-02); fs 1.6.6(2025-04-12); generics 0.1.4(2025-05-09); GenomicAlignments 1.46.0(2025-11-17); GenomicFeatures 1.62.0(2025-11-17); GenomicRanges 1.62.0(2025-11-17); GetoptLong 1.0.5(2020-12-15); ggplot2 4.0.1(2025-11-14); gINTomics 1.6.0(2025-11-17); GlobalOptions 0.1.2(2020-06-10); glue 1.8.0(2024-09-30); gtable 0.3.6(2024-10-25); hms 1.1.4(2025-10-17); htmltools 0.5.8.1(2024-04-04); htmlwidgets 1.6.4(2023-12-06); httpuv 1.6.16(2025-04-16); httr 1.4.7(2023-08-15); httr2 1.2.1(2025-07-22); igraph 2.2.1(2025-10-27); InteractiveComplexHeatmap 1.18.0(2025-11-17); IRanges 2.44.0(2025-11-17); iterators 1.0.14(2022-02-05); jsonlite 2.0.0(2025-03-27); kableExtra 1.4.0(2024-01-24); KEGGREST 1.50.0(2025-11-17); knitr 1.50(2025-03-16); later 1.4.4(2025-08-27); lattice 0.22-7(2025-04-02); lifecycle 1.0.4(2023-11-07); logger 0.4.1(2025-09-11); lubridate 1.9.4(2024-12-08); magrittr 2.0.4(2025-09-12); MASS 7.3-65(2025-02-28); Matrix 1.7-4(2025-08-28); MatrixGenerics 1.22.0(2025-11-17); matrixStats 1.5.0(2025-01-07); memoise 2.0.1(2021-11-26); MethylMix 2.40.0(2025-11-17); mime 0.13(2025-03-17); MultiAssayExperiment 1.36.1(2025-11-17); OmnipathR 3.18.2(2025-11-17); otel 0.2.0(2025-08-29); pillar 1.11.1(2025-09-17); pkgconfig 2.0.3(2019-09-22); png 0.1-8(2022-11-29); prettyunits 1.2.0(2023-09-24); processx 3.8.6(2025-02-21); progress 1.2.3(2023-12-06); promises 1.5.0(2025-11-01); ps 1.9.1(2025-04-12); purrr 1.2.0(2025-11-04); R.methodsS3 1.8.2(2022-06-13); R.oo 1.27.1(2025-05-02); R.utils 2.13.0(2025-02-24); R6 2.6.1(2025-02-15); rappdirs 0.3.3(2021-01-31); RColorBrewer 1.1-3(2022-04-03); Rcpp 1.1.0(2025-07-02); RCurl 1.98-1.17(2025-03-22); readr 2.1.6(2025-11-14); readxl 1.4.5(2025-03-07); restfulr 0.0.16(2025-06-27); rjson 0.2.23(2024-09-16); rlang 1.1.6(2025-04-11); rmarkdown 2.30(2025-09-28); Rsamtools 2.26.0(2025-11-17); RSQLite 2.4.4(2025-11-10); rstudioapi 0.17.1(2024-10-22); rtracklayer 1.70.0(2025-11-17); rvest 1.0.5(2025-08-29); S4Arrays 1.10.0(2025-11-17); S4Vectors 0.48.0(2025-11-17); S7 0.2.1(2025-11-14); scales 1.4.0(2025-04-24); Seqinfo 1.0.0(2025-11-17); sessioninfo 1.2.3(2025-02-05); shape 1.4.6.1(2024-02-23); shiny 1.11.1(2025-07-03); SparseArray 1.10.2(2025-11-17); stringi 1.8.7(2025-03-27); stringr 1.6.0(2025-11-04); SummarizedExperiment 1.40.0(2025-11-17); svglite 2.2.2(2025-10-21); systemfonts 1.3.1(2025-10-01); textshaping 1.0.4(2025-10-10); tibble 3.3.0(2025-06-08); tidyr 1.3.1(2024-01-24); tidyselect 1.2.1(2024-03-11); timechange 0.3.0(2024-01-18); tzdb 0.5.0(2025-03-15); vctrs 0.6.5(2023-12-01); viridisLite 0.4.2(2023-05-02); websocket 1.4.4(2025-04-10); withr 3.0.2(2024-10-28); xfun 0.54(2025-10-30); XML 3.99-0.20(2025-11-08); xml2 1.5.0(2025-11-17); xtable 1.8-4(2019-04-21); XVector 0.50.0(2025-11-17); yaml 2.3.10(2024-07-26); zip 2.3.3(2025-05-13)
[2025-11-17 18:37:05] [INFO]    [OmnipathR] CURL: version: 8.14.1; headers: 8.14.1; ssl_version: LibreSSL/3.3.6 (SecureTransport); libz_version: 1.2.11; libssh_version: NA; libidn_version: NA; host: x86_64-apple-darwin22.6.0; protocols: dict, file, ftp, ftps, gopher, gophers, http, https, imap, imaps, ldap, ldaps, mqtt, pop3, pop3s, rtsp, smb, smbs, smtp, smtps, telnet, tftp, ws, wss; ipv6: TRUE; http2: TRUE; idn: FALSE; url_parser: TRUE
[2025-11-17 18:37:05] [TRACE]   [OmnipathR] Running on a build server, wiping cache.
[2025-11-17 18:37:05] [TRACE]   [OmnipathR] Cache is at `/Users/biocbuild/Library/Caches/OmnipathR`.
[2025-11-17 18:37:05] [TRACE]   [OmnipathR] Contains 1 files.
[2025-11-17 18:37:05] [TRACE]   [OmnipathR] Cache is locked: FALSE.
[2025-11-17 18:37:05] [TRACE]   [OmnipathR] Reading JSON from `/Users/biocbuild/Library/Caches/OmnipathR/cache.json` (encoding: UTF-8).
[2025-11-17 18:37:05] [TRACE]   [OmnipathR] JSON validation successful: TRUE
[2025-11-17 18:37:05] [SUCCESS] [OmnipathR] Removing all cache contents from `/Users/biocbuild/Library/Caches/OmnipathR`.
[2025-11-17 18:37:05] [TRACE]   [OmnipathR] Pandoc version: `2.7.3`.
[2025-11-17 18:37:05] [TRACE]   [OmnipathR] Reading JSON from `/Library/Frameworks/R.framework/Versions/4.5-x86_64/Resources/library/OmnipathR/db/db_def.json` (encoding: UTF-8).
[2025-11-17 18:37:05] [TRACE]   [OmnipathR] JSON validation successful: TRUE
[2025-11-17 18:37:05] [TRACE]   [OmnipathR] Reading JSON from `/Library/Frameworks/R.framework/Versions/4.5-x86_64/Resources/library/OmnipathR/internal/magic_bytes.json` (encoding: UTF-8).
[2025-11-17 18:37:05] [TRACE]   [OmnipathR] JSON validation successful: TRUE
[2025-11-17 18:37:05] [TRACE]   [OmnipathR] Reading JSON from `/Library/Frameworks/R.framework/Versions/4.5-x86_64/Resources/library/OmnipathR/internal/urls.json` (encoding: UTF-8).
[2025-11-17 18:37:05] [TRACE]   [OmnipathR] JSON validation successful: TRUE
[2025-11-17 18:37:05] [TRACE]   [OmnipathR] Reading JSON from `/Library/Frameworks/R.framework/Versions/4.5-x86_64/Resources/library/OmnipathR/internal/id_types.json` (encoding: UTF-8).
[2025-11-17 18:37:05] [TRACE]   [OmnipathR] JSON validation successful: TRUE
[2025-11-17 18:37:05] [TRACE]   [OmnipathR] Cache locked: FALSE
** help
*** installing help indices
*** copying figures
** building package indices
** installing vignettes
** testing if installed package can be loaded from temporary location
[2025-11-17 18:38:03] [TRACE]   [OmnipathR] Reading JSON from `/Users/biocbuild/Library/Caches/OmnipathR/cache.json` (encoding: UTF-8).
[2025-11-17 18:38:03] [TRACE]   [OmnipathR] JSON validation successful: TRUE
[2025-11-17 18:38:03] [INFO]    [OmnipathR] Initialized cache: `/Users/biocbuild/Library/Caches/OmnipathR`.
[2025-11-17 18:38:03] [INFO]    [OmnipathR] Package `OmnipathR` packaged: NA
[2025-11-17 18:38:03] [INFO]    [OmnipathR] Package `OmnipathR` date/publication: 2025-11-17
[2025-11-17 18:38:03] [INFO]    [OmnipathR] Package `OmnipathR` built: R 4.5.2; ; 2025-11-17 22:02:15 UTC; unix
[2025-11-17 18:38:03] [INFO]    [OmnipathR] Package `OmnipathR` version: 3.18.2
[2025-11-17 18:38:03] [INFO]    [OmnipathR] Package `OmnipathR` repository: Bioconductor 3.22
[2025-11-17 18:38:04] [INFO]    [OmnipathR] Session info: [version=R version 4.5.2 Patched (2025-11-05 r88990); os=macOS Monterey 12.7.6; system=x86_64, darwin20; ui=X11; language=(EN); collate=C; ctype=en_US.UTF-8; tz=America/New_York; date=2025-11-17; pandoc=2.7.3 @ /usr/local/bin/ (via rmarkdown); quarto=1.4.553 @ /usr/local/bin/quarto]
[2025-11-17 18:38:05] [INFO]    [OmnipathR] External libraries: [cairo=1.17.6; cairoFT=; pango=1.50.14; png=1.6.44; jpeg=9.5; tiff=LIBTIFF, Version 4.5.0; tcl=8.6.13; curl=8.7.1; zlib=1.2.11; bzlib=1.0.8, 13-Jul-2019; xz=5.6.3; deflate=1.23; PCRE=10.44 2024-06-07; ICU=70.1; TRE=TRE 0.8.0 R_fixes (BSD); iconv=Apple or GNU libiconv 1.11 /Library/Frameworks/R.framework/Versions/4.5-x86_64/Resources/lib/libR.dylib; readline=5.2; BLAS=/Library/Frameworks/R.framework/Versions/4.5-x86_64/Resources/lib/libRblas.0.dylib; lapack=/Library/Frameworks/R.framework/Versions/4.5-x86_64/Resources/lib/libRlapack.dylib; lapack_version=3.12.1]
[2025-11-17 18:38:05] [INFO]    [OmnipathR] Loaded packages: abind 1.4-8(2024-09-12); AnnotationDbi 1.72.0(2025-11-17); backports 1.5.0(2024-05-23); Biobase 2.70.0(2025-11-17); BiocBaseUtils 1.12.0(2025-11-17); BiocGenerics 0.56.0(2025-11-17); BiocIO 1.20.0(2025-11-17); BiocParallel 1.44.0(2025-11-17); Biostrings 2.78.0(2025-11-17); bit 4.6.0(2025-03-06); bit64 4.6.0-1(2025-01-16); bitops 1.0-9(2024-10-03); blob 1.2.4(2023-03-17); cachem 1.1.0(2024-05-16); cellranger 1.1.0(2016-07-27); checkmate 2.3.3(2025-08-18); chromote 0.5.1(2025-04-24); cigarillo 1.0.0(2025-11-17); circlize 0.4.16(2024-02-20); cli 3.6.5(2025-04-23); clisymbols 1.2.0(2017-05-21); clue 0.3-66(2024-11-13); cluster 2.1.8.1(2025-03-12); codetools 0.2-20(2024-03-31); colorspace 2.1-2(2025-09-22); ComplexHeatmap 2.26.0(2025-11-17); crayon 1.5.3(2024-06-20); curl 7.0.0(2025-08-19); DBI 1.2.3(2024-06-02); DelayedArray 0.36.0(2025-11-17); dichromat 2.0-0.1(2022-05-02); digest 0.6.38(2025-11-12); doParallel 1.0.17(2022-02-07); dplyr 1.1.4(2023-11-17); DT 0.34.0(2025-09-02); evaluate 1.0.5(2025-08-27); farver 2.1.2(2024-05-13); fastmap 1.2.0(2024-05-15); fontawesome 0.5.3(2024-11-16); foreach 1.5.2(2022-02-02); fs 1.6.6(2025-04-12); generics 0.1.4(2025-05-09); GenomicAlignments 1.46.0(2025-11-17); GenomicFeatures 1.62.0(2025-11-17); GenomicRanges 1.62.0(2025-11-17); GetoptLong 1.0.5(2020-12-15); ggplot2 4.0.1(2025-11-14); gINTomics 1.6.0(2025-11-17); GlobalOptions 0.1.2(2020-06-10); glue 1.8.0(2024-09-30); gtable 0.3.6(2024-10-25); hms 1.1.4(2025-10-17); htmltools 0.5.8.1(2024-04-04); htmlwidgets 1.6.4(2023-12-06); httpuv 1.6.16(2025-04-16); httr 1.4.7(2023-08-15); httr2 1.2.1(2025-07-22); igraph 2.2.1(2025-10-27); InteractiveComplexHeatmap 1.18.0(2025-11-17); IRanges 2.44.0(2025-11-17); iterators 1.0.14(2022-02-05); jsonlite 2.0.0(2025-03-27); kableExtra 1.4.0(2024-01-24); KEGGREST 1.50.0(2025-11-17); knitr 1.50(2025-03-16); later 1.4.4(2025-08-27); lattice 0.22-7(2025-04-02); lifecycle 1.0.4(2023-11-07); logger 0.4.1(2025-09-11); lubridate 1.9.4(2024-12-08); magrittr 2.0.4(2025-09-12); MASS 7.3-65(2025-02-28); Matrix 1.7-4(2025-08-28); MatrixGenerics 1.22.0(2025-11-17); matrixStats 1.5.0(2025-01-07); memoise 2.0.1(2021-11-26); MethylMix 2.40.0(2025-11-17); mime 0.13(2025-03-17); MultiAssayExperiment 1.36.1(2025-11-17); OmnipathR 3.18.2(2025-11-17); otel 0.2.0(2025-08-29); pillar 1.11.1(2025-09-17); pkgconfig 2.0.3(2019-09-22); png 0.1-8(2022-11-29); prettyunits 1.2.0(2023-09-24); processx 3.8.6(2025-02-21); progress 1.2.3(2023-12-06); promises 1.5.0(2025-11-01); ps 1.9.1(2025-04-12); purrr 1.2.0(2025-11-04); R.methodsS3 1.8.2(2022-06-13); R.oo 1.27.1(2025-05-02); R.utils 2.13.0(2025-02-24); R6 2.6.1(2025-02-15); rappdirs 0.3.3(2021-01-31); RColorBrewer 1.1-3(2022-04-03); Rcpp 1.1.0(2025-07-02); RCurl 1.98-1.17(2025-03-22); readr 2.1.6(2025-11-14); readxl 1.4.5(2025-03-07); restfulr 0.0.16(2025-06-27); rjson 0.2.23(2024-09-16); rlang 1.1.6(2025-04-11); rmarkdown 2.30(2025-09-28); Rsamtools 2.26.0(2025-11-17); RSQLite 2.4.4(2025-11-10); rstudioapi 0.17.1(2024-10-22); rtracklayer 1.70.0(2025-11-17); rvest 1.0.5(2025-08-29); S4Arrays 1.10.0(2025-11-17); S4Vectors 0.48.0(2025-11-17); S7 0.2.1(2025-11-14); scales 1.4.0(2025-04-24); Seqinfo 1.0.0(2025-11-17); sessioninfo 1.2.3(2025-02-05); shape 1.4.6.1(2024-02-23); shiny 1.11.1(2025-07-03); SparseArray 1.10.2(2025-11-17); stringi 1.8.7(2025-03-27); stringr 1.6.0(2025-11-04); SummarizedExperiment 1.40.0(2025-11-17); svglite 2.2.2(2025-10-21); systemfonts 1.3.1(2025-10-01); textshaping 1.0.4(2025-10-10); tibble 3.3.0(2025-06-08); tidyr 1.3.1(2024-01-24); tidyselect 1.2.1(2024-03-11); timechange 0.3.0(2024-01-18); tzdb 0.5.0(2025-03-15); vctrs 0.6.5(2023-12-01); viridisLite 0.4.2(2023-05-02); websocket 1.4.4(2025-04-10); withr 3.0.2(2024-10-28); xfun 0.54(2025-10-30); XML 3.99-0.20(2025-11-08); xml2 1.5.0(2025-11-17); xtable 1.8-4(2019-04-21); XVector 0.50.0(2025-11-17); yaml 2.3.10(2024-07-26); zip 2.3.3(2025-05-13)
[2025-11-17 18:38:05] [INFO]    [OmnipathR] CURL: version: 8.14.1; headers: 8.14.1; ssl_version: LibreSSL/3.3.6 (SecureTransport); libz_version: 1.2.11; libssh_version: NA; libidn_version: NA; host: x86_64-apple-darwin22.6.0; protocols: dict, file, ftp, ftps, gopher, gophers, http, https, imap, imaps, ldap, ldaps, mqtt, pop3, pop3s, rtsp, smb, smbs, smtp, smtps, telnet, tftp, ws, wss; ipv6: TRUE; http2: TRUE; idn: FALSE; url_parser: TRUE
[2025-11-17 18:38:05] [TRACE]   [OmnipathR] Running on a build server, wiping cache.
[2025-11-17 18:38:05] [TRACE]   [OmnipathR] Cache is at `/Users/biocbuild/Library/Caches/OmnipathR`.
[2025-11-17 18:38:05] [TRACE]   [OmnipathR] Contains 1 files.
[2025-11-17 18:38:05] [TRACE]   [OmnipathR] Cache is locked: FALSE.
[2025-11-17 18:38:05] [TRACE]   [OmnipathR] Reading JSON from `/Users/biocbuild/Library/Caches/OmnipathR/cache.json` (encoding: UTF-8).
[2025-11-17 18:38:05] [TRACE]   [OmnipathR] JSON validation successful: TRUE
[2025-11-17 18:38:05] [SUCCESS] [OmnipathR] Removing all cache contents from `/Users/biocbuild/Library/Caches/OmnipathR`.
[2025-11-17 18:38:05] [TRACE]   [OmnipathR] Pandoc version: `2.7.3`.
[2025-11-17 18:38:05] [TRACE]   [OmnipathR] Reading JSON from `/Library/Frameworks/R.framework/Versions/4.5-x86_64/Resources/library/OmnipathR/db/db_def.json` (encoding: UTF-8).
[2025-11-17 18:38:05] [TRACE]   [OmnipathR] JSON validation successful: TRUE
[2025-11-17 18:38:05] [TRACE]   [OmnipathR] Reading JSON from `/Library/Frameworks/R.framework/Versions/4.5-x86_64/Resources/library/OmnipathR/internal/magic_bytes.json` (encoding: UTF-8).
[2025-11-17 18:38:05] [TRACE]   [OmnipathR] JSON validation successful: TRUE
[2025-11-17 18:38:06] [TRACE]   [OmnipathR] Reading JSON from `/Library/Frameworks/R.framework/Versions/4.5-x86_64/Resources/library/OmnipathR/internal/urls.json` (encoding: UTF-8).
[2025-11-17 18:38:06] [TRACE]   [OmnipathR] JSON validation successful: TRUE
[2025-11-17 18:38:06] [TRACE]   [OmnipathR] Reading JSON from `/Library/Frameworks/R.framework/Versions/4.5-x86_64/Resources/library/OmnipathR/internal/id_types.json` (encoding: UTF-8).
[2025-11-17 18:38:06] [TRACE]   [OmnipathR] JSON validation successful: TRUE
[2025-11-17 18:38:06] [TRACE]   [OmnipathR] Cache locked: FALSE
** testing if installed package can be loaded from final location
[2025-11-17 18:38:45] [TRACE]   [OmnipathR] Reading JSON from `/Users/biocbuild/Library/Caches/OmnipathR/cache.json` (encoding: UTF-8).
[2025-11-17 18:38:45] [TRACE]   [OmnipathR] JSON validation successful: TRUE
[2025-11-17 18:38:46] [INFO]    [OmnipathR] Initialized cache: `/Users/biocbuild/Library/Caches/OmnipathR`.
[2025-11-17 18:38:46] [INFO]    [OmnipathR] Package `OmnipathR` packaged: NA
[2025-11-17 18:38:46] [INFO]    [OmnipathR] Package `OmnipathR` date/publication: 2025-11-17
[2025-11-17 18:38:46] [INFO]    [OmnipathR] Package `OmnipathR` built: R 4.5.2; ; 2025-11-17 22:02:15 UTC; unix
[2025-11-17 18:38:46] [INFO]    [OmnipathR] Package `OmnipathR` version: 3.18.2
[2025-11-17 18:38:46] [INFO]    [OmnipathR] Package `OmnipathR` repository: Bioconductor 3.22
[2025-11-17 18:38:47] [INFO]    [OmnipathR] Session info: [version=R version 4.5.2 Patched (2025-11-05 r88990); os=macOS Monterey 12.7.6; system=x86_64, darwin20; ui=X11; language=(EN); collate=C; ctype=en_US.UTF-8; tz=America/New_York; date=2025-11-17; pandoc=2.7.3 @ /usr/local/bin/ (via rmarkdown); quarto=1.4.553 @ /usr/local/bin/quarto]
[2025-11-17 18:38:47] [INFO]    [OmnipathR] External libraries: [cairo=1.17.6; cairoFT=; pango=1.50.14; png=1.6.44; jpeg=9.5; tiff=LIBTIFF, Version 4.5.0; tcl=8.6.13; curl=8.7.1; zlib=1.2.11; bzlib=1.0.8, 13-Jul-2019; xz=5.6.3; deflate=1.23; PCRE=10.44 2024-06-07; ICU=70.1; TRE=TRE 0.8.0 R_fixes (BSD); iconv=Apple or GNU libiconv 1.11 /Library/Frameworks/R.framework/Versions/4.5-x86_64/Resources/lib/libR.dylib; readline=5.2; BLAS=/Library/Frameworks/R.framework/Versions/4.5-x86_64/Resources/lib/libRblas.0.dylib; lapack=/Library/Frameworks/R.framework/Versions/4.5-x86_64/Resources/lib/libRlapack.dylib; lapack_version=3.12.1]
[2025-11-17 18:38:48] [INFO]    [OmnipathR] Loaded packages: abind 1.4-8(2024-09-12); AnnotationDbi 1.72.0(2025-11-17); backports 1.5.0(2024-05-23); Biobase 2.70.0(2025-11-17); BiocBaseUtils 1.12.0(2025-11-17); BiocGenerics 0.56.0(2025-11-17); BiocIO 1.20.0(2025-11-17); BiocParallel 1.44.0(2025-11-17); Biostrings 2.78.0(2025-11-17); bit 4.6.0(2025-03-06); bit64 4.6.0-1(2025-01-16); bitops 1.0-9(2024-10-03); blob 1.2.4(2023-03-17); cachem 1.1.0(2024-05-16); cellranger 1.1.0(2016-07-27); checkmate 2.3.3(2025-08-18); chromote 0.5.1(2025-04-24); cigarillo 1.0.0(2025-11-17); circlize 0.4.16(2024-02-20); cli 3.6.5(2025-04-23); clisymbols 1.2.0(2017-05-21); clue 0.3-66(2024-11-13); cluster 2.1.8.1(2025-03-12); codetools 0.2-20(2024-03-31); colorspace 2.1-2(2025-09-22); ComplexHeatmap 2.26.0(2025-11-17); crayon 1.5.3(2024-06-20); curl 7.0.0(2025-08-19); DBI 1.2.3(2024-06-02); DelayedArray 0.36.0(2025-11-17); dichromat 2.0-0.1(2022-05-02); digest 0.6.38(2025-11-12); doParallel 1.0.17(2022-02-07); dplyr 1.1.4(2023-11-17); DT 0.34.0(2025-09-02); evaluate 1.0.5(2025-08-27); farver 2.1.2(2024-05-13); fastmap 1.2.0(2024-05-15); fontawesome 0.5.3(2024-11-16); foreach 1.5.2(2022-02-02); fs 1.6.6(2025-04-12); generics 0.1.4(2025-05-09); GenomicAlignments 1.46.0(2025-11-17); GenomicFeatures 1.62.0(2025-11-17); GenomicRanges 1.62.0(2025-11-17); GetoptLong 1.0.5(2020-12-15); ggplot2 4.0.1(2025-11-14); gINTomics 1.6.0(2025-11-17); GlobalOptions 0.1.2(2020-06-10); glue 1.8.0(2024-09-30); gtable 0.3.6(2024-10-25); hms 1.1.4(2025-10-17); htmltools 0.5.8.1(2024-04-04); htmlwidgets 1.6.4(2023-12-06); httpuv 1.6.16(2025-04-16); httr 1.4.7(2023-08-15); httr2 1.2.1(2025-07-22); igraph 2.2.1(2025-10-27); InteractiveComplexHeatmap 1.18.0(2025-11-17); IRanges 2.44.0(2025-11-17); iterators 1.0.14(2022-02-05); jsonlite 2.0.0(2025-03-27); kableExtra 1.4.0(2024-01-24); KEGGREST 1.50.0(2025-11-17); knitr 1.50(2025-03-16); later 1.4.4(2025-08-27); lattice 0.22-7(2025-04-02); lifecycle 1.0.4(2023-11-07); logger 0.4.1(2025-09-11); lubridate 1.9.4(2024-12-08); magrittr 2.0.4(2025-09-12); MASS 7.3-65(2025-02-28); Matrix 1.7-4(2025-08-28); MatrixGenerics 1.22.0(2025-11-17); matrixStats 1.5.0(2025-01-07); memoise 2.0.1(2021-11-26); MethylMix 2.40.0(2025-11-17); mime 0.13(2025-03-17); MultiAssayExperiment 1.36.1(2025-11-17); OmnipathR 3.18.2(2025-11-17); otel 0.2.0(2025-08-29); pillar 1.11.1(2025-09-17); pkgconfig 2.0.3(2019-09-22); png 0.1-8(2022-11-29); prettyunits 1.2.0(2023-09-24); processx 3.8.6(2025-02-21); progress 1.2.3(2023-12-06); promises 1.5.0(2025-11-01); ps 1.9.1(2025-04-12); purrr 1.2.0(2025-11-04); R.methodsS3 1.8.2(2022-06-13); R.oo 1.27.1(2025-05-02); R.utils 2.13.0(2025-02-24); R6 2.6.1(2025-02-15); rappdirs 0.3.3(2021-01-31); RColorBrewer 1.1-3(2022-04-03); Rcpp 1.1.0(2025-07-02); RCurl 1.98-1.17(2025-03-22); readr 2.1.6(2025-11-14); readxl 1.4.5(2025-03-07); restfulr 0.0.16(2025-06-27); rjson 0.2.23(2024-09-16); rlang 1.1.6(2025-04-11); rmarkdown 2.30(2025-09-28); Rsamtools 2.26.0(2025-11-17); RSQLite 2.4.4(2025-11-10); rstudioapi 0.17.1(2024-10-22); rtracklayer 1.70.0(2025-11-17); rvest 1.0.5(2025-08-29); S4Arrays 1.10.0(2025-11-17); S4Vectors 0.48.0(2025-11-17); S7 0.2.1(2025-11-14); scales 1.4.0(2025-04-24); Seqinfo 1.0.0(2025-11-17); sessioninfo 1.2.3(2025-02-05); shape 1.4.6.1(2024-02-23); shiny 1.11.1(2025-07-03); SparseArray 1.10.2(2025-11-17); stringi 1.8.7(2025-03-27); stringr 1.6.0(2025-11-04); SummarizedExperiment 1.40.0(2025-11-17); svglite 2.2.2(2025-10-21); systemfonts 1.3.1(2025-10-01); textshaping 1.0.4(2025-10-10); tibble 3.3.0(2025-06-08); tidyr 1.3.1(2024-01-24); tidyselect 1.2.1(2024-03-11); timechange 0.3.0(2024-01-18); tzdb 0.5.0(2025-03-15); vctrs 0.6.5(2023-12-01); viridisLite 0.4.2(2023-05-02); websocket 1.4.4(2025-04-10); withr 3.0.2(2024-10-28); xfun 0.54(2025-10-30); XML 3.99-0.20(2025-11-08); xml2 1.5.0(2025-11-17); xtable 1.8-4(2019-04-21); XVector 0.50.0(2025-11-17); yaml 2.3.10(2024-07-26); zip 2.3.3(2025-05-13)
[2025-11-17 18:38:48] [INFO]    [OmnipathR] CURL: version: 8.14.1; headers: 8.14.1; ssl_version: LibreSSL/3.3.6 (SecureTransport); libz_version: 1.2.11; libssh_version: NA; libidn_version: NA; host: x86_64-apple-darwin22.6.0; protocols: dict, file, ftp, ftps, gopher, gophers, http, https, imap, imaps, ldap, ldaps, mqtt, pop3, pop3s, rtsp, smb, smbs, smtp, smtps, telnet, tftp, ws, wss; ipv6: TRUE; http2: TRUE; idn: FALSE; url_parser: TRUE
[2025-11-17 18:38:48] [TRACE]   [OmnipathR] Running on a build server, wiping cache.
[2025-11-17 18:38:48] [TRACE]   [OmnipathR] Cache is at `/Users/biocbuild/Library/Caches/OmnipathR`.
[2025-11-17 18:38:48] [TRACE]   [OmnipathR] Contains 1 files.
[2025-11-17 18:38:48] [TRACE]   [OmnipathR] Cache is locked: FALSE.
[2025-11-17 18:38:48] [TRACE]   [OmnipathR] Reading JSON from `/Users/biocbuild/Library/Caches/OmnipathR/cache.json` (encoding: UTF-8).
[2025-11-17 18:38:48] [TRACE]   [OmnipathR] JSON validation successful: TRUE
[2025-11-17 18:38:48] [SUCCESS] [OmnipathR] Removing all cache contents from `/Users/biocbuild/Library/Caches/OmnipathR`.
[2025-11-17 18:38:48] [TRACE]   [OmnipathR] Pandoc version: `2.7.3`.
[2025-11-17 18:38:48] [TRACE]   [OmnipathR] Reading JSON from `/Library/Frameworks/R.framework/Versions/4.5-x86_64/Resources/library/OmnipathR/db/db_def.json` (encoding: UTF-8).
[2025-11-17 18:38:48] [TRACE]   [OmnipathR] JSON validation successful: TRUE
[2025-11-17 18:38:48] [TRACE]   [OmnipathR] Reading JSON from `/Library/Frameworks/R.framework/Versions/4.5-x86_64/Resources/library/OmnipathR/internal/magic_bytes.json` (encoding: UTF-8).
[2025-11-17 18:38:48] [TRACE]   [OmnipathR] JSON validation successful: TRUE
[2025-11-17 18:38:48] [TRACE]   [OmnipathR] Reading JSON from `/Library/Frameworks/R.framework/Versions/4.5-x86_64/Resources/library/OmnipathR/internal/urls.json` (encoding: UTF-8).
[2025-11-17 18:38:48] [TRACE]   [OmnipathR] JSON validation successful: TRUE
[2025-11-17 18:38:48] [TRACE]   [OmnipathR] Reading JSON from `/Library/Frameworks/R.framework/Versions/4.5-x86_64/Resources/library/OmnipathR/internal/id_types.json` (encoding: UTF-8).
[2025-11-17 18:38:48] [TRACE]   [OmnipathR] JSON validation successful: TRUE
[2025-11-17 18:38:48] [TRACE]   [OmnipathR] Cache locked: FALSE
** testing if installed package keeps a record of temporary installation path
* DONE (gINTomics)

Tests output

gINTomics.Rcheck/tests/testthat.Rout


R version 4.5.2 Patched (2025-11-05 r88990) -- "[Not] Part in a Rumble"
Copyright (C) 2025 The R Foundation for Statistical Computing
Platform: x86_64-apple-darwin20

R is free software and comes with ABSOLUTELY NO WARRANTY.
You are welcome to redistribute it under certain conditions.
Type 'license()' or 'licence()' for distribution details.

R is a collaborative project with many contributors.
Type 'contributors()' for more information and
'citation()' on how to cite R or R packages in publications.

Type 'demo()' for some demos, 'help()' for on-line help, or
'help.start()' for an HTML browser interface to help.
Type 'q()' to quit R.

> library(testthat)
> library(gINTomics)
[2025-11-18 08:40:45] [TRACE]   [OmnipathR] Reading JSON from `/Users/biocbuild/Library/Caches/OmnipathR/cache.json` (encoding: UTF-8).
[2025-11-18 08:40:45] [TRACE]   [OmnipathR] JSON validation successful: TRUE
[2025-11-18 08:40:45] [INFO]    [OmnipathR] Initialized cache: `/Users/biocbuild/Library/Caches/OmnipathR`.
[2025-11-18 08:40:45] [INFO]    [OmnipathR] Package `OmnipathR` packaged: NA
[2025-11-18 08:40:45] [INFO]    [OmnipathR] Package `OmnipathR` date/publication: 2025-11-17
[2025-11-18 08:40:45] [INFO]    [OmnipathR] Package `OmnipathR` built: R 4.5.2; ; 2025-11-17 22:02:15 UTC; unix
[2025-11-18 08:40:45] [INFO]    [OmnipathR] Package `OmnipathR` version: 3.18.2
[2025-11-18 08:40:45] [INFO]    [OmnipathR] Package `OmnipathR` repository: Bioconductor 3.22
[2025-11-18 08:40:47] [INFO]    [OmnipathR] Session info: [version=R version 4.5.2 Patched (2025-11-05 r88990); os=macOS Monterey 12.7.6; system=x86_64, darwin20; ui=X11; language=C; collate=C; ctype=en_US.UTF-8; tz=America/New_York; date=2025-11-18; pandoc=2.7.3 @ /usr/local/bin/ (via rmarkdown); quarto=1.4.553 @ /usr/local/bin/quarto]
[2025-11-18 08:40:47] [INFO]    [OmnipathR] External libraries: [cairo=1.17.6; cairoFT=; pango=1.50.14; png=1.6.44; jpeg=9.5; tiff=LIBTIFF, Version 4.5.0; tcl=8.6.13; curl=8.7.1; zlib=1.2.11; bzlib=1.0.8, 13-Jul-2019; xz=5.6.3; deflate=1.23; PCRE=10.44 2024-06-07; ICU=70.1; TRE=TRE 0.8.0 R_fixes (BSD); iconv=Apple or GNU libiconv 1.11 /Library/Frameworks/R.framework/Versions/4.5-x86_64/Resources/lib/libR.dylib; readline=5.2; BLAS=/Library/Frameworks/R.framework/Versions/4.5-x86_64/Resources/lib/libRblas.0.dylib; lapack=/Library/Frameworks/R.framework/Versions/4.5-x86_64/Resources/lib/libRlapack.dylib; lapack_version=3.12.1]
[2025-11-18 08:40:48] [INFO]    [OmnipathR] Loaded packages: abind 1.4-8(2024-09-12); AnnotationDbi 1.72.0(2025-11-17); backports 1.5.0(2024-05-23); Biobase 2.70.0(2025-11-17); BiocBaseUtils 1.12.0(2025-11-17); BiocGenerics 0.56.0(2025-11-17); BiocIO 1.20.0(2025-11-17); BiocParallel 1.44.0(2025-11-17); Biostrings 2.78.0(2025-11-17); bit 4.6.0(2025-03-06); bit64 4.6.0-1(2025-01-16); bitops 1.0-9(2024-10-03); blob 1.2.4(2023-03-17); brio 1.1.5(2024-04-24); cachem 1.1.0(2024-05-16); cellranger 1.1.0(2016-07-27); checkmate 2.3.3(2025-08-18); chromote 0.5.1(2025-04-24); cigarillo 1.0.0(2025-11-17); circlize 0.4.16(2024-02-20); cli 3.6.5(2025-04-23); clisymbols 1.2.0(2017-05-21); clue 0.3-66(2024-11-13); cluster 2.1.8.1(2025-03-12); codetools 0.2-20(2024-03-31); colorspace 2.1-2(2025-09-22); ComplexHeatmap 2.26.0(2025-11-17); crayon 1.5.3(2024-06-20); curl 7.0.0(2025-08-19); DBI 1.2.3(2024-06-02); DelayedArray 0.36.0(2025-11-17); dichromat 2.0-0.1(2022-05-02); digest 0.6.38(2025-11-12); doParallel 1.0.17(2022-02-07); dplyr 1.1.4(2023-11-17); DT 0.34.0(2025-09-02); evaluate 1.0.5(2025-08-27); farver 2.1.2(2024-05-13); fastmap 1.2.0(2024-05-15); fontawesome 0.5.3(2024-11-16); foreach 1.5.2(2022-02-02); fs 1.6.6(2025-04-12); generics 0.1.4(2025-05-09); GenomicAlignments 1.46.0(2025-11-17); GenomicFeatures 1.62.0(2025-11-17); GenomicRanges 1.62.0(2025-11-17); GetoptLong 1.0.5(2020-12-15); ggplot2 4.0.1(2025-11-14); gINTomics 1.6.0(2025-11-17); GlobalOptions 0.1.2(2020-06-10); glue 1.8.0(2024-09-30); gtable 0.3.6(2024-10-25); hms 1.1.4(2025-10-17); htmltools 0.5.8.1(2024-04-04); htmlwidgets 1.6.4(2023-12-06); httpuv 1.6.16(2025-04-16); httr 1.4.7(2023-08-15); httr2 1.2.1(2025-07-22); igraph 2.2.1(2025-10-27); InteractiveComplexHeatmap 1.18.0(2025-11-17); IRanges 2.44.0(2025-11-17); iterators 1.0.14(2022-02-05); jsonlite 2.0.0(2025-03-27); kableExtra 1.4.0(2024-01-24); KEGGREST 1.50.0(2025-11-17); knitr 1.50(2025-03-16); later 1.4.4(2025-08-27); lattice 0.22-7(2025-04-02); lifecycle 1.0.4(2023-11-07); logger 0.4.1(2025-09-11); lubridate 1.9.4(2024-12-08); magrittr 2.0.4(2025-09-12); MASS 7.3-65(2025-02-28); Matrix 1.7-4(2025-08-28); MatrixGenerics 1.22.0(2025-11-17); matrixStats 1.5.0(2025-01-07); memoise 2.0.1(2021-11-26); MethylMix 2.40.0(2025-11-17); mime 0.13(2025-03-17); MultiAssayExperiment 1.36.1(2025-11-17); OmnipathR 3.18.2(2025-11-17); otel 0.2.0(2025-08-29); pillar 1.11.1(2025-09-17); pkgconfig 2.0.3(2019-09-22); png 0.1-8(2022-11-29); prettyunits 1.2.0(2023-09-24); processx 3.8.6(2025-02-21); progress 1.2.3(2023-12-06); promises 1.5.0(2025-11-01); ps 1.9.1(2025-04-12); purrr 1.2.0(2025-11-04); R.methodsS3 1.8.2(2022-06-13); R.oo 1.27.1(2025-05-02); R.utils 2.13.0(2025-02-24); R6 2.6.1(2025-02-15); rappdirs 0.3.3(2021-01-31); RColorBrewer 1.1-3(2022-04-03); Rcpp 1.1.0(2025-07-02); RCurl 1.98-1.17(2025-03-22); readr 2.1.6(2025-11-14); readxl 1.4.5(2025-03-07); restfulr 0.0.16(2025-06-27); rjson 0.2.23(2024-09-16); rlang 1.1.6(2025-04-11); rmarkdown 2.30(2025-09-28); Rsamtools 2.26.0(2025-11-17); RSQLite 2.4.4(2025-11-10); rstudioapi 0.17.1(2024-10-22); rtracklayer 1.70.0(2025-11-17); rvest 1.0.5(2025-08-29); S4Arrays 1.10.0(2025-11-17); S4Vectors 0.48.0(2025-11-17); S7 0.2.1(2025-11-14); scales 1.4.0(2025-04-24); Seqinfo 1.0.0(2025-11-17); sessioninfo 1.2.3(2025-02-05); shape 1.4.6.1(2024-02-23); shiny 1.11.1(2025-07-03); SparseArray 1.10.2(2025-11-17); stringi 1.8.7(2025-03-27); stringr 1.6.0(2025-11-04); SummarizedExperiment 1.40.0(2025-11-17); svglite 2.2.2(2025-10-21); systemfonts 1.3.1(2025-10-01); testthat 3.3.0(2025-11-13); textshaping 1.0.4(2025-10-10); tibble 3.3.0(2025-06-08); tidyr 1.3.1(2024-01-24); tidyselect 1.2.1(2024-03-11); timechange 0.3.0(2024-01-18); tzdb 0.5.0(2025-03-15); vctrs 0.6.5(2023-12-01); viridisLite 0.4.2(2023-05-02); websocket 1.4.4(2025-04-10); withr 3.0.2(2024-10-28); xfun 0.54(2025-10-30); XML 3.99-0.20(2025-11-08); xml2 1.5.0(2025-11-17); xtable 1.8-4(2019-04-21); XVector 0.50.0(2025-11-17); yaml 2.3.10(2024-07-26); zip 2.3.3(2025-05-13)
[2025-11-18 08:40:48] [INFO]    [OmnipathR] CURL: version: 8.14.1; headers: 8.14.1; ssl_version: LibreSSL/3.3.6 (SecureTransport); libz_version: 1.2.11; libssh_version: NA; libidn_version: NA; host: x86_64-apple-darwin22.6.0; protocols: dict, file, ftp, ftps, gopher, gophers, http, https, imap, imaps, ldap, ldaps, mqtt, pop3, pop3s, rtsp, smb, smbs, smtp, smtps, telnet, tftp, ws, wss; ipv6: TRUE; http2: TRUE; idn: FALSE; url_parser: TRUE
[2025-11-18 08:40:48] [TRACE]   [OmnipathR] Running on a build server, wiping cache.
[2025-11-18 08:40:48] [TRACE]   [OmnipathR] Cache is at `/Users/biocbuild/Library/Caches/OmnipathR`.
[2025-11-18 08:40:48] [TRACE]   [OmnipathR] Contains 7 files.
[2025-11-18 08:40:48] [TRACE]   [OmnipathR] Cache is locked: FALSE.
[2025-11-18 08:40:48] [TRACE]   [OmnipathR] Reading JSON from `/Users/biocbuild/Library/Caches/OmnipathR/cache.json` (encoding: UTF-8).
[2025-11-18 08:40:48] [TRACE]   [OmnipathR] JSON validation successful: TRUE
[2025-11-18 08:40:48] [SUCCESS] [OmnipathR] Removing all cache contents from `/Users/biocbuild/Library/Caches/OmnipathR`.
[2025-11-18 08:40:48] [TRACE]   [OmnipathR] Pandoc version: `2.7.3`.
[2025-11-18 08:40:48] [TRACE]   [OmnipathR] Reading JSON from `/Library/Frameworks/R.framework/Versions/4.5-x86_64/Resources/library/OmnipathR/db/db_def.json` (encoding: UTF-8).
[2025-11-18 08:40:48] [TRACE]   [OmnipathR] JSON validation successful: TRUE
[2025-11-18 08:40:48] [TRACE]   [OmnipathR] Reading JSON from `/Library/Frameworks/R.framework/Versions/4.5-x86_64/Resources/library/OmnipathR/internal/magic_bytes.json` (encoding: UTF-8).
[2025-11-18 08:40:48] [TRACE]   [OmnipathR] JSON validation successful: TRUE
[2025-11-18 08:40:48] [TRACE]   [OmnipathR] Reading JSON from `/Library/Frameworks/R.framework/Versions/4.5-x86_64/Resources/library/OmnipathR/internal/urls.json` (encoding: UTF-8).
[2025-11-18 08:40:48] [TRACE]   [OmnipathR] JSON validation successful: TRUE
[2025-11-18 08:40:48] [TRACE]   [OmnipathR] Reading JSON from `/Library/Frameworks/R.framework/Versions/4.5-x86_64/Resources/library/OmnipathR/internal/id_types.json` (encoding: UTF-8).
[2025-11-18 08:40:48] [TRACE]   [OmnipathR] JSON validation successful: TRUE
[2025-11-18 08:40:48] [TRACE]   [OmnipathR] Cache locked: FALSE



> 
> test_check("gINTomics")
[2025-11-18 08:41:04] [TRACE]   [OmnipathR] Processing args for OmniPath query
[2025-11-18 08:41:04] [TRACE]   [OmnipathR] Arguments for OmniPath query: [organisms=9606,query_type=interactions,datasets=mirnatarget]
[2025-11-18 08:41:04] [INFO]    [OmnipathR] Loading database `Ensembl and OMA organism names`.
[2025-11-18 08:41:04] [TRACE]   [OmnipathR] Reading JSON from `/Users/biocbuild/Library/Caches/OmnipathR/cache.json` (encoding: UTF-8).
[2025-11-18 08:41:04] [TRACE]   [OmnipathR] JSON validation successful: TRUE
[2025-11-18 08:41:04] [INFO]    [OmnipathR] Looking up in cache `https://rescued.omnipathdb.org/ensembl-species.html`: key=67b4943ae7fd646a03b760aefa99fe6c41ab2887, no version available.
[2025-11-18 08:41:04] [TRACE]   [OmnipathR] Reading JSON from `/Users/biocbuild/Library/Caches/OmnipathR/cache.json` (encoding: UTF-8).
[2025-11-18 08:41:04] [TRACE]   [OmnipathR] JSON validation successful: TRUE
[2025-11-18 08:41:04] [INFO]    [OmnipathR] Created new version for cache record 67b4943ae7fd646a03b760aefa99fe6c41ab2887: version 1.
[2025-11-18 08:41:04] [TRACE]   [OmnipathR] Cache file path: /Users/biocbuild/Library/Caches/OmnipathR/67b4943ae7fd646a03b760aefa99fe6c41ab2887-1.html
[2025-11-18 08:41:04] [INFO]    [OmnipathR] Retrieving URL: `https://rescued.omnipathdb.org/ensembl-species.html`
[2025-11-18 08:41:04] [TRACE]   [OmnipathR] Downloading by `httr2` in `download_base`.
[2025-11-18 08:41:04] [TRACE]   [OmnipathR] Attempt 1/3: `https://rescued.omnipathdb.org/ensembl-species.html`
[2025-11-18 08:41:04] [TRACE]   [OmnipathR] Preparing httr2 request to URL `https://rescued.omnipathdb.org/ensembl-species.html`.
[2025-11-18 08:41:04] [TRACE]   [OmnipathR] HTTP headers: [User-Agent=Mozilla/5.0 (X11; Linux x86_64; rv:134.0) Gecko/20100101 Firefox/134.0]
[2025-11-18 08:41:04] [TRACE]   [OmnipathR] Curl options: [connecttimeout=10,timeout=300,debugfunction=<function>,verbose=FALSE,tcp_keepalive=TRUE,tcp_keepintvl=10,tcp_keepidle=10,tcp_keepcnt=13,upkeep_interval_ms=30000,ssl_verifypeer=1,ssl_verifyhost=2]
[2025-11-18 08:41:04] [TRACE]   [OmnipathR] HTTP headers: [User-Agent=Mozilla/5.0 (X11; Linux x86_64; rv:134.0) Gecko/20100101 Firefox/134.0]
[2025-11-18 08:41:04] [TRACE]   [OmnipathR] Sending HTTP request.
[2025-11-18 08:41:05] [TRACE]   [OmnipathR] HTTP 200 (OK)
[2025-11-18 08:41:05] [TRACE]   [OmnipathR] HTTP v1 GET: status 200.
[2025-11-18 08:41:05] [TRACE]   [OmnipathR] Downloaded 39.9 Kb in 0.523989s from rescued.omnipathdb.org (76.1 Kb/s); Redirect: 0s, DNS look up: 0.003116s, Connection: 0.106593s, Pretransfer: 0.216194s, First byte at: 0.420893s
[2025-11-18 08:41:05] [TRACE]   [OmnipathR] HTTP headers: HTTP/1.1 200 OK; Server: nginx; Date: Tue, 18 Nov 2025 13:41:05 GMT; Content-Type: text/html; charset=utf-8; Last-Modified: Fri, 24 Oct 2025 17:07:34 GMT; Transfer-Encoding: chunked; Connection: keep-alive; ETag: W/"68fbb256-3f5d0"; Expires: Tue, 18 Nov 2025 14:41:05 GMT; Cache-Control: max-age=3600; Cache-Control: public; X-Frame-Options: DENY; Content-Encoding: gzip
[2025-11-18 08:41:05] [TRACE]   [OmnipathR] Response headers: [Server=nginx,Date=Tue, 18 Nov 2025 13:41:05 GMT,Content-Type=text/html; charset=utf-8,Last-Modified=Fri, 24 Oct 2025 17:07:34 GMT,Transfer-Encoding=chunked,Connection=keep-alive,ETag=W/"68fbb256-3f5d0",Expires=Tue, 18 Nov 2025 14:41:05 GMT,Cache-Control=max-age=3600,Cache-Control=public,X-Frame-Options=DENY,Content-Encoding=gzip]
[2025-11-18 08:41:07] [INFO]    [OmnipathR] Download ready [key=67b4943ae7fd646a03b760aefa99fe6c41ab2887, version=1]
[2025-11-18 08:41:07] [TRACE]   [OmnipathR] Reading JSON from `/Users/biocbuild/Library/Caches/OmnipathR/cache.json` (encoding: UTF-8).
[2025-11-18 08:41:07] [TRACE]   [OmnipathR] JSON validation successful: TRUE
[2025-11-18 08:41:07] [INFO]    [OmnipathR] Cache item `67b4943ae7fd646a03b760aefa99fe6c41ab2887` version 1: status changed from `unknown` to `ready`.
[2025-11-18 08:41:08] [TRACE]   [OmnipathR] Downloading by `generic_downloader`.
[2025-11-18 08:41:08] [TRACE]   [OmnipathR] Looking up in cache: `https://omabrowser.org/All/oma-species.txt`.
[2025-11-18 08:41:08] [INFO]    [OmnipathR] Cache record does not exist: `https://omabrowser.org/All/oma-species.txt`
[2025-11-18 08:41:08] [TRACE]   [OmnipathR] Could not find in cache, initiating download: `https://omabrowser.org/All/oma-species.txt`.
[2025-11-18 08:41:08] [TRACE]   [OmnipathR] Reading JSON from `/Users/biocbuild/Library/Caches/OmnipathR/cache.json` (encoding: UTF-8).
[2025-11-18 08:41:08] [TRACE]   [OmnipathR] JSON validation successful: TRUE
[2025-11-18 08:41:08] [TRACE]   [OmnipathR] Reading JSON from `/Users/biocbuild/Library/Caches/OmnipathR/cache.json` (encoding: UTF-8).
[2025-11-18 08:41:08] [TRACE]   [OmnipathR] JSON validation successful: TRUE
[2025-11-18 08:41:08] [INFO]    [OmnipathR] Cache item `30e690cbb55dfc63b5903ab337f34ffc2f4be397` version 1: status changed from `unknown` to `started`.
[2025-11-18 08:41:08] [TRACE]   [OmnipathR] Exporting object to RDS: `/Users/biocbuild/Library/Caches/OmnipathR/30e690cbb55dfc63b5903ab337f34ffc2f4be397-1.rds`.
[2025-11-18 08:41:08] [INFO]    [OmnipathR] Retrieving URL: `https://omabrowser.org/All/oma-species.txt`
[2025-11-18 08:41:08] [TRACE]   [OmnipathR] Attempt 1/3: `https://omabrowser.org/All/oma-species.txt`
[2025-11-18 08:41:08] [TRACE]   [OmnipathR] HTTP request by `omnipath_curl`.
[2025-11-18 08:41:08] [TRACE]   [OmnipathR] Curl options: [connecttimeout=10,timeout=300,debugfunction=<function>,verbose=FALSE,tcp_keepalive=TRUE,tcp_keepintvl=10,tcp_keepidle=10,tcp_keepcnt=13,upkeep_interval_ms=30000,ssl_verifypeer=1,ssl_verifyhost=2]
[2025-11-18 08:41:08] [TRACE]   [OmnipathR] HTTP v2 GET: status 200.
[2025-11-18 08:41:09] [TRACE]   [OmnipathR] Downloaded 8.7 Kb in 0.341376s from omabrowser.org (25.5 Kb/s); Redirect: 0s, DNS look up: 0.001681s, Connection: 0.108661s, Pretransfer: 0.222445s, First byte at: 0.340846s
[2025-11-18 08:41:09] [TRACE]   [OmnipathR] HTTP headers: HTTP/2 200 ; date: Tue, 18 Nov 2025 13:41:08 GMT; server: nginx; strict-transport-security: max-age=31536000; includeSubDomains; content-type: text/plain; charset=UTF-8; last-modified: Wed, 20 Nov 2024 10:20:02 GMT; etag: W/"673db7d2-6517f"; access-control-allow-origin: *; content-encoding: gzip
[2025-11-18 08:41:11] [TRACE]   [OmnipathR] Exported RDS to `/Users/biocbuild/Library/Caches/OmnipathR/30e690cbb55dfc63b5903ab337f34ffc2f4be397-1.rds`.
[2025-11-18 08:41:11] [INFO]    [OmnipathR] Download ready [key=30e690cbb55dfc63b5903ab337f34ffc2f4be397, version=1]
[2025-11-18 08:41:11] [TRACE]   [OmnipathR] Reading JSON from `/Users/biocbuild/Library/Caches/OmnipathR/cache.json` (encoding: UTF-8).
[2025-11-18 08:41:11] [TRACE]   [OmnipathR] JSON validation successful: TRUE
[2025-11-18 08:41:11] [INFO]    [OmnipathR] Cache item `30e690cbb55dfc63b5903ab337f34ffc2f4be397` version 1: status changed from `started` to `ready`.
[2025-11-18 08:41:11] [TRACE]   [OmnipathR] Downloading by `generic_downloader`.
[2025-11-18 08:41:11] [TRACE]   [OmnipathR] Looking up in cache: `https://ftp.expasy.org/databases/uniprot/current_release/knowledgebase/complete/docs/speclist.txt`.
[2025-11-18 08:41:11] [INFO]    [OmnipathR] Cache record does not exist: `https://ftp.expasy.org/databases/uniprot/current_release/knowledgebase/complete/docs/speclist.txt`
[2025-11-18 08:41:11] [TRACE]   [OmnipathR] Could not find in cache, initiating download: `https://ftp.expasy.org/databases/uniprot/current_release/knowledgebase/complete/docs/speclist.txt`.
[2025-11-18 08:41:11] [TRACE]   [OmnipathR] Reading JSON from `/Users/biocbuild/Library/Caches/OmnipathR/cache.json` (encoding: UTF-8).
[2025-11-18 08:41:11] [TRACE]   [OmnipathR] JSON validation successful: TRUE
[2025-11-18 08:41:11] [TRACE]   [OmnipathR] Reading JSON from `/Users/biocbuild/Library/Caches/OmnipathR/cache.json` (encoding: UTF-8).
[2025-11-18 08:41:11] [TRACE]   [OmnipathR] JSON validation successful: TRUE
[2025-11-18 08:41:11] [INFO]    [OmnipathR] Cache item `56ad6544dc07a2222fa6013d8d83e6e5a35fdf33` version 1: status changed from `unknown` to `started`.
[2025-11-18 08:41:11] [TRACE]   [OmnipathR] Exporting object to RDS: `/Users/biocbuild/Library/Caches/OmnipathR/56ad6544dc07a2222fa6013d8d83e6e5a35fdf33-1.rds`.
[2025-11-18 08:41:11] [INFO]    [OmnipathR] Retrieving URL: `https://ftp.expasy.org/databases/uniprot/current_release/knowledgebase/complete/docs/speclist.txt`
[2025-11-18 08:41:11] [TRACE]   [OmnipathR] Attempt 1/3: `https://ftp.expasy.org/databases/uniprot/current_release/knowledgebase/complete/docs/speclist.txt`
[2025-11-18 08:42:25] [TRACE]   [OmnipathR] Exported RDS to `/Users/biocbuild/Library/Caches/OmnipathR/56ad6544dc07a2222fa6013d8d83e6e5a35fdf33-1.rds`.
[2025-11-18 08:42:25] [INFO]    [OmnipathR] Download ready [key=56ad6544dc07a2222fa6013d8d83e6e5a35fdf33, version=1]
[2025-11-18 08:42:25] [TRACE]   [OmnipathR] Reading JSON from `/Users/biocbuild/Library/Caches/OmnipathR/cache.json` (encoding: UTF-8).
[2025-11-18 08:42:25] [TRACE]   [OmnipathR] JSON validation successful: TRUE
[2025-11-18 08:42:25] [INFO]    [OmnipathR] Cache item `56ad6544dc07a2222fa6013d8d83e6e5a35fdf33` version 1: status changed from `started` to `ready`.
[2025-11-18 08:42:25] [INFO]    [OmnipathR] Loaded database `Ensembl and OMA organism names`.
[2025-11-18 08:42:25] [TRACE]   [OmnipathR] Organism(s): 9606
[2025-11-18 08:42:25] [TRACE]   [OmnipathR] Orthology targets: 
[2025-11-18 08:42:25] [TRACE]   [OmnipathR] Looking up in cache: `https://omnipathdb.org/interactions?genesymbols=yes&datasets=mirnatarget&organisms=9606&fields=sources,references,curation_effort&license=academic`
[2025-11-18 08:42:25] [INFO]    [OmnipathR] Cache record does not exist: `https://omnipathdb.org/interactions?genesymbols=yes&datasets=mirnatarget&organisms=9606&fields=sources,references,curation_effort&license=academic`
[2025-11-18 08:42:25] [TRACE]   [OmnipathR] Looking up in cache: `http://no-tls.omnipathdb.org/interactions?genesymbols=yes&datasets=mirnatarget&organisms=9606&fields=sources,references,curation_effort&license=academic`
[2025-11-18 08:42:25] [INFO]    [OmnipathR] Cache record does not exist: `http://no-tls.omnipathdb.org/interactions?genesymbols=yes&datasets=mirnatarget&organisms=9606&fields=sources,references,curation_effort&license=academic`
[2025-11-18 08:42:25] [TRACE]   [OmnipathR] Attempting `https://omnipathdb.org/interactions?genesymbols=yes&datasets=mirnatarget&organisms=9606&fields=sources,references,curation_effort&license=academic`
[2025-11-18 08:42:25] [INFO]    [OmnipathR] Retrieving URL: `https://omnipathdb.org/interactions?genesymbols=yes&datasets=mirnatarget&organisms=9606&fields=sources,references,curation_effort&license=academic`
[2025-11-18 08:42:25] [TRACE]   [OmnipathR] Attempt 1/3: `https://omnipathdb.org/interactions?genesymbols=yes&datasets=mirnatarget&organisms=9606&fields=sources,references,curation_effort&license=academic`
[2025-11-18 08:42:25] [TRACE]   [OmnipathR] HTTP request by `omnipath_curl`.
[2025-11-18 08:42:25] [TRACE]   [OmnipathR] Curl options: [connecttimeout=10,timeout=300,debugfunction=<function>,verbose=FALSE,tcp_keepalive=TRUE,tcp_keepintvl=10,tcp_keepidle=10,tcp_keepcnt=13,upkeep_interval_ms=30000,ssl_verifypeer=1,ssl_verifyhost=2]
[2025-11-18 08:42:26] [TRACE]   [OmnipathR] HTTP v1 GET: status 200.
[2025-11-18 08:42:26] [TRACE]   [OmnipathR] Downloaded 15.7 Kb in 0.43586s from omnipathdb.org (35.9 Kb/s); Redirect: 0s, DNS look up: 0.00173s, Connection: 0.107924s, Pretransfer: 0.222689s, First byte at: 0.435292s
[2025-11-18 08:42:26] [TRACE]   [OmnipathR] HTTP headers: HTTP/1.1 200 OK; Server: nginx; Date: Tue, 18 Nov 2025 13:42:26 GMT; Content-Type: text/plain; charset=utf-8; Transfer-Encoding: chunked; Connection: keep-alive; Cache-Control: max-age=3600; Access-Control-Allow-Origin: *; Expires: Tue, 18 Nov 2025 14:42:26 GMT; Cache-Control: public; X-Frame-Options: DENY; Content-Encoding: gzip
[2025-11-18 08:42:28] [INFO]    [OmnipathR] Successfully retrieved: `https://omnipathdb.org/interactions?genesymbols=yes&datasets=mirnatarget&organisms=9606&fields=sources,references,curation_effort&license=academic`
[2025-11-18 08:42:28] [TRACE]   [OmnipathR] Reading JSON from `/Users/biocbuild/Library/Caches/OmnipathR/cache.json` (encoding: UTF-8).
[2025-11-18 08:42:28] [TRACE]   [OmnipathR] JSON validation successful: TRUE
[2025-11-18 08:42:28] [TRACE]   [OmnipathR] Reading JSON from `/Users/biocbuild/Library/Caches/OmnipathR/cache.json` (encoding: UTF-8).
[2025-11-18 08:42:28] [TRACE]   [OmnipathR] JSON validation successful: TRUE
[2025-11-18 08:42:28] [INFO]    [OmnipathR] Cache item `41c8055b20002c0dbf8ddf485403332479b715a1` version 1: status changed from `unknown` to `started`.
[2025-11-18 08:42:28] [TRACE]   [OmnipathR] Exporting object to RDS: `/Users/biocbuild/Library/Caches/OmnipathR/41c8055b20002c0dbf8ddf485403332479b715a1-1.rds`.
[2025-11-18 08:42:28] [TRACE]   [OmnipathR] Exported RDS to `/Users/biocbuild/Library/Caches/OmnipathR/41c8055b20002c0dbf8ddf485403332479b715a1-1.rds`.
[2025-11-18 08:42:28] [INFO]    [OmnipathR] Download ready [key=41c8055b20002c0dbf8ddf485403332479b715a1, version=1]
[2025-11-18 08:42:28] [TRACE]   [OmnipathR] Reading JSON from `/Users/biocbuild/Library/Caches/OmnipathR/cache.json` (encoding: UTF-8).
[2025-11-18 08:42:28] [TRACE]   [OmnipathR] JSON validation successful: TRUE
[2025-11-18 08:42:28] [INFO]    [OmnipathR] Cache item `41c8055b20002c0dbf8ddf485403332479b715a1` version 1: status changed from `started` to `ready`.
[2025-11-18 08:42:29] [SUCCESS] [OmnipathR] Downloaded 11240 interactions.
[2025-11-18 08:42:29] [TRACE]   [OmnipathR] Processing args for OmniPath query
[2025-11-18 08:42:29] [TRACE]   [OmnipathR] Arguments for OmniPath query: [resources=TransmiR,organisms=9606,query_type=interactions,datasets=tf_mirna]
[2025-11-18 08:42:29] [TRACE]   [OmnipathR] Organism(s): 9606
[2025-11-18 08:42:29] [TRACE]   [OmnipathR] Orthology targets: 
[2025-11-18 08:42:29] [TRACE]   [OmnipathR] Reading JSON from `https://omnipathdb.org/resources` (encoding: UTF-8).
[2025-11-18 08:42:30] [TRACE]   [OmnipathR] JSON validation successful: TRUE
[2025-11-18 08:42:30] [TRACE]   [OmnipathR] Looking up in cache: `https://omnipathdb.org/interactions?genesymbols=yes&resources=TransmiR&datasets=tf_mirna&organisms=9606&fields=sources,references,curation_effort&license=academic`
[2025-11-18 08:42:30] [INFO]    [OmnipathR] Cache record does not exist: `https://omnipathdb.org/interactions?genesymbols=yes&resources=TransmiR&datasets=tf_mirna&organisms=9606&fields=sources,references,curation_effort&license=academic`
[2025-11-18 08:42:30] [TRACE]   [OmnipathR] Looking up in cache: `http://no-tls.omnipathdb.org/interactions?genesymbols=yes&resources=TransmiR&datasets=tf_mirna&organisms=9606&fields=sources,references,curation_effort&license=academic`
[2025-11-18 08:42:30] [INFO]    [OmnipathR] Cache record does not exist: `http://no-tls.omnipathdb.org/interactions?genesymbols=yes&resources=TransmiR&datasets=tf_mirna&organisms=9606&fields=sources,references,curation_effort&license=academic`
[2025-11-18 08:42:30] [TRACE]   [OmnipathR] Attempting `https://omnipathdb.org/interactions?genesymbols=yes&resources=TransmiR&datasets=tf_mirna&organisms=9606&fields=sources,references,curation_effort&license=academic`
[2025-11-18 08:42:30] [INFO]    [OmnipathR] Retrieving URL: `https://omnipathdb.org/interactions?genesymbols=yes&resources=TransmiR&datasets=tf_mirna&organisms=9606&fields=sources,references,curation_effort&license=academic`
[2025-11-18 08:42:30] [TRACE]   [OmnipathR] Attempt 1/3: `https://omnipathdb.org/interactions?genesymbols=yes&resources=TransmiR&datasets=tf_mirna&organisms=9606&fields=sources,references,curation_effort&license=academic`
[2025-11-18 08:42:30] [TRACE]   [OmnipathR] HTTP request by `omnipath_curl`.
[2025-11-18 08:42:30] [TRACE]   [OmnipathR] Curl options: [connecttimeout=10,timeout=300,debugfunction=<function>,verbose=FALSE,tcp_keepalive=TRUE,tcp_keepintvl=10,tcp_keepidle=10,tcp_keepcnt=13,upkeep_interval_ms=30000,ssl_verifypeer=1,ssl_verifyhost=2]
[2025-11-18 08:42:30] [TRACE]   [OmnipathR] HTTP v1 GET: status 200.
[2025-11-18 08:42:30] [TRACE]   [OmnipathR] Downloaded 15.7 Kb in 0.389234s from omnipathdb.org (40.2 Kb/s); Redirect: 0s, DNS look up: 0.001706s, Connection: 0.09694s, Pretransfer: 0.198477s, First byte at: 0.388191s
[2025-11-18 08:42:30] [TRACE]   [OmnipathR] HTTP headers: HTTP/1.1 200 OK; Server: nginx; Date: Tue, 18 Nov 2025 13:42:30 GMT; Content-Type: text/plain; charset=utf-8; Transfer-Encoding: chunked; Connection: keep-alive; Cache-Control: max-age=3600; Access-Control-Allow-Origin: *; Expires: Tue, 18 Nov 2025 14:42:30 GMT; Cache-Control: public; X-Frame-Options: DENY; Content-Encoding: gzip
[2025-11-18 08:42:32] [INFO]    [OmnipathR] Successfully retrieved: `https://omnipathdb.org/interactions?genesymbols=yes&resources=TransmiR&datasets=tf_mirna&organisms=9606&fields=sources,references,curation_effort&license=academic`
[2025-11-18 08:42:32] [TRACE]   [OmnipathR] Reading JSON from `/Users/biocbuild/Library/Caches/OmnipathR/cache.json` (encoding: UTF-8).
[2025-11-18 08:42:32] [TRACE]   [OmnipathR] JSON validation successful: TRUE
[2025-11-18 08:42:32] [TRACE]   [OmnipathR] Reading JSON from `/Users/biocbuild/Library/Caches/OmnipathR/cache.json` (encoding: UTF-8).
[2025-11-18 08:42:32] [TRACE]   [OmnipathR] JSON validation successful: TRUE
[2025-11-18 08:42:32] [INFO]    [OmnipathR] Cache item `2e2b496d72e1686af2bd8a26a0b6d2f96d90e687` version 1: status changed from `unknown` to `started`.
[2025-11-18 08:42:32] [TRACE]   [OmnipathR] Exporting object to RDS: `/Users/biocbuild/Library/Caches/OmnipathR/2e2b496d72e1686af2bd8a26a0b6d2f96d90e687-1.rds`.
[2025-11-18 08:42:32] [TRACE]   [OmnipathR] Exported RDS to `/Users/biocbuild/Library/Caches/OmnipathR/2e2b496d72e1686af2bd8a26a0b6d2f96d90e687-1.rds`.
[2025-11-18 08:42:32] [INFO]    [OmnipathR] Download ready [key=2e2b496d72e1686af2bd8a26a0b6d2f96d90e687, version=1]
[2025-11-18 08:42:32] [TRACE]   [OmnipathR] Reading JSON from `/Users/biocbuild/Library/Caches/OmnipathR/cache.json` (encoding: UTF-8).
[2025-11-18 08:42:32] [TRACE]   [OmnipathR] JSON validation successful: TRUE
[2025-11-18 08:42:32] [INFO]    [OmnipathR] Cache item `2e2b496d72e1686af2bd8a26a0b6d2f96d90e687` version 1: status changed from `started` to `ready`.
[2025-11-18 08:42:33] [SUCCESS] [OmnipathR] Downloaded 3788 interactions.
[2025-11-18 08:42:33] [TRACE]   [OmnipathR] Processing args for OmniPath query
[2025-11-18 08:42:33] [TRACE]   [OmnipathR] Arguments for OmniPath query: [organisms=9606,query_type=interactions,datasets=tf_target]
[2025-11-18 08:42:33] [TRACE]   [OmnipathR] Organism(s): 9606
[2025-11-18 08:42:33] [TRACE]   [OmnipathR] Orthology targets: 
[2025-11-18 08:42:33] [TRACE]   [OmnipathR] Looking up in cache: `https://omnipathdb.org/interactions?genesymbols=yes&datasets=tf_target&organisms=9606&fields=sources,references,curation_effort&license=academic`
[2025-11-18 08:42:33] [INFO]    [OmnipathR] Cache record does not exist: `https://omnipathdb.org/interactions?genesymbols=yes&datasets=tf_target&organisms=9606&fields=sources,references,curation_effort&license=academic`
[2025-11-18 08:42:33] [TRACE]   [OmnipathR] Looking up in cache: `http://no-tls.omnipathdb.org/interactions?genesymbols=yes&datasets=tf_target&organisms=9606&fields=sources,references,curation_effort&license=academic`
[2025-11-18 08:42:33] [INFO]    [OmnipathR] Cache record does not exist: `http://no-tls.omnipathdb.org/interactions?genesymbols=yes&datasets=tf_target&organisms=9606&fields=sources,references,curation_effort&license=academic`
[2025-11-18 08:42:33] [TRACE]   [OmnipathR] Attempting `https://omnipathdb.org/interactions?genesymbols=yes&datasets=tf_target&organisms=9606&fields=sources,references,curation_effort&license=academic`
[2025-11-18 08:42:33] [INFO]    [OmnipathR] Retrieving URL: `https://omnipathdb.org/interactions?genesymbols=yes&datasets=tf_target&organisms=9606&fields=sources,references,curation_effort&license=academic`
[2025-11-18 08:42:33] [TRACE]   [OmnipathR] Attempt 1/3: `https://omnipathdb.org/interactions?genesymbols=yes&datasets=tf_target&organisms=9606&fields=sources,references,curation_effort&license=academic`
[2025-11-18 08:42:33] [TRACE]   [OmnipathR] HTTP request by `omnipath_curl`.
[2025-11-18 08:42:33] [TRACE]   [OmnipathR] Curl options: [connecttimeout=10,timeout=300,debugfunction=<function>,verbose=FALSE,tcp_keepalive=TRUE,tcp_keepintvl=10,tcp_keepidle=10,tcp_keepcnt=13,upkeep_interval_ms=30000,ssl_verifypeer=1,ssl_verifyhost=2]
[2025-11-18 08:42:33] [TRACE]   [OmnipathR] HTTP v1 GET: status 200.
[2025-11-18 08:42:34] [TRACE]   [OmnipathR] Downloaded 15.7 Kb in 0.432856s from omnipathdb.org (36.2 Kb/s); Redirect: 0s, DNS look up: 0.001688s, Connection: 0.106645s, Pretransfer: 0.224128s, First byte at: 0.432364s
[2025-11-18 08:42:34] [TRACE]   [OmnipathR] HTTP headers: HTTP/1.1 200 OK; Server: nginx; Date: Tue, 18 Nov 2025 13:42:33 GMT; Content-Type: text/plain; charset=utf-8; Transfer-Encoding: chunked; Connection: keep-alive; Cache-Control: max-age=3600; Access-Control-Allow-Origin: *; Expires: Tue, 18 Nov 2025 14:42:33 GMT; Cache-Control: public; X-Frame-Options: DENY; Content-Encoding: gzip
[2025-11-18 08:42:36] [INFO]    [OmnipathR] Successfully retrieved: `https://omnipathdb.org/interactions?genesymbols=yes&datasets=tf_target&organisms=9606&fields=sources,references,curation_effort&license=academic`
[2025-11-18 08:42:36] [TRACE]   [OmnipathR] Reading JSON from `/Users/biocbuild/Library/Caches/OmnipathR/cache.json` (encoding: UTF-8).
[2025-11-18 08:42:36] [TRACE]   [OmnipathR] JSON validation successful: TRUE
[2025-11-18 08:42:36] [TRACE]   [OmnipathR] Reading JSON from `/Users/biocbuild/Library/Caches/OmnipathR/cache.json` (encoding: UTF-8).
[2025-11-18 08:42:36] [TRACE]   [OmnipathR] JSON validation successful: TRUE
[2025-11-18 08:42:36] [INFO]    [OmnipathR] Cache item `6ed1bdfc7230bcb2925f9cb360e0b77190c82237` version 1: status changed from `unknown` to `started`.
[2025-11-18 08:42:36] [TRACE]   [OmnipathR] Exporting object to RDS: `/Users/biocbuild/Library/Caches/OmnipathR/6ed1bdfc7230bcb2925f9cb360e0b77190c82237-1.rds`.
[2025-11-18 08:42:36] [TRACE]   [OmnipathR] Exported RDS to `/Users/biocbuild/Library/Caches/OmnipathR/6ed1bdfc7230bcb2925f9cb360e0b77190c82237-1.rds`.
[2025-11-18 08:42:36] [INFO]    [OmnipathR] Download ready [key=6ed1bdfc7230bcb2925f9cb360e0b77190c82237, version=1]
[2025-11-18 08:42:36] [TRACE]   [OmnipathR] Reading JSON from `/Users/biocbuild/Library/Caches/OmnipathR/cache.json` (encoding: UTF-8).
[2025-11-18 08:42:36] [TRACE]   [OmnipathR] JSON validation successful: TRUE
[2025-11-18 08:42:36] [INFO]    [OmnipathR] Cache item `6ed1bdfc7230bcb2925f9cb360e0b77190c82237` version 1: status changed from `started` to `ready`.
[2025-11-18 08:42:43] [SUCCESS] [OmnipathR] Downloaded 69655 interactions.
'select()' returned many:many mapping between keys and columns
Generating interactions
response_var and covariates have common colnames, adding '_cov' to covariates
colnames
response_var and covariates have common colnames, adding '_cov' to covariates
colnames
response_var and covariates have common colnames, adding '_cov' to covariates
colnames
response_var and covariates have common colnames, adding '_cov' to covariates
colnames
Generating interactions
response_var and covariates have common colnames, adding '_cov' to covariates
colnames
response_var and covariates have common colnames, adding '_cov' to covariates
colnames
response_var and covariates have common colnames, adding '_cov' to covariates
colnames
Generating interactions
Generating interactions
response_var and covariates have common colnames, adding '_cov' to covariates
colnames
response_var and covariates have common colnames, adding '_cov' to covariates
colnames
Generating interactions
response_var and covariates have common colnames, adding '_cov' to covariates
colnames
Generating interactions
response_var and covariates have common colnames, adding '_cov' to covariates
colnames
Generating interactions
response_var and covariates have common colnames, adding '_cov' to covariates
colnames
Generating interactions
response_var and covariates have common colnames, adding '_cov' to covariates
colnames
Generating interactions
response_var and covariates have common colnames, adding '_cov' to covariates
colnames
Generating interactions
response_var and covariates have common colnames, adding '_cov' to covariates
colnames
Generating interactions
response_var and covariates have common colnames, adding '_cov' to covariates
colnames
Generating interactions
response_var and covariates have common colnames, adding '_cov' to covariates
colnames
Generating interactions
Generating interactions
'select()' returned many:many mapping between keys and columns
[ FAIL 0 | WARN 3 | SKIP 0 | PASS 201 ]

[ FAIL 0 | WARN 3 | SKIP 0 | PASS 201 ]
> 
> proc.time()
   user  system elapsed 
405.573  62.930 343.666 

Example timings

gINTomics.Rcheck/gINTomics-Ex.timings

nameusersystemelapsed
create_multiassay1.2570.1791.496
dot_plotly1.0470.1641.239
extract_model_res21.328 2.26424.547
mirna_hsa0.0350.0090.047
mmultiassay_ov0.1660.0130.197
plot_chr_distribution1.0000.1591.319
plot_heatmap1.0200.1581.240
plot_network0.9940.1541.222
plot_ridge18.342 1.92021.284
plot_tf_distribution1.0090.1551.262
plot_venn0.9920.1521.222
plot_volcano 87.335 9.249132.583
run_cnv_integration1.9920.3332.491
run_genomic_enrich1.0340.1551.285
run_genomic_integration2.3210.3802.901
run_met_integration2.0310.3352.560
run_multiomics12.893 1.16418.709
run_shiny1.0470.1562.116
run_tf_enrich1.0780.1622.212
run_tf_integration 8.418 0.57413.615