| Back to Multiple platform build/check report for BioC 3.22: simplified long |
|
This page was generated on 2025-10-24 12:03 -0400 (Fri, 24 Oct 2025).
| Hostname | OS | Arch (*) | R version | Installed pkgs |
|---|---|---|---|---|
| nebbiolo2 | Linux (Ubuntu 24.04.3 LTS) | x86_64 | 4.5.1 Patched (2025-08-23 r88802) -- "Great Square Root" | 4898 |
| lconway | macOS 12.7.6 Monterey | x86_64 | 4.5.1 Patched (2025-09-10 r88807) -- "Great Square Root" | 4688 |
| kjohnson3 | macOS 13.7.7 Ventura | arm64 | 4.5.1 Patched (2025-09-10 r88807) -- "Great Square Root" | 4634 |
| taishan | Linux (openEuler 24.03 LTS) | aarch64 | 4.5.0 (2025-04-11) -- "How About a Twenty-Six" | 4658 |
| Click on any hostname to see more info about the system (e.g. compilers) (*) as reported by 'uname -p', except on Windows and Mac OS X | ||||
| Package 734/2359 | Hostname | OS / Arch | INSTALL | BUILD | CHECK | BUILD BIN | ||||||||
| fgsea 1.35.8 (landing page) Alexey Sergushichev
| nebbiolo2 | Linux (Ubuntu 24.04.3 LTS) / x86_64 | OK | OK | OK | |||||||||
| lconway | macOS 12.7.6 Monterey / x86_64 | OK | OK | OK | OK | |||||||||
| kjohnson3 | macOS 13.7.7 Ventura / arm64 | OK | OK | OK | OK | |||||||||
| taishan | Linux (openEuler 24.03 LTS) / aarch64 | OK | OK | NA | ||||||||||
|
To the developers/maintainers of the fgsea package: - Allow up to 24 hours (and sometimes 48 hours) for your latest push to git@git.bioconductor.org:packages/fgsea.git to reflect on this report. See Troubleshooting Build Report for more information. - Use the following Renviron settings to reproduce errors and warnings. - If 'R CMD check' started to fail recently on the Linux builder(s) over a missing dependency, add the missing dependency to 'Suggests:' in your DESCRIPTION file. See Renviron.bioc for more information. |
| Package: fgsea |
| Version: 1.35.8 |
| Command: /home/biocbuild/bbs-3.22-bioc/R/bin/R CMD INSTALL fgsea |
| StartedAt: 2025-10-23 15:08:40 -0400 (Thu, 23 Oct 2025) |
| EndedAt: 2025-10-23 15:09:22 -0400 (Thu, 23 Oct 2025) |
| EllapsedTime: 42.0 seconds |
| RetCode: 0 |
| Status: OK |
##############################################################################
##############################################################################
###
### Running command:
###
### /home/biocbuild/bbs-3.22-bioc/R/bin/R CMD INSTALL fgsea
###
##############################################################################
##############################################################################
* installing to library ‘/home/biocbuild/bbs-3.22-bioc/R/site-library’
* installing *source* package ‘fgsea’ ...
** this is package ‘fgsea’ version ‘1.35.8’
** using staged installation
** libs
using C++ compiler: ‘g++ (Ubuntu 13.3.0-6ubuntu2~24.04) 13.3.0’
g++ -std=gnu++17 -I"/home/biocbuild/bbs-3.22-bioc/R/include" -DNDEBUG -I'/home/biocbuild/bbs-3.22-bioc/R/site-library/Rcpp/include' -I'/home/biocbuild/bbs-3.22-bioc/R/site-library/BH/include' -I/usr/local/include -fpic -g -O2 -Wall -Werror=format-security -c RcppExports.cpp -o RcppExports.o
g++ -std=gnu++17 -I"/home/biocbuild/bbs-3.22-bioc/R/include" -DNDEBUG -I'/home/biocbuild/bbs-3.22-bioc/R/site-library/Rcpp/include' -I'/home/biocbuild/bbs-3.22-bioc/R/site-library/BH/include' -I/usr/local/include -fpic -g -O2 -Wall -Werror=format-security -c ScoreCalculation.cpp -o ScoreCalculation.o
g++ -std=gnu++17 -I"/home/biocbuild/bbs-3.22-bioc/R/include" -DNDEBUG -I'/home/biocbuild/bbs-3.22-bioc/R/site-library/Rcpp/include' -I'/home/biocbuild/bbs-3.22-bioc/R/site-library/BH/include' -I/usr/local/include -fpic -g -O2 -Wall -Werror=format-security -c ScoreRuler.cpp -o ScoreRuler.o
ScoreRuler.cpp: In member function ‘void ScoreRuler::extend(double, int, double)’:
ScoreRuler.cpp:76:31: warning: comparison of integer expressions of different signedness: ‘int’ and ‘unsigned int’ [-Wsign-compare]
76 | for (moves = 0; moves < sampleSize * genesetSize;) {
| ~~~~~~^~~~~~~~~~~~~~~~~~~~~~~~~~
g++ -std=gnu++17 -I"/home/biocbuild/bbs-3.22-bioc/R/include" -DNDEBUG -I'/home/biocbuild/bbs-3.22-bioc/R/site-library/Rcpp/include' -I'/home/biocbuild/bbs-3.22-bioc/R/site-library/BH/include' -I/usr/local/include -fpic -g -O2 -Wall -Werror=format-security -c esCalculation.cpp -o esCalculation.o
g++ -std=gnu++17 -I"/home/biocbuild/bbs-3.22-bioc/R/include" -DNDEBUG -I'/home/biocbuild/bbs-3.22-bioc/R/site-library/Rcpp/include' -I'/home/biocbuild/bbs-3.22-bioc/R/site-library/BH/include' -I/usr/local/include -fpic -g -O2 -Wall -Werror=format-security -c fastGSEA.cpp -o fastGSEA.o
fastGSEA.cpp: In function ‘Rcpp::NumericVector calcGseaStatBatchCpp(const Rcpp::NumericVector&, const Rcpp::List&, const Rcpp::IntegerVector&)’:
fastGSEA.cpp:446:27: warning: comparison of integer expressions of different signedness: ‘int’ and ‘std::vector<int>::size_type’ {aka ‘long unsigned int’} [-Wsign-compare]
446 | for (int j = 0; j < S.size(); ++j) {
| ~~^~~~~~~~~~
g++ -std=gnu++17 -I"/home/biocbuild/bbs-3.22-bioc/R/include" -DNDEBUG -I'/home/biocbuild/bbs-3.22-bioc/R/site-library/Rcpp/include' -I'/home/biocbuild/bbs-3.22-bioc/R/site-library/BH/include' -I/usr/local/include -fpic -g -O2 -Wall -Werror=format-security -c fgseaMultilevel.cpp -o fgseaMultilevel.o
fgseaMultilevel.cpp: In function ‘Rcpp::DataFrame fgseaMultilevelCpp(const Rcpp::NumericVector&, const Rcpp::NumericVector&, int, int, int, double, bool)’:
fgseaMultilevel.cpp:10:23: warning: comparison of integer expressions of different signedness: ‘int’ and ‘std::vector<double>::size_type’ {aka ‘long unsigned int’} [-Wsign-compare]
10 | for (int i = 0; i < posRanks.size(); i++) {
| ~~^~~~~~~~~~~~~~~~~
g++ -std=gnu++17 -I"/home/biocbuild/bbs-3.22-bioc/R/include" -DNDEBUG -I'/home/biocbuild/bbs-3.22-bioc/R/site-library/Rcpp/include' -I'/home/biocbuild/bbs-3.22-bioc/R/site-library/BH/include' -I/usr/local/include -fpic -g -O2 -Wall -Werror=format-security -c fgseaMultilevelSupplement.cpp -o fgseaMultilevelSupplement.o
fgseaMultilevelSupplement.cpp: In member function ‘void EsRuler::duplicateSamples()’:
fgseaMultilevelSupplement.cpp:40:37: warning: comparison of integer expressions of different signedness: ‘int’ and ‘const unsigned int’ [-Wsign-compare]
40 | for (int sampleId = 0; sampleId < sampleSize; sampleId++) {
| ~~~~~~~~~^~~~~~~~~~~~
fgseaMultilevelSupplement.cpp:50:41: warning: comparison of integer expressions of different signedness: ‘int’ and ‘const unsigned int’ [-Wsign-compare]
50 | for (int sampleId = 0; 2 * sampleId < sampleSize; sampleId++) {
| ~~~~~~~~~~~~~^~~~~~~~~~~~
fgseaMultilevelSupplement.cpp:59:41: warning: comparison of integer expressions of different signedness: ‘int’ and ‘unsigned int’ [-Wsign-compare]
59 | for (int sampleId = 0; 2 * sampleId < sampleSize - 2; sampleId++) {
| ~~~~~~~~~~~~~^~~~~~~~~~~~~~~~
fgseaMultilevelSupplement.cpp: In member function ‘void EsRuler::extend(double, int, double)’:
fgseaMultilevelSupplement.cpp:73:37: warning: comparison of integer expressions of different signedness: ‘int’ and ‘const unsigned int’ [-Wsign-compare]
73 | for (int sampleId = 0; sampleId < sampleSize; sampleId++) {
| ~~~~~~~~~^~~~~~~~~~~~
fgseaMultilevelSupplement.cpp:77:16: warning: unused variable ‘currentES’ [-Wunused-variable]
77 | double currentES = calcES(ranks, currentSamples[sampleId]);
| ^~~~~~~~~
fgseaMultilevelSupplement.cpp:90:31: warning: comparison of integer expressions of different signedness: ‘int’ and ‘const unsigned int’ [-Wsign-compare]
90 | for (int j = 0; j < sampleSize; ++j) {
| ~~^~~~~~~~~~~~
fgseaMultilevelSupplement.cpp:97:27: warning: comparison of integer expressions of different signedness: ‘int’ and ‘const unsigned int’ [-Wsign-compare]
97 | for (int i = 0; i < sampleSize; ++i) {
| ~~^~~~~~~~~~~~
fgseaMultilevelSupplement.cpp:112:35: warning: comparison of integer expressions of different signedness: ‘int’ and ‘unsigned int’ [-Wsign-compare]
112 | for (int moves = 0; moves < sampleSize * pathwaySize;) {
| ~~~~~~^~~~~~~~~~~~~~~~~~~~~~~~~~
fgseaMultilevelSupplement.cpp:113:45: warning: comparison of integer expressions of different signedness: ‘int’ and ‘const unsigned int’ [-Wsign-compare]
113 | for (int sampleId = 0; sampleId < sampleSize; sampleId++) {
| ~~~~~~~~~^~~~~~~~~~~~
fgseaMultilevelSupplement.cpp:118:27: warning: comparison of integer expressions of different signedness: ‘int’ and ‘const unsigned int’ [-Wsign-compare]
118 | for (int i = 0; i < sampleSize; ++i) {
| ~~^~~~~~~~~~~~
fgseaMultilevelSupplement.cpp: In member function ‘int EsRuler::perturbate(const std::vector<double>&, int, SampleChunks&, double, random_engine_t&)’:
fgseaMultilevelSupplement.cpp:270:14: warning: unused variable ‘fl’ [-Wunused-variable]
270 | bool fl = false;
| ^~
g++ -std=gnu++17 -I"/home/biocbuild/bbs-3.22-bioc/R/include" -DNDEBUG -I'/home/biocbuild/bbs-3.22-bioc/R/site-library/Rcpp/include' -I'/home/biocbuild/bbs-3.22-bioc/R/site-library/BH/include' -I/usr/local/include -fpic -g -O2 -Wall -Werror=format-security -c geseca.cpp -o geseca.o
geseca.cpp: In function ‘Rcpp::List gesecaCpp(const Rcpp::NumericMatrix&, const Rcpp::NumericVector&, unsigned int, unsigned int, int, double)’:
geseca.cpp:9:28: warning: comparison of integer expressions of different signedness: ‘unsigned int’ and ‘int’ [-Wsign-compare]
9 | for (unsigned i = 0; i < E.nrow(); i++){
| ~~^~~~~~~~~~
g++ -std=gnu++17 -I"/home/biocbuild/bbs-3.22-bioc/R/include" -DNDEBUG -I'/home/biocbuild/bbs-3.22-bioc/R/site-library/Rcpp/include' -I'/home/biocbuild/bbs-3.22-bioc/R/site-library/BH/include' -I/usr/local/include -fpic -g -O2 -Wall -Werror=format-security -c util.cpp -o util.o
g++ -std=gnu++17 -shared -L/home/biocbuild/bbs-3.22-bioc/R/lib -L/usr/local/lib -o fgsea.so RcppExports.o ScoreCalculation.o ScoreRuler.o esCalculation.o fastGSEA.o fgseaMultilevel.o fgseaMultilevelSupplement.o geseca.o util.o -L/home/biocbuild/bbs-3.22-bioc/R/lib -lR
installing to /home/biocbuild/bbs-3.22-bioc/R/site-library/00LOCK-fgsea/00new/fgsea/libs
** R
** data
*** moving datasets to lazyload DB
** inst
** byte-compile and prepare package for lazy loading
** help
*** installing help indices
** building package indices
** installing vignettes
** testing if installed package can be loaded from temporary location
** checking absolute paths in shared objects and dynamic libraries
** testing if installed package can be loaded from final location
** testing if installed package keeps a record of temporary installation path
* DONE (fgsea)