| Back to Multiple platform build/check report for BioC 3.22: simplified long |
|
This page was generated on 2025-10-25 12:03 -0400 (Sat, 25 Oct 2025).
| Hostname | OS | Arch (*) | R version | Installed pkgs |
|---|---|---|---|---|
| nebbiolo2 | Linux (Ubuntu 24.04.3 LTS) | x86_64 | 4.5.1 Patched (2025-08-23 r88802) -- "Great Square Root" | 4901 |
| lconway | macOS 12.7.6 Monterey | x86_64 | 4.5.1 Patched (2025-09-10 r88807) -- "Great Square Root" | 4691 |
| kjohnson3 | macOS 13.7.7 Ventura | arm64 | 4.5.1 Patched (2025-09-10 r88807) -- "Great Square Root" | 4637 |
| taishan | Linux (openEuler 24.03 LTS) | aarch64 | 4.5.0 (2025-04-11) -- "How About a Twenty-Six" | 4658 |
| Click on any hostname to see more info about the system (e.g. compilers) (*) as reported by 'uname -p', except on Windows and Mac OS X | ||||
| Package 679/2361 | Hostname | OS / Arch | INSTALL | BUILD | CHECK | BUILD BIN | ||||||||
| epigenomix 1.49.0 (landing page) Hans-Ulrich Klein
| nebbiolo2 | Linux (Ubuntu 24.04.3 LTS) / x86_64 | OK | OK | OK | |||||||||
| lconway | macOS 12.7.6 Monterey / x86_64 | OK | OK | OK | OK | |||||||||
| kjohnson3 | macOS 13.7.7 Ventura / arm64 | OK | OK | OK | OK | |||||||||
| taishan | Linux (openEuler 24.03 LTS) / aarch64 | OK | NA | NA | ||||||||||
|
To the developers/maintainers of the epigenomix package: - Allow up to 24 hours (and sometimes 48 hours) for your latest push to git@git.bioconductor.org:packages/epigenomix.git to reflect on this report. See Troubleshooting Build Report for more information. - Use the following Renviron settings to reproduce errors and warnings. - If 'R CMD check' started to fail recently on the Linux builder(s) over a missing dependency, add the missing dependency to 'Suggests:' in your DESCRIPTION file. See Renviron.bioc for more information. |
| Package: epigenomix |
| Version: 1.49.0 |
| Command: /home/biocbuild/bbs-3.22-bioc/R/bin/R CMD check --install=check:epigenomix.install-out.txt --library=/home/biocbuild/bbs-3.22-bioc/R/site-library --timings epigenomix_1.49.0.tar.gz |
| StartedAt: 2025-10-24 23:28:02 -0400 (Fri, 24 Oct 2025) |
| EndedAt: 2025-10-24 23:34:20 -0400 (Fri, 24 Oct 2025) |
| EllapsedTime: 378.4 seconds |
| RetCode: 0 |
| Status: OK |
| CheckDir: epigenomix.Rcheck |
| Warnings: 0 |
##############################################################################
##############################################################################
###
### Running command:
###
### /home/biocbuild/bbs-3.22-bioc/R/bin/R CMD check --install=check:epigenomix.install-out.txt --library=/home/biocbuild/bbs-3.22-bioc/R/site-library --timings epigenomix_1.49.0.tar.gz
###
##############################################################################
##############################################################################
* using log directory ‘/home/biocbuild/bbs-3.22-bioc/meat/epigenomix.Rcheck’
* using R version 4.5.1 Patched (2025-08-23 r88802)
* using platform: x86_64-pc-linux-gnu
* R was compiled by
gcc (Ubuntu 13.3.0-6ubuntu2~24.04) 13.3.0
GNU Fortran (Ubuntu 13.3.0-6ubuntu2~24.04) 13.3.0
* running under: Ubuntu 24.04.3 LTS
* using session charset: UTF-8
* checking for file ‘epigenomix/DESCRIPTION’ ... OK
* checking extension type ... Package
* this is package ‘epigenomix’ version ‘1.49.0’
* checking package namespace information ... OK
* checking package dependencies ... OK
* checking if this is a source package ... OK
* checking if there is a namespace ... OK
* checking for hidden files and directories ... OK
* checking for portable file names ... OK
* checking for sufficient/correct file permissions ... OK
* checking whether package ‘epigenomix’ can be installed ... OK
* checking installed package size ... OK
* checking package directory ... OK
* checking ‘build’ directory ... OK
* checking DESCRIPTION meta-information ... OK
* checking top-level files ... OK
* checking for left-over files ... OK
* checking index information ... OK
* checking package subdirectories ... OK
* checking code files for non-ASCII characters ... OK
* checking R files for syntax errors ... OK
* checking whether the package can be loaded ... OK
* checking whether the package can be loaded with stated dependencies ... OK
* checking whether the package can be unloaded cleanly ... OK
* checking whether the namespace can be loaded with stated dependencies ... OK
* checking whether the namespace can be unloaded cleanly ... OK
* checking loading without being on the library search path ... OK
* checking dependencies in R code ... OK
* checking S3 generic/method consistency ... OK
* checking replacement functions ... OK
* checking foreign function calls ... OK
* checking R code for possible problems ... OK
* checking Rd files ... NOTE
checkRd: (-1) MixModel-class.Rd:77-81: Lost braces in \enumerate; meant \describe ?
checkRd: (-1) MixModel-class.Rd:85-86: Lost braces in \enumerate; meant \describe ?
checkRd: (-1) MixModel-class.Rd:87: Lost braces in \enumerate; meant \describe ?
checkRd: (-1) MixModel-class.Rd:88-89: Lost braces in \enumerate; meant \describe ?
checkRd: (-1) MixModelBayes-class.Rd:55: Lost braces in \enumerate; meant \describe ?
checkRd: (-1) MixModelBayes-class.Rd:56-58: Lost braces in \enumerate; meant \describe ?
checkRd: (-1) MixModelBayes-class.Rd:59-60: Lost braces in \enumerate; meant \describe ?
checkRd: (-1) MixModelBayes-class.Rd:65-66: Lost braces in \enumerate; meant \describe ?
checkRd: (-1) MixModelBayes-class.Rd:67-68: Lost braces in \enumerate; meant \describe ?
checkRd: (-1) MixModelBayes-class.Rd:69-70: Lost braces in \enumerate; meant \describe ?
checkRd: (-1) MixModelBayes-class.Rd:71-72: Lost braces in \enumerate; meant \describe ?
checkRd: (-1) MixModelML-class.Rd:51-53: Lost braces in \enumerate; meant \describe ?
checkRd: (-1) MixModelML-class.Rd:58: Lost braces in \enumerate; meant \describe ?
checkRd: (-1) MixModelML-class.Rd:59-60: Lost braces in \enumerate; meant \describe ?
checkRd: (-1) MixModelML-class.Rd:61: Lost braces in \enumerate; meant \describe ?
checkRd: (-1) normalize.Rd:50-55: Lost braces in \enumerate; meant \describe ?
checkRd: (-1) normalize.Rd:56-60: Lost braces in \enumerate; meant \describe ?
checkRd: (-1) normalize.Rd:61-63: Lost braces in \enumerate; meant \describe ?
checkRd: (-1) normalize.Rd:64-72: Lost braces in \enumerate; meant \describe ?
checkRd: (-1) normalizeChIP.Rd:35-38: Lost braces in \enumerate; meant \describe ?
checkRd: (-1) normalizeChIP.Rd:39-46: Lost braces in \enumerate; meant \describe ?
checkRd: (-1) normalizeChIP.Rd:47-51: Lost braces in \enumerate; meant \describe ?
checkRd: (-1) normalizeChIP.Rd:52-53: Lost braces in \enumerate; meant \describe ?
* checking Rd metadata ... OK
* checking Rd cross-references ... NOTE
Found the following Rd file(s) with Rd \link{} targets missing package
anchors:
ChIPseqSet-class.Rd: RangedSummarizedExperiment-class
calculateCrossCorrelation.Rd: GRanges, GRanges-class
eSet.Rd: ExpressionSet-class
integrateData.Rd: ExpressionSet
mappedReads.Rd: GRangesList-class, GRanges-class
normalize.Rd: ExpressionSet-class
summarizeReads.Rd: countOverlaps
Please provide package anchors for all Rd \link{} targets not in the
package itself and the base packages.
* checking for missing documentation entries ... OK
* checking for code/documentation mismatches ... OK
* checking Rd \usage sections ... OK
* checking Rd contents ... OK
* checking for unstated dependencies in examples ... OK
* checking contents of ‘data’ directory ... OK
* checking data for non-ASCII characters ... OK
* checking data for ASCII and uncompressed saves ... OK
* checking files in ‘vignettes’ ... OK
* checking examples ... OK
Examples with CPU (user + system) or elapsed time > 5s
user system elapsed
plotChains 23.677 0.109 24.044
bayesMixModel 21.330 0.499 22.378
mlMixModel 20.309 0.382 23.783
* checking for unstated dependencies in vignettes ... OK
* checking package vignettes ... OK
* checking re-building of vignette outputs ... OK
* checking PDF version of manual ... OK
* DONE
Status: 2 NOTEs
See
‘/home/biocbuild/bbs-3.22-bioc/meat/epigenomix.Rcheck/00check.log’
for details.
epigenomix.Rcheck/00install.out
############################################################################## ############################################################################## ### ### Running command: ### ### /home/biocbuild/bbs-3.22-bioc/R/bin/R CMD INSTALL epigenomix ### ############################################################################## ############################################################################## * installing to library ‘/home/biocbuild/bbs-3.22-bioc/R/site-library’ * installing *source* package ‘epigenomix’ ... ** this is package ‘epigenomix’ version ‘1.49.0’ ** using staged installation ** R ** data ** inst ** byte-compile and prepare package for lazy loading ** help *** installing help indices ** building package indices ** installing vignettes ** testing if installed package can be loaded from temporary location ** testing if installed package can be loaded from final location ** testing if installed package keeps a record of temporary installation path * DONE (epigenomix)
epigenomix.Rcheck/epigenomix-Ex.timings
| name | user | system | elapsed | |
| ChIPseqSet-class | 0.001 | 0.000 | 0.001 | |
| MixModel-class | 0 | 0 | 0 | |
| MixModelBayes-class | 0.001 | 0.000 | 0.001 | |
| MixModelML-class | 0 | 0 | 0 | |
| MixtureComponent-class | 0 | 0 | 0 | |
| bayesMixModel | 21.330 | 0.499 | 22.378 | |
| calculateCrossCorrelation | 1.529 | 0.096 | 2.584 | |
| eSet | 0.017 | 0.004 | 0.020 | |
| fpkm | 0.047 | 0.006 | 0.053 | |
| getAlignmentQuality | 0 | 0 | 0 | |
| integrateData | 0.274 | 0.045 | 0.318 | |
| mappedReads | 0.053 | 0.006 | 0.059 | |
| matchProbeToPromoter | 0.562 | 0.015 | 0.709 | |
| mlMixModel | 20.309 | 0.382 | 23.783 | |
| normalize | 0.260 | 0.004 | 0.265 | |
| normalizeChIP | 0.170 | 0.002 | 0.171 | |
| plotChains | 23.677 | 0.109 | 24.044 | |
| plotClassification | 0.024 | 0.001 | 0.026 | |
| plotComponents | 0.034 | 0.002 | 0.036 | |
| summarizeReads | 0.286 | 0.011 | 0.296 | |
| transToTSS | 0.002 | 0.000 | 0.002 | |