| Back to Multiple platform build/check report for BioC 3.22: simplified long |
|
This page was generated on 2025-10-25 12:03 -0400 (Sat, 25 Oct 2025).
| Hostname | OS | Arch (*) | R version | Installed pkgs |
|---|---|---|---|---|
| nebbiolo2 | Linux (Ubuntu 24.04.3 LTS) | x86_64 | 4.5.1 Patched (2025-08-23 r88802) -- "Great Square Root" | 4901 |
| lconway | macOS 12.7.6 Monterey | x86_64 | 4.5.1 Patched (2025-09-10 r88807) -- "Great Square Root" | 4691 |
| kjohnson3 | macOS 13.7.7 Ventura | arm64 | 4.5.1 Patched (2025-09-10 r88807) -- "Great Square Root" | 4637 |
| taishan | Linux (openEuler 24.03 LTS) | aarch64 | 4.5.0 (2025-04-11) -- "How About a Twenty-Six" | 4658 |
| Click on any hostname to see more info about the system (e.g. compilers) (*) as reported by 'uname -p', except on Windows and Mac OS X | ||||
| Package 591/2361 | Hostname | OS / Arch | INSTALL | BUILD | CHECK | BUILD BIN | ||||||||
| diffUTR 1.17.0 (landing page) Pierre-Luc Germain
| nebbiolo2 | Linux (Ubuntu 24.04.3 LTS) / x86_64 | OK | OK | OK | |||||||||
| lconway | macOS 12.7.6 Monterey / x86_64 | OK | OK | OK | OK | |||||||||
| kjohnson3 | macOS 13.7.7 Ventura / arm64 | OK | OK | OK | OK | |||||||||
| taishan | Linux (openEuler 24.03 LTS) / aarch64 | OK | NA | NA | ||||||||||
|
To the developers/maintainers of the diffUTR package: - Allow up to 24 hours (and sometimes 48 hours) for your latest push to git@git.bioconductor.org:packages/diffUTR.git to reflect on this report. See Troubleshooting Build Report for more information. - Use the following Renviron settings to reproduce errors and warnings. - If 'R CMD check' started to fail recently on the Linux builder(s) over a missing dependency, add the missing dependency to 'Suggests:' in your DESCRIPTION file. See Renviron.bioc for more information. |
| Package: diffUTR |
| Version: 1.17.0 |
| Command: /home/biocbuild/bbs-3.22-bioc/R/bin/R CMD check --install=check:diffUTR.install-out.txt --library=/home/biocbuild/bbs-3.22-bioc/R/site-library --timings diffUTR_1.17.0.tar.gz |
| StartedAt: 2025-10-24 23:08:34 -0400 (Fri, 24 Oct 2025) |
| EndedAt: 2025-10-24 23:14:25 -0400 (Fri, 24 Oct 2025) |
| EllapsedTime: 351.3 seconds |
| RetCode: 0 |
| Status: OK |
| CheckDir: diffUTR.Rcheck |
| Warnings: 0 |
##############################################################################
##############################################################################
###
### Running command:
###
### /home/biocbuild/bbs-3.22-bioc/R/bin/R CMD check --install=check:diffUTR.install-out.txt --library=/home/biocbuild/bbs-3.22-bioc/R/site-library --timings diffUTR_1.17.0.tar.gz
###
##############################################################################
##############################################################################
* using log directory ‘/home/biocbuild/bbs-3.22-bioc/meat/diffUTR.Rcheck’
* using R version 4.5.1 Patched (2025-08-23 r88802)
* using platform: x86_64-pc-linux-gnu
* R was compiled by
gcc (Ubuntu 13.3.0-6ubuntu2~24.04) 13.3.0
GNU Fortran (Ubuntu 13.3.0-6ubuntu2~24.04) 13.3.0
* running under: Ubuntu 24.04.3 LTS
* using session charset: UTF-8
* checking for file ‘diffUTR/DESCRIPTION’ ... OK
* checking extension type ... Package
* this is package ‘diffUTR’ version ‘1.17.0’
* package encoding: UTF-8
* checking package namespace information ... OK
* checking package dependencies ... OK
* checking if this is a source package ... OK
* checking if there is a namespace ... OK
* checking for hidden files and directories ... OK
* checking for portable file names ... OK
* checking for sufficient/correct file permissions ... OK
* checking whether package ‘diffUTR’ can be installed ... OK
* checking installed package size ... OK
* checking package directory ... OK
* checking ‘build’ directory ... OK
* checking DESCRIPTION meta-information ... OK
* checking top-level files ... OK
* checking for left-over files ... OK
* checking index information ... OK
* checking package subdirectories ... OK
* checking code files for non-ASCII characters ... OK
* checking R files for syntax errors ... OK
* checking whether the package can be loaded ... OK
* checking whether the package can be loaded with stated dependencies ... OK
* checking whether the package can be unloaded cleanly ... OK
* checking whether the namespace can be loaded with stated dependencies ... OK
* checking whether the namespace can be unloaded cleanly ... OK
* checking loading without being on the library search path ... OK
* checking dependencies in R code ... OK
* checking S3 generic/method consistency ... OK
* checking replacement functions ... OK
* checking foreign function calls ... OK
* checking R code for possible problems ... NOTE
deuBinPlot: no visible binding for global variable 'x_start'
deuBinPlot: no visible binding for global variable 'x_end'
deuBinPlot: no visible binding for global variable 'y_start'
deuBinPlot: no visible binding for global variable 'y_end'
plotTopGenes: no visible binding for global variable 'sizeScore'
plotTopGenes: no visible binding for global variable 'q.value'
plotTopGenes: no visible binding for global variable 'density.ratio'
plotTopGenes: no visible binding for global variable 'geneMeanDensity'
plotTopGenes: no visible binding for global variable 'w.abs.coef'
plotTopGenes: no visible binding for global variable 'tmp'
plotTopGenes: no visible binding for global variable 'name'
Undefined global functions or variables:
density.ratio geneMeanDensity name q.value sizeScore tmp w.abs.coef
x_end x_start y_end y_start
* checking Rd files ... OK
* checking Rd metadata ... OK
* checking Rd cross-references ... OK
* checking for missing documentation entries ... OK
* checking for code/documentation mismatches ... OK
* checking Rd \usage sections ... OK
* checking Rd contents ... OK
* checking for unstated dependencies in examples ... OK
* checking contents of ‘data’ directory ... OK
* checking data for non-ASCII characters ... OK
* checking data for ASCII and uncompressed saves ... OK
* checking files in ‘vignettes’ ... OK
* checking examples ... OK
* checking for unstated dependencies in vignettes ... OK
* checking package vignettes ... OK
* checking re-building of vignette outputs ... OK
* checking PDF version of manual ... OK
* DONE
Status: 1 NOTE
See
‘/home/biocbuild/bbs-3.22-bioc/meat/diffUTR.Rcheck/00check.log’
for details.
diffUTR.Rcheck/00install.out
############################################################################## ############################################################################## ### ### Running command: ### ### /home/biocbuild/bbs-3.22-bioc/R/bin/R CMD INSTALL diffUTR ### ############################################################################## ############################################################################## * installing to library ‘/home/biocbuild/bbs-3.22-bioc/R/site-library’ * installing *source* package ‘diffUTR’ ... ** this is package ‘diffUTR’ version ‘1.17.0’ ** using staged installation ** R ** data ** inst ** byte-compile and prepare package for lazy loading ** help *** installing help indices ** building package indices ** installing vignettes ** testing if installed package can be loaded from temporary location ** testing if installed package can be loaded from final location ** testing if installed package keeps a record of temporary installation path * DONE (diffUTR)
diffUTR.Rcheck/diffUTR-Ex.timings
| name | user | system | elapsed | |
| DEUwrappers | 2.502 | 0.107 | 2.608 | |
| addNormalizedAssays | 0.114 | 0.008 | 0.121 | |
| countFeatures | 1.283 | 0.088 | 1.371 | |
| deuBinPlot | 1.493 | 0.049 | 1.541 | |
| diffSplice2 | 0.372 | 0.029 | 0.402 | |
| geneBinHeatmap | 2.343 | 0.089 | 2.433 | |
| geneLevelStats | 1.061 | 0.016 | 1.077 | |
| plotTopGenes | 1.046 | 0.023 | 1.070 | |
| prepareBins | 1.050 | 0.016 | 1.067 | |
| simesAggregation | 0.001 | 0.000 | 0.002 | |