| Back to Multiple platform build/check report for BioC 3.22: simplified long |
|
This page was generated on 2025-10-25 12:03 -0400 (Sat, 25 Oct 2025).
| Hostname | OS | Arch (*) | R version | Installed pkgs |
|---|---|---|---|---|
| nebbiolo2 | Linux (Ubuntu 24.04.3 LTS) | x86_64 | 4.5.1 Patched (2025-08-23 r88802) -- "Great Square Root" | 4901 |
| lconway | macOS 12.7.6 Monterey | x86_64 | 4.5.1 Patched (2025-09-10 r88807) -- "Great Square Root" | 4691 |
| kjohnson3 | macOS 13.7.7 Ventura | arm64 | 4.5.1 Patched (2025-09-10 r88807) -- "Great Square Root" | 4637 |
| taishan | Linux (openEuler 24.03 LTS) | aarch64 | 4.5.0 (2025-04-11) -- "How About a Twenty-Six" | 4658 |
| Click on any hostname to see more info about the system (e.g. compilers) (*) as reported by 'uname -p', except on Windows and Mac OS X | ||||
| Package 422/2361 | Hostname | OS / Arch | INSTALL | BUILD | CHECK | BUILD BIN | ||||||||
| cogeqc 1.13.0 (landing page) Fabrício Almeida-Silva
| nebbiolo2 | Linux (Ubuntu 24.04.3 LTS) / x86_64 | OK | OK | OK | |||||||||
| lconway | macOS 12.7.6 Monterey / x86_64 | OK | OK | OK | OK | |||||||||
| kjohnson3 | macOS 13.7.7 Ventura / arm64 | OK | OK | OK | OK | |||||||||
| taishan | Linux (openEuler 24.03 LTS) / aarch64 | OK | NA | NA | ||||||||||
|
To the developers/maintainers of the cogeqc package: - Allow up to 24 hours (and sometimes 48 hours) for your latest push to git@git.bioconductor.org:packages/cogeqc.git to reflect on this report. See Troubleshooting Build Report for more information. - Use the following Renviron settings to reproduce errors and warnings. - If 'R CMD check' started to fail recently on the Linux builder(s) over a missing dependency, add the missing dependency to 'Suggests:' in your DESCRIPTION file. See Renviron.bioc for more information. |
| Package: cogeqc |
| Version: 1.13.0 |
| Command: /home/biocbuild/bbs-3.22-bioc/R/bin/R CMD check --install=check:cogeqc.install-out.txt --library=/home/biocbuild/bbs-3.22-bioc/R/site-library --timings cogeqc_1.13.0.tar.gz |
| StartedAt: 2025-10-24 22:23:27 -0400 (Fri, 24 Oct 2025) |
| EndedAt: 2025-10-24 22:27:33 -0400 (Fri, 24 Oct 2025) |
| EllapsedTime: 246.2 seconds |
| RetCode: 0 |
| Status: OK |
| CheckDir: cogeqc.Rcheck |
| Warnings: 0 |
##############################################################################
##############################################################################
###
### Running command:
###
### /home/biocbuild/bbs-3.22-bioc/R/bin/R CMD check --install=check:cogeqc.install-out.txt --library=/home/biocbuild/bbs-3.22-bioc/R/site-library --timings cogeqc_1.13.0.tar.gz
###
##############################################################################
##############################################################################
* using log directory ‘/home/biocbuild/bbs-3.22-bioc/meat/cogeqc.Rcheck’
* using R version 4.5.1 Patched (2025-08-23 r88802)
* using platform: x86_64-pc-linux-gnu
* R was compiled by
gcc (Ubuntu 13.3.0-6ubuntu2~24.04) 13.3.0
GNU Fortran (Ubuntu 13.3.0-6ubuntu2~24.04) 13.3.0
* running under: Ubuntu 24.04.3 LTS
* using session charset: UTF-8
* checking for file ‘cogeqc/DESCRIPTION’ ... OK
* this is package ‘cogeqc’ version ‘1.13.0’
* package encoding: UTF-8
* checking package namespace information ... OK
* checking package dependencies ... OK
* checking if this is a source package ... OK
* checking if there is a namespace ... OK
* checking for hidden files and directories ... OK
* checking for portable file names ... OK
* checking for sufficient/correct file permissions ... OK
* checking whether package ‘cogeqc’ can be installed ... OK
* checking installed package size ... OK
* checking package directory ... OK
* checking ‘build’ directory ... OK
* checking DESCRIPTION meta-information ... OK
* checking top-level files ... OK
* checking for left-over files ... OK
* checking index information ... OK
* checking package subdirectories ... OK
* checking code files for non-ASCII characters ... OK
* checking R files for syntax errors ... OK
* checking whether the package can be loaded ... OK
* checking whether the package can be loaded with stated dependencies ... OK
* checking whether the package can be unloaded cleanly ... OK
* checking whether the namespace can be loaded with stated dependencies ... OK
* checking whether the namespace can be unloaded cleanly ... OK
* checking loading without being on the library search path ... OK
* checking dependencies in R code ... OK
* checking S3 generic/method consistency ... OK
* checking replacement functions ... OK
* checking foreign function calls ... OK
* checking R code for possible problems ... OK
* checking Rd files ... OK
* checking Rd metadata ... OK
* checking Rd cross-references ... OK
* checking for missing documentation entries ... OK
* checking for code/documentation mismatches ... OK
* checking Rd \usage sections ... OK
* checking Rd contents ... OK
* checking for unstated dependencies in examples ... OK
* checking contents of ‘data’ directory ... OK
* checking data for non-ASCII characters ... OK
* checking data for ASCII and uncompressed saves ... OK
* checking files in ‘vignettes’ ... OK
* checking examples ... OK
Examples with CPU (user + system) or elapsed time > 5s
user system elapsed
plot_genome_stats 6.326 0.096 6.79
* checking for unstated dependencies in ‘tests’ ... OK
* checking tests ...
Running ‘testthat.R’
OK
* checking for unstated dependencies in vignettes ... OK
* checking package vignettes ... OK
* checking re-building of vignette outputs ... OK
* checking PDF version of manual ... OK
* DONE
Status: OK
cogeqc.Rcheck/00install.out
############################################################################## ############################################################################## ### ### Running command: ### ### /home/biocbuild/bbs-3.22-bioc/R/bin/R CMD INSTALL cogeqc ### ############################################################################## ############################################################################## * installing to library ‘/home/biocbuild/bbs-3.22-bioc/R/site-library’ * installing *source* package ‘cogeqc’ ... ** this is package ‘cogeqc’ version ‘1.13.0’ ** using staged installation ** R ** data ** inst ** byte-compile and prepare package for lazy loading ** help *** installing help indices *** copying figures ** building package indices ** installing vignettes ** testing if installed package can be loaded from temporary location ** testing if installed package can be loaded from final location ** testing if installed package keeps a record of temporary installation path * DONE (cogeqc)
cogeqc.Rcheck/tests/testthat.Rout
R version 4.5.1 Patched (2025-08-23 r88802) -- "Great Square Root"
Copyright (C) 2025 The R Foundation for Statistical Computing
Platform: x86_64-pc-linux-gnu
R is free software and comes with ABSOLUTELY NO WARRANTY.
You are welcome to redistribute it under certain conditions.
Type 'license()' or 'licence()' for distribution details.
R is a collaborative project with many contributors.
Type 'contributors()' for more information and
'citation()' on how to cite R or R packages in publications.
Type 'demo()' for some demos, 'help()' for on-line help, or
'help.start()' for an HTML browser interface to help.
Type 'q()' to quit R.
> library(testthat)
> library(cogeqc)
>
> test_check("cogeqc")
More than 1 BUSCO summary file found. Using only the first.
! # Invaild edge matrix for <phylo>. A <tbl_df> is returned.
! # Invaild edge matrix for <phylo>. A <tbl_df> is returned.
[ FAIL 0 | WARN 0 | SKIP 0 | PASS 57 ]
>
> proc.time()
user system elapsed
20.260 1.175 26.027
cogeqc.Rcheck/cogeqc-Ex.timings
| name | user | system | elapsed | |
| assess_orthogroups | 0.729 | 0.020 | 0.749 | |
| assess_synnet | 1.892 | 0.145 | 2.037 | |
| assess_synnet_list | 2.497 | 0.073 | 2.571 | |
| batch_summary | 0.000 | 0.001 | 0.001 | |
| busco_is_installed | 0.001 | 0.002 | 0.003 | |
| calculate_H | 1.456 | 0.003 | 1.459 | |
| compare_genome_stats | 0.268 | 0.010 | 0.807 | |
| compare_orthogroups | 0.184 | 0.002 | 0.186 | |
| fit_sft | 1.214 | 0.014 | 1.228 | |
| get_genome_stats | 1.115 | 0.013 | 2.895 | |
| interpro_ath | 0.128 | 0.003 | 0.131 | |
| interpro_bol | 0.213 | 0.005 | 0.218 | |
| list_busco_datasets | 0.001 | 0.000 | 0.001 | |
| og | 0.159 | 0.006 | 0.165 | |
| plot_busco | 0.811 | 0.002 | 0.813 | |
| plot_duplications | 0.214 | 0.000 | 0.216 | |
| plot_genes_in_ogs | 0.272 | 0.000 | 0.273 | |
| plot_genome_stats | 6.326 | 0.096 | 6.790 | |
| plot_og_overlap | 0.449 | 0.004 | 0.453 | |
| plot_og_sizes | 1.589 | 0.046 | 1.636 | |
| plot_orthofinder_stats | 1.191 | 0.003 | 1.194 | |
| plot_species_specific_ogs | 0.220 | 0.001 | 0.221 | |
| plot_species_tree | 0.273 | 0.000 | 0.273 | |
| read_busco | 0.001 | 0.001 | 0.002 | |
| read_orthofinder_stats | 0.004 | 0.000 | 0.004 | |
| read_orthogroups | 0.007 | 0.001 | 0.008 | |
| run_busco | 0 | 0 | 0 | |
| synnet | 0.618 | 0.013 | 0.631 | |
| tree | 0.001 | 0.000 | 0.001 | |