| Back to Multiple platform build/check report for BioC 3.22: simplified long |
|
This page was generated on 2025-10-25 12:03 -0400 (Sat, 25 Oct 2025).
| Hostname | OS | Arch (*) | R version | Installed pkgs |
|---|---|---|---|---|
| nebbiolo2 | Linux (Ubuntu 24.04.3 LTS) | x86_64 | 4.5.1 Patched (2025-08-23 r88802) -- "Great Square Root" | 4901 |
| lconway | macOS 12.7.6 Monterey | x86_64 | 4.5.1 Patched (2025-09-10 r88807) -- "Great Square Root" | 4691 |
| kjohnson3 | macOS 13.7.7 Ventura | arm64 | 4.5.1 Patched (2025-09-10 r88807) -- "Great Square Root" | 4637 |
| taishan | Linux (openEuler 24.03 LTS) | aarch64 | 4.5.0 (2025-04-11) -- "How About a Twenty-Six" | 4658 |
| Click on any hostname to see more info about the system (e.g. compilers) (*) as reported by 'uname -p', except on Windows and Mac OS X | ||||
| Package 313/2361 | Hostname | OS / Arch | INSTALL | BUILD | CHECK | BUILD BIN | ||||||||
| cellmigRation 1.17.0 (landing page) Waldir Leoncio
| nebbiolo2 | Linux (Ubuntu 24.04.3 LTS) / x86_64 | OK | OK | OK | |||||||||
| lconway | macOS 12.7.6 Monterey / x86_64 | OK | OK | OK | OK | |||||||||
| kjohnson3 | macOS 13.7.7 Ventura / arm64 | OK | OK | OK | OK | |||||||||
| taishan | Linux (openEuler 24.03 LTS) / aarch64 | OK | NA | NA | ||||||||||
|
To the developers/maintainers of the cellmigRation package: - Allow up to 24 hours (and sometimes 48 hours) for your latest push to git@git.bioconductor.org:packages/cellmigRation.git to reflect on this report. See Troubleshooting Build Report for more information. - Use the following Renviron settings to reproduce errors and warnings. - If 'R CMD check' started to fail recently on the Linux builder(s) over a missing dependency, add the missing dependency to 'Suggests:' in your DESCRIPTION file. See Renviron.bioc for more information. |
| Package: cellmigRation |
| Version: 1.17.0 |
| Command: /home/biocbuild/bbs-3.22-bioc/R/bin/R CMD check --install=check:cellmigRation.install-out.txt --library=/home/biocbuild/bbs-3.22-bioc/R/site-library --timings cellmigRation_1.17.0.tar.gz |
| StartedAt: 2025-10-24 22:00:32 -0400 (Fri, 24 Oct 2025) |
| EndedAt: 2025-10-24 22:04:28 -0400 (Fri, 24 Oct 2025) |
| EllapsedTime: 236.2 seconds |
| RetCode: 0 |
| Status: OK |
| CheckDir: cellmigRation.Rcheck |
| Warnings: 0 |
##############################################################################
##############################################################################
###
### Running command:
###
### /home/biocbuild/bbs-3.22-bioc/R/bin/R CMD check --install=check:cellmigRation.install-out.txt --library=/home/biocbuild/bbs-3.22-bioc/R/site-library --timings cellmigRation_1.17.0.tar.gz
###
##############################################################################
##############################################################################
* using log directory ‘/home/biocbuild/bbs-3.22-bioc/meat/cellmigRation.Rcheck’
* using R version 4.5.1 Patched (2025-08-23 r88802)
* using platform: x86_64-pc-linux-gnu
* R was compiled by
gcc (Ubuntu 13.3.0-6ubuntu2~24.04) 13.3.0
GNU Fortran (Ubuntu 13.3.0-6ubuntu2~24.04) 13.3.0
* running under: Ubuntu 24.04.3 LTS
* using session charset: UTF-8
* checking for file ‘cellmigRation/DESCRIPTION’ ... OK
* checking extension type ... Package
* this is package ‘cellmigRation’ version ‘1.17.0’
* package encoding: UTF-8
* checking package namespace information ... OK
* checking package dependencies ... OK
* checking if this is a source package ... OK
* checking if there is a namespace ... OK
* checking for hidden files and directories ... OK
* checking for portable file names ... OK
* checking for sufficient/correct file permissions ... OK
* checking whether package ‘cellmigRation’ can be installed ... OK
* checking installed package size ... OK
* checking package directory ... OK
* checking ‘build’ directory ... OK
* checking DESCRIPTION meta-information ... OK
* checking top-level files ... OK
* checking for left-over files ... OK
* checking index information ... OK
* checking package subdirectories ... OK
* checking code files for non-ASCII characters ... OK
* checking R files for syntax errors ... OK
* checking whether the package can be loaded ... OK
* checking whether the package can be loaded with stated dependencies ... OK
* checking whether the package can be unloaded cleanly ... OK
* checking whether the namespace can be loaded with stated dependencies ... OK
* checking whether the namespace can be unloaded cleanly ... OK
* checking loading without being on the library search path ... OK
* checking dependencies in R code ... OK
* checking S3 generic/method consistency ... OK
* checking replacement functions ... OK
* checking foreign function calls ... OK
* checking R code for possible problems ... OK
* checking Rd files ... OK
* checking Rd metadata ... OK
* checking Rd cross-references ... OK
* checking for missing documentation entries ... OK
* checking for code/documentation mismatches ... OK
* checking Rd \usage sections ... NOTE
Documented arguments not in \usage in Rd file 'fixDA.Rd':
‘object’
Documented arguments not in \usage in Rd file 'fixFM1.Rd':
‘object’
Documented arguments not in \usage in Rd file 'fixFM2.Rd':
‘object’
Documented arguments not in \usage in Rd file 'fixFM3.Rd':
‘object’
Documented arguments not in \usage in Rd file 'fixFM4.Rd':
‘object’
Documented arguments not in \usage in Rd file 'fixFM5.Rd':
‘object’
Documented arguments not in \usage in Rd file 'fixFM6.Rd':
‘object’
Documented arguments not in \usage in Rd file 'fixID2.Rd':
‘TimeInterval’
Documented arguments not in \usage in Rd file 'fixID3.Rd':
‘TimeInterval’
Documented arguments not in \usage in Rd file 'fixID4.Rd':
‘TimeInterval’
Documented arguments not in \usage in Rd file 'fixMSD.Rd':
‘object’
Documented arguments not in \usage in Rd file 'fixPER1.Rd':
‘x’
Documented arguments not in \usage in Rd file 'fixPER2.Rd':
‘x’
Documented arguments not in \usage in Rd file 'innerBondRaster.Rd':
‘i’
Functions with \usage entries need to have the appropriate \alias
entries, and all their arguments documented.
The \usage entries must correspond to syntactically valid R code.
See chapter ‘Writing R documentation files’ in the ‘Writing R
Extensions’ manual.
* checking Rd contents ... OK
* checking for unstated dependencies in examples ... OK
* checking contents of ‘data’ directory ... OK
* checking data for non-ASCII characters ... OK
* checking data for ASCII and uncompressed saves ... OK
* checking files in ‘vignettes’ ... OK
* checking examples ... OK
* checking for unstated dependencies in ‘tests’ ... OK
* checking tests ...
Running ‘runTests.R’
OK
* checking for unstated dependencies in vignettes ... OK
* checking package vignettes ... OK
* checking re-building of vignette outputs ... OK
* checking PDF version of manual ... OK
* DONE
Status: 1 NOTE
See
‘/home/biocbuild/bbs-3.22-bioc/meat/cellmigRation.Rcheck/00check.log’
for details.
cellmigRation.Rcheck/00install.out
############################################################################## ############################################################################## ### ### Running command: ### ### /home/biocbuild/bbs-3.22-bioc/R/bin/R CMD INSTALL cellmigRation ### ############################################################################## ############################################################################## * installing to library ‘/home/biocbuild/bbs-3.22-bioc/R/site-library’ * installing *source* package ‘cellmigRation’ ... ** this is package ‘cellmigRation’ version ‘1.17.0’ ** using staged installation ** R ** data ** inst ** byte-compile and prepare package for lazy loading ** help *** installing help indices ** building package indices ** installing vignettes ** testing if installed package can be loaded from temporary location ** testing if installed package can be loaded from final location ** testing if installed package keeps a record of temporary installation path * DONE (cellmigRation)
cellmigRation.Rcheck/tests/runTests.Rout
R version 4.5.1 Patched (2025-08-23 r88802) -- "Great Square Root"
Copyright (C) 2025 The R Foundation for Statistical Computing
Platform: x86_64-pc-linux-gnu
R is free software and comes with ABSOLUTELY NO WARRANTY.
You are welcome to redistribute it under certain conditions.
Type 'license()' or 'licence()' for distribution details.
R is a collaborative project with many contributors.
Type 'contributors()' for more information and
'citation()' on how to cite R or R packages in publications.
Type 'demo()' for some demos, 'help()' for on-line help, or
'help.start()' for an HTML browser interface to help.
Type 'q()' to quit R.
> BiocGenerics:::testPackage("cellmigRation")
RUNIT TEST PROTOCOL -- Fri Oct 24 22:02:23 2025
***********************************************
Number of test functions: 7
Number of errors: 0
Number of failures: 0
1 Test Suite :
cellmigRation RUnit Tests - 7 test functions, 0 errors, 0 failures
Number of test functions: 7
Number of errors: 0
Number of failures: 0
>
> proc.time()
user system elapsed
2.985 0.229 3.202
cellmigRation.Rcheck/cellmigRation-Ex.timings
| name | user | system | elapsed | |
| AddDimension | 0.001 | 0.000 | 0.001 | |
| CellMig-class | 0.026 | 0.000 | 0.026 | |
| CellMigPCA | 1.740 | 0.004 | 1.745 | |
| CellMigPCAclust | 0.006 | 0.001 | 0.008 | |
| CellMigPCAclustALL | 0.616 | 0.044 | 0.661 | |
| CellTracker | 0.014 | 0.006 | 0.019 | |
| CellTrackerMainLoop | 0.004 | 0.018 | 0.021 | |
| CentroidArray | 0.016 | 0.008 | 0.025 | |
| CentroidValidation | 0.467 | 0.167 | 0.635 | |
| ComputeTracksStats | 0.025 | 0.004 | 0.027 | |
| DetectRadii | 0.002 | 0.001 | 0.003 | |
| DiAutoCor | 1.337 | 0.281 | 1.618 | |
| DiRatio | 0.017 | 0.000 | 0.018 | |
| DiRatioPlot | 0.027 | 0.008 | 0.037 | |
| EstimateDiameterRange | 0.013 | 0.003 | 0.016 | |
| FMI | 0.460 | 0.083 | 0.544 | |
| FianlizeOptiParams | 0.001 | 0.000 | 0.000 | |
| FilterTrackedCells | 0.002 | 0.001 | 0.002 | |
| FinRes | 0.600 | 0.012 | 0.611 | |
| ForwardMigration | 0.877 | 0.028 | 0.905 | |
| GenAllCombos | 0.003 | 0.000 | 0.003 | |
| LinearConv2 | 0.018 | 0.001 | 0.019 | |
| LoadTiff | 0.001 | 0.000 | 0.001 | |
| MSD | 1.408 | 0.046 | 1.455 | |
| MakeHypercube | 0.001 | 0.000 | 0.001 | |
| MigrationStats | 0 | 0 | 0 | |
| NextOdd | 0 | 0 | 0 | |
| NonParallel4OptimizeParams | 0.001 | 0.000 | 0.001 | |
| NonParallelTrackLoop | 0.000 | 0.000 | 0.001 | |
| OptimizeParams | 0.016 | 0.001 | 0.017 | |
| OptimizeParamsMainLoop | 0.002 | 0.003 | 0.005 | |
| Parallel4OptimizeParams | 0.001 | 0.000 | 0.001 | |
| ParallelTrackLoop | 0.001 | 0.000 | 0.001 | |
| PerAndSpeed | 0.268 | 0.004 | 0.274 | |
| PlotTracksSeparately | 0.009 | 0.000 | 0.009 | |
| PostProcessTracking | 0 | 0 | 0 | |
| Prep4OptimizeParams | 0.084 | 0.003 | 0.087 | |
| ThreeConditions | 0.011 | 0.006 | 0.016 | |
| TrackCellsDataset | 0.015 | 0.004 | 0.019 | |
| TrajectoryDataset | 0.022 | 0.000 | 0.022 | |
| ValidateTrackingArgs | 0 | 0 | 0 | |
| VeAutoCor | 1.000 | 0.037 | 1.036 | |
| VisualizeCntr | 0.002 | 0.000 | 0.002 | |
| VisualizeImg | 0.005 | 0.000 | 0.006 | |
| VisualizeStackCentroids | 0.057 | 0.000 | 0.057 | |
| WSADataset | 0.006 | 0.001 | 0.007 | |
| aggregateFR | 0.589 | 0.008 | 0.597 | |
| aggregateTrackedCells | 0.018 | 0.005 | 0.023 | |
| bpass | 0.059 | 0.005 | 0.064 | |
| circshift | 0.001 | 0.000 | 0.001 | |
| cntrd | 0.675 | 0.014 | 0.689 | |
| fixDA | 0.000 | 0.001 | 0.000 | |
| fixExpName | 0 | 0 | 0 | |
| fixFM1 | 0 | 0 | 0 | |
| fixFM2 | 0 | 0 | 0 | |
| fixFM3 | 0 | 0 | 0 | |
| fixFM4 | 0 | 0 | 0 | |
| fixFM5 | 0 | 0 | 0 | |
| fixFM6 | 0 | 0 | 0 | |
| fixID1 | 0.001 | 0.000 | 0.001 | |
| fixMSD | 0 | 0 | 0 | |
| fixPER1 | 0 | 0 | 0 | |
| fixPER2 | 0 | 0 | 0 | |
| fixPER3 | 0.001 | 0.000 | 0.000 | |
| getAvailableAggrMetrics | 0.898 | 0.002 | 0.901 | |
| getCellImages | 0.149 | 0.109 | 0.259 | |
| getCellMigSlot | 0.208 | 0.069 | 0.277 | |
| getCellTrackMeta | 0.012 | 0.006 | 0.017 | |
| getCellTrackStats | 0.019 | 0.001 | 0.019 | |
| getCellTracks | 0.013 | 0.004 | 0.018 | |
| getCellsMeta | 0.015 | 0.006 | 0.022 | |
| getCellsStats | 0.015 | 0.005 | 0.020 | |
| getDACtable | 1.770 | 0.054 | 1.825 | |
| getDiRatio | 0.017 | 0.001 | 0.018 | |
| getFMItable | 0.447 | 0.003 | 0.450 | |
| getForMigtable | 0.526 | 0.000 | 0.527 | |
| getImageCentroids | 0.019 | 0.003 | 0.022 | |
| getImageStacks | 0.054 | 0.003 | 0.057 | |
| getMSDtable | 3.395 | 0.008 | 3.403 | |
| getOptimizedParameters | 0.014 | 0.002 | 0.016 | |
| getOptimizedParams | 0.016 | 0.001 | 0.018 | |
| getPerAndSpeed | 0.262 | 0.029 | 0.293 | |
| getPopulationStats | 0.015 | 0.002 | 0.018 | |
| getProcessedImages | 0.132 | 0.105 | 0.238 | |
| getProcessingStatus | 0.014 | 0.003 | 0.017 | |
| getResults | 0.595 | 0.018 | 0.613 | |
| getTracks | 0.015 | 0.003 | 0.018 | |
| getVACtable | 1.012 | 0.027 | 1.040 | |
| initializeTrackParams | 0.001 | 0.000 | 0.001 | |
| innerBondRaster | 0.000 | 0.001 | 0.001 | |
| internalPermutation | 0.001 | 0.000 | 0.001 | |
| matfix | 0.001 | 0.000 | 0.001 | |
| nontrivialBondTracking | 0.001 | 0.000 | 0.001 | |
| pkfnd | 0.685 | 0.012 | 0.697 | |
| plot3DAllTracks | 0.077 | 0.030 | 0.107 | |
| plot3DTracks | 0.008 | 0.000 | 0.008 | |
| plotAllTracks | 0.017 | 0.000 | 0.018 | |
| plotSampleTracks | 0.014 | 0.000 | 0.014 | |
| preProcCellMig | 0.007 | 0.000 | 0.007 | |
| rmPreProcessing | 0.079 | 0.004 | 0.083 | |
| runTrackingPermutation | 0.002 | 0.000 | 0.002 | |
| setAnalyticParams | 0.014 | 0.003 | 0.017 | |
| setCellMigSlot | 0.022 | 0.000 | 0.022 | |
| setCellTracks | 0.013 | 0.004 | 0.017 | |
| setCellsMeta | 0.016 | 0.002 | 0.017 | |
| setExpName | 0.020 | 0.002 | 0.025 | |
| setOptimizedParams | 0.041 | 0.004 | 0.044 | |
| setProcessedImages | 0.015 | 0.002 | 0.017 | |
| setProcessingStatus | 0.014 | 0.002 | 0.017 | |
| setTrackedCellsMeta | 0.015 | 0.001 | 0.017 | |
| setTrackedCentroids | 0.016 | 0.000 | 0.017 | |
| setTrackedPositions | 0.015 | 0.001 | 0.016 | |
| setTrackingStats | 0.016 | 0.000 | 0.016 | |
| sinkAway | 0.001 | 0.000 | 0.001 | |
| subNetworkTracking | 0.000 | 0.001 | 0.001 | |
| track | 0.008 | 0.000 | 0.008 | |
| trackHypercubeBuild | 0.001 | 0.000 | 0.001 | |
| trackSlideProcessing | 0.001 | 0.000 | 0.001 | |
| trackSlideWrapUp | 0.001 | 0.000 | 0.001 | |
| trivialBondRaster | 0.001 | 0.000 | 0.001 | |
| trivialBondTracking | 0 | 0 | 0 | |
| visualizeCellTracks | 0.055 | 0.004 | 0.058 | |
| visualizeTrcks | 0.025 | 0.000 | 0.025 | |
| warnMessage | 0 | 0 | 0 | |
| wsaPreProcessing | 0.046 | 0.002 | 0.049 | |