| Back to Multiple platform build/check report for BioC 3.22: simplified long |
|
This page was generated on 2025-10-25 12:03 -0400 (Sat, 25 Oct 2025).
| Hostname | OS | Arch (*) | R version | Installed pkgs |
|---|---|---|---|---|
| nebbiolo2 | Linux (Ubuntu 24.04.3 LTS) | x86_64 | 4.5.1 Patched (2025-08-23 r88802) -- "Great Square Root" | 4901 |
| lconway | macOS 12.7.6 Monterey | x86_64 | 4.5.1 Patched (2025-09-10 r88807) -- "Great Square Root" | 4691 |
| kjohnson3 | macOS 13.7.7 Ventura | arm64 | 4.5.1 Patched (2025-09-10 r88807) -- "Great Square Root" | 4637 |
| taishan | Linux (openEuler 24.03 LTS) | aarch64 | 4.5.0 (2025-04-11) -- "How About a Twenty-Six" | 4658 |
| Click on any hostname to see more info about the system (e.g. compilers) (*) as reported by 'uname -p', except on Windows and Mac OS X | ||||
| Package 280/2361 | Hostname | OS / Arch | INSTALL | BUILD | CHECK | BUILD BIN | ||||||||
| cardelino 1.11.0 (landing page) Davis McCarthy
| nebbiolo2 | Linux (Ubuntu 24.04.3 LTS) / x86_64 | OK | OK | OK | |||||||||
| lconway | macOS 12.7.6 Monterey / x86_64 | OK | OK | OK | OK | |||||||||
| kjohnson3 | macOS 13.7.7 Ventura / arm64 | OK | OK | OK | OK | |||||||||
| taishan | Linux (openEuler 24.03 LTS) / aarch64 | OK | NA | NA | ||||||||||
|
To the developers/maintainers of the cardelino package: - Allow up to 24 hours (and sometimes 48 hours) for your latest push to git@git.bioconductor.org:packages/cardelino.git to reflect on this report. See Troubleshooting Build Report for more information. - Use the following Renviron settings to reproduce errors and warnings. - If 'R CMD check' started to fail recently on the Linux builder(s) over a missing dependency, add the missing dependency to 'Suggests:' in your DESCRIPTION file. See Renviron.bioc for more information. |
| Package: cardelino |
| Version: 1.11.0 |
| Command: /home/biocbuild/bbs-3.22-bioc/R/bin/R CMD check --install=check:cardelino.install-out.txt --library=/home/biocbuild/bbs-3.22-bioc/R/site-library --timings cardelino_1.11.0.tar.gz |
| StartedAt: 2025-10-24 21:52:06 -0400 (Fri, 24 Oct 2025) |
| EndedAt: 2025-10-24 21:59:40 -0400 (Fri, 24 Oct 2025) |
| EllapsedTime: 454.5 seconds |
| RetCode: 0 |
| Status: OK |
| CheckDir: cardelino.Rcheck |
| Warnings: 0 |
##############################################################################
##############################################################################
###
### Running command:
###
### /home/biocbuild/bbs-3.22-bioc/R/bin/R CMD check --install=check:cardelino.install-out.txt --library=/home/biocbuild/bbs-3.22-bioc/R/site-library --timings cardelino_1.11.0.tar.gz
###
##############################################################################
##############################################################################
* using log directory ‘/home/biocbuild/bbs-3.22-bioc/meat/cardelino.Rcheck’
* using R version 4.5.1 Patched (2025-08-23 r88802)
* using platform: x86_64-pc-linux-gnu
* R was compiled by
gcc (Ubuntu 13.3.0-6ubuntu2~24.04) 13.3.0
GNU Fortran (Ubuntu 13.3.0-6ubuntu2~24.04) 13.3.0
* running under: Ubuntu 24.04.3 LTS
* using session charset: UTF-8
* checking for file ‘cardelino/DESCRIPTION’ ... OK
* checking extension type ... Package
* this is package ‘cardelino’ version ‘1.11.0’
* package encoding: UTF-8
* checking package namespace information ... OK
* checking package dependencies ... OK
* checking if this is a source package ... OK
* checking if there is a namespace ... OK
* checking for hidden files and directories ... OK
* checking for portable file names ... OK
* checking for sufficient/correct file permissions ... OK
* checking whether package ‘cardelino’ can be installed ... OK
* checking installed package size ... OK
* checking package directory ... OK
* checking ‘build’ directory ... OK
* checking DESCRIPTION meta-information ... OK
* checking top-level files ... OK
* checking for left-over files ... OK
* checking index information ... OK
* checking package subdirectories ... OK
* checking code files for non-ASCII characters ... OK
* checking R files for syntax errors ... OK
* checking whether the package can be loaded ... OK
* checking whether the package can be loaded with stated dependencies ... OK
* checking whether the package can be unloaded cleanly ... OK
* checking whether the namespace can be loaded with stated dependencies ... OK
* checking whether the namespace can be unloaded cleanly ... OK
* checking loading without being on the library search path ... OK
* checking dependencies in R code ... OK
* checking S3 generic/method consistency ... OK
* checking replacement functions ... OK
* checking foreign function calls ... OK
* checking R code for possible problems ... OK
* checking Rd files ... OK
* checking Rd metadata ... OK
* checking Rd cross-references ... NOTE
Found the following Rd file(s) with Rd \link{} targets missing package
anchors:
plot_tree.Rd: ggtree
vc_heatmap.Rd: pheatmap
Please provide package anchors for all Rd \link{} targets not in the
package itself and the base packages.
* checking for missing documentation entries ... OK
* checking for code/documentation mismatches ... OK
* checking Rd \usage sections ... OK
* checking Rd contents ... OK
* checking for unstated dependencies in examples ... OK
* checking contents of ‘data’ directory ... OK
* checking data for non-ASCII characters ... OK
* checking data for ASCII and uncompressed saves ... OK
* checking files in ‘vignettes’ ... OK
* checking examples ... OK
Examples with CPU (user + system) or elapsed time > 5s
user system elapsed
vc_heatmap 57.973 0.715 58.691
get_snp_matrices 13.591 1.027 14.620
clone_id 11.624 0.216 11.840
* checking for unstated dependencies in ‘tests’ ... OK
* checking tests ...
Running ‘testthat.R’
OK
* checking for unstated dependencies in vignettes ... OK
* checking package vignettes ... OK
* checking re-building of vignette outputs ... OK
* checking PDF version of manual ... OK
* DONE
Status: 1 NOTE
See
‘/home/biocbuild/bbs-3.22-bioc/meat/cardelino.Rcheck/00check.log’
for details.
cardelino.Rcheck/00install.out
############################################################################## ############################################################################## ### ### Running command: ### ### /home/biocbuild/bbs-3.22-bioc/R/bin/R CMD INSTALL cardelino ### ############################################################################## ############################################################################## * installing to library ‘/home/biocbuild/bbs-3.22-bioc/R/site-library’ * installing *source* package ‘cardelino’ ... ** this is package ‘cardelino’ version ‘1.11.0’ ** using staged installation ** R ** data ** inst ** byte-compile and prepare package for lazy loading ** help *** installing help indices ** building package indices ** installing vignettes ** testing if installed package can be loaded from temporary location ** testing if installed package can be loaded from final location ** testing if installed package keeps a record of temporary installation path * DONE (cardelino)
cardelino.Rcheck/tests/testthat.Rout
R version 4.5.1 Patched (2025-08-23 r88802) -- "Great Square Root"
Copyright (C) 2025 The R Foundation for Statistical Computing
Platform: x86_64-pc-linux-gnu
R is free software and comes with ABSOLUTELY NO WARRANTY.
You are welcome to redistribute it under certain conditions.
Type 'license()' or 'licence()' for distribution details.
R is a collaborative project with many contributors.
Type 'contributors()' for more information and
'citation()' on how to cite R or R packages in publications.
Type 'demo()' for some demos, 'help()' for on-line help, or
'help.start()' for an HTML browser interface to help.
Type 'q()' to quit R.
> Sys.setenv("R_TESTS" = "")
> library(testthat)
> library(cardelino)
>
> test_check("cardelino")
[1] "Total iterations: 11"
93.1% converged.
89.9% converged.
88.4% converged.
87.7% converged.
DIC: 2898.6 D_mean: 2445.13 D_post: 2358.53 logLik_var: 135.02
[,1] [,2] [,3] [,4]
[1,] 1 2 3 4
[1] "67 samples have multiple labels."
Scanning file to determine attributes.
File attributes:
meta lines: 37
header_line: 38
variant count: 112
column count: 86
Meta line 37 read in.
All meta lines processed.
gt matrix initialized.
Character matrix gt created.
Character matrix gt rows: 112
Character matrix gt cols: 86
skip: 0
nrows: 112
row_num: 0
Processed variant: 112
All variants processed
[1] "112 out of 112 SNPs passed."
Scanning file to determine attributes.
File attributes:
meta lines: 37
header_line: 38
variant count: 112
column count: 86
Meta line 37 read in.
All meta lines processed.
gt matrix initialized.
Character matrix gt created.
Character matrix gt rows: 112
Character matrix gt cols: 86
skip: 0
nrows: 112
row_num: 0
Processed variant: 112
All variants processed
[ FAIL 0 | WARN 3 | SKIP 0 | PASS 20 ]
[ FAIL 0 | WARN 3 | SKIP 0 | PASS 20 ]
>
> # check test coverage with covr in Rstudio
> # covr::package_coverage()
>
> proc.time()
user system elapsed
23.325 1.032 24.347
cardelino.Rcheck/cardelino-Ex.timings
| name | user | system | elapsed | |
| assign_cells_to_clones | 0.077 | 0.017 | 0.094 | |
| binaryPRC | 0.007 | 0.001 | 0.008 | |
| binaryROC | 0.007 | 0.001 | 0.008 | |
| clone_id | 11.624 | 0.216 | 11.840 | |
| colMatch | 0.001 | 0.000 | 0.001 | |
| get_snp_matrices | 13.591 | 1.027 | 14.620 | |
| get_tree | 0.443 | 0.004 | 0.446 | |
| heat_matrix | 2.269 | 0.088 | 2.357 | |
| load_GT_vcf | 0.203 | 0.005 | 0.208 | |
| load_cellSNP_vcf | 0.018 | 0.000 | 0.018 | |
| mixBinom | 0.01 | 0.00 | 0.01 | |
| mtx_to_df | 0.001 | 0.000 | 0.001 | |
| plot_config_diffs | 0.232 | 0.000 | 0.232 | |
| plot_tree | 0.392 | 0.000 | 0.392 | |
| predMixBinom | 0.009 | 0.000 | 0.010 | |
| prob_heatmap | 0.126 | 0.001 | 0.127 | |
| pub.theme | 0.139 | 0.000 | 0.140 | |
| read_vcf | 3.102 | 0.798 | 3.901 | |
| rowArgmax | 0.000 | 0.000 | 0.001 | |
| rowMax | 0 | 0 | 0 | |
| sample_seq_depth | 0.01 | 0.00 | 0.01 | |
| sample_tree_SNV | 0.003 | 0.001 | 0.004 | |
| sim_read_count | 1.139 | 0.006 | 1.145 | |
| vc_heatmap | 57.973 | 0.715 | 58.691 | |