| Back to Multiple platform build/check report for BioC 3.22: simplified long |
|
This page was generated on 2025-10-24 12:03 -0400 (Fri, 24 Oct 2025).
| Hostname | OS | Arch (*) | R version | Installed pkgs |
|---|---|---|---|---|
| nebbiolo2 | Linux (Ubuntu 24.04.3 LTS) | x86_64 | 4.5.1 Patched (2025-08-23 r88802) -- "Great Square Root" | 4898 |
| lconway | macOS 12.7.6 Monterey | x86_64 | 4.5.1 Patched (2025-09-10 r88807) -- "Great Square Root" | 4688 |
| kjohnson3 | macOS 13.7.7 Ventura | arm64 | 4.5.1 Patched (2025-09-10 r88807) -- "Great Square Root" | 4634 |
| taishan | Linux (openEuler 24.03 LTS) | aarch64 | 4.5.0 (2025-04-11) -- "How About a Twenty-Six" | 4658 |
| Click on any hostname to see more info about the system (e.g. compilers) (*) as reported by 'uname -p', except on Windows and Mac OS X | ||||
| Package 238/2359 | Hostname | OS / Arch | INSTALL | BUILD | CHECK | BUILD BIN | ||||||||
| bluster 1.19.1 (landing page) Aaron Lun
| nebbiolo2 | Linux (Ubuntu 24.04.3 LTS) / x86_64 | OK | OK | OK | |||||||||
| lconway | macOS 12.7.6 Monterey / x86_64 | OK | OK | OK | OK | |||||||||
| kjohnson3 | macOS 13.7.7 Ventura / arm64 | OK | OK | OK | OK | |||||||||
| taishan | Linux (openEuler 24.03 LTS) / aarch64 | OK | ERROR | skipped | ||||||||||
|
To the developers/maintainers of the bluster package: - Allow up to 24 hours (and sometimes 48 hours) for your latest push to git@git.bioconductor.org:packages/bluster.git to reflect on this report. See Troubleshooting Build Report for more information. - Use the following Renviron settings to reproduce errors and warnings. - If 'R CMD check' started to fail recently on the Linux builder(s) over a missing dependency, add the missing dependency to 'Suggests:' in your DESCRIPTION file. See Renviron.bioc for more information. |
| Package: bluster |
| Version: 1.19.1 |
| Command: /home/biocbuild/bbs-3.22-bioc/R/bin/R CMD check --install=check:bluster.install-out.txt --library=/home/biocbuild/bbs-3.22-bioc/R/site-library --timings bluster_1.19.1.tar.gz |
| StartedAt: 2025-10-23 21:36:40 -0400 (Thu, 23 Oct 2025) |
| EndedAt: 2025-10-23 21:40:30 -0400 (Thu, 23 Oct 2025) |
| EllapsedTime: 230.1 seconds |
| RetCode: 0 |
| Status: OK |
| CheckDir: bluster.Rcheck |
| Warnings: 0 |
##############################################################################
##############################################################################
###
### Running command:
###
### /home/biocbuild/bbs-3.22-bioc/R/bin/R CMD check --install=check:bluster.install-out.txt --library=/home/biocbuild/bbs-3.22-bioc/R/site-library --timings bluster_1.19.1.tar.gz
###
##############################################################################
##############################################################################
* using log directory ‘/home/biocbuild/bbs-3.22-bioc/meat/bluster.Rcheck’
* using R version 4.5.1 Patched (2025-08-23 r88802)
* using platform: x86_64-pc-linux-gnu
* R was compiled by
gcc (Ubuntu 13.3.0-6ubuntu2~24.04) 13.3.0
GNU Fortran (Ubuntu 13.3.0-6ubuntu2~24.04) 13.3.0
* running under: Ubuntu 24.04.3 LTS
* using session charset: UTF-8
* checking for file ‘bluster/DESCRIPTION’ ... OK
* this is package ‘bluster’ version ‘1.19.1’
* package encoding: UTF-8
* checking package namespace information ... OK
* checking package dependencies ... OK
* checking if this is a source package ... OK
* checking if there is a namespace ... OK
* checking for hidden files and directories ... OK
* checking for portable file names ... OK
* checking for sufficient/correct file permissions ... OK
* checking whether package ‘bluster’ can be installed ... OK
* used C++ compiler: ‘g++ (Ubuntu 13.3.0-6ubuntu2~24.04) 13.3.0’
* checking C++ specification ... OK
* checking installed package size ... OK
* checking package directory ... OK
* checking ‘build’ directory ... OK
* checking DESCRIPTION meta-information ... OK
* checking top-level files ... OK
* checking for left-over files ... OK
* checking index information ... OK
* checking package subdirectories ... OK
* checking code files for non-ASCII characters ... OK
* checking R files for syntax errors ... OK
* checking whether the package can be loaded ... OK
* checking whether the package can be loaded with stated dependencies ... OK
* checking whether the package can be unloaded cleanly ... OK
* checking whether the namespace can be loaded with stated dependencies ... OK
* checking whether the namespace can be unloaded cleanly ... OK
* checking loading without being on the library search path ... OK
* checking dependencies in R code ... OK
* checking S3 generic/method consistency ... OK
* checking replacement functions ... OK
* checking foreign function calls ... OK
* checking R code for possible problems ... OK
* checking Rd files ... OK
* checking Rd metadata ... OK
* checking Rd cross-references ... NOTE
Found the following Rd file(s) with Rd \link{} targets missing package
anchors:
AgnesParam-class.Rd: agnes
ClaraParam-class.Rd: clara
DbscanParam-class.Rd: BiocNeighborParam-class
DianaParam-class.Rd: diana
DmmParam-class.Rd: BiocParallelParam-class
NNGraphParam-class.Rd: BiocNeighborParam-class, communities,
cluster_louvain, cluster_walktrap
PamParam-class.Rd: pam
approxSilhouette.Rd: DataFrame-class
clusterSweep.Rd: BiocParallelParam-class, List-class, DataFrame-class
linkClusters.Rd: graph
makeSNNGraph.Rd: BiocNeighborParam-class, findKNN, graph, make_graph,
cluster_walktrap, cluster_louvain
mergeCommunities.Rd: graph, cut_at
neighborPurity.Rd: BiocNeighborParam-class, findNeighbors,
DataFrame-class
nestedClusters.Rd: DataFrame-class
pairwiseModularity.Rd: graph, modularity, as.undirected
Please provide package anchors for all Rd \link{} targets not in the
package itself and the base packages.
* checking for missing documentation entries ... OK
* checking for code/documentation mismatches ... OK
* checking Rd \usage sections ... OK
* checking Rd contents ... OK
* checking for unstated dependencies in examples ... OK
* checking line endings in C/C++/Fortran sources/headers ... OK
* checking compiled code ... NOTE
Note: information on .o files is not available
* checking files in ‘vignettes’ ... OK
* checking examples ... OK
Examples with CPU (user + system) or elapsed time > 5s
user system elapsed
MbkmeansParam-class 5.514 0.214 5.727
* checking for unstated dependencies in ‘tests’ ... OK
* checking tests ...
Running ‘testthat.R’
OK
* checking for unstated dependencies in vignettes ... OK
* checking package vignettes ... OK
* checking re-building of vignette outputs ... OK
* checking PDF version of manual ... OK
* DONE
Status: 2 NOTEs
See
‘/home/biocbuild/bbs-3.22-bioc/meat/bluster.Rcheck/00check.log’
for details.
bluster.Rcheck/00install.out
############################################################################## ############################################################################## ### ### Running command: ### ### /home/biocbuild/bbs-3.22-bioc/R/bin/R CMD INSTALL bluster ### ############################################################################## ############################################################################## * installing to library ‘/home/biocbuild/bbs-3.22-bioc/R/site-library’ * installing *source* package ‘bluster’ ... ** this is package ‘bluster’ version ‘1.19.1’ ** using staged installation ** libs using C++ compiler: ‘g++ (Ubuntu 13.3.0-6ubuntu2~24.04) 13.3.0’ using C++17 g++ -std=gnu++17 -I"/home/biocbuild/bbs-3.22-bioc/R/include" -DNDEBUG -I'/home/biocbuild/bbs-3.22-bioc/R/site-library/Rcpp/include' -I'/home/biocbuild/bbs-3.22-bioc/R/site-library/assorthead/include' -I/usr/local/include -fpic -g -O2 -Wall -Werror=format-security -c RcppExports.cpp -o RcppExports.o g++ -std=gnu++17 -I"/home/biocbuild/bbs-3.22-bioc/R/include" -DNDEBUG -I'/home/biocbuild/bbs-3.22-bioc/R/site-library/Rcpp/include' -I'/home/biocbuild/bbs-3.22-bioc/R/site-library/assorthead/include' -I/usr/local/include -fpic -g -O2 -Wall -Werror=format-security -c build_snn.cpp -o build_snn.o g++ -std=gnu++17 -I"/home/biocbuild/bbs-3.22-bioc/R/include" -DNDEBUG -I'/home/biocbuild/bbs-3.22-bioc/R/site-library/Rcpp/include' -I'/home/biocbuild/bbs-3.22-bioc/R/site-library/assorthead/include' -I/usr/local/include -fpic -g -O2 -Wall -Werror=format-security -c sum_neighbor_weights.cpp -o sum_neighbor_weights.o g++ -std=gnu++17 -shared -L/home/biocbuild/bbs-3.22-bioc/R/lib -L/usr/local/lib -o bluster.so RcppExports.o build_snn.o sum_neighbor_weights.o -L/home/biocbuild/bbs-3.22-bioc/R/lib -lR installing to /home/biocbuild/bbs-3.22-bioc/R/site-library/00LOCK-bluster/00new/bluster/libs ** R ** inst ** byte-compile and prepare package for lazy loading ** help *** installing help indices ** building package indices ** installing vignettes ** testing if installed package can be loaded from temporary location ** checking absolute paths in shared objects and dynamic libraries ** testing if installed package can be loaded from final location ** testing if installed package keeps a record of temporary installation path * DONE (bluster)
bluster.Rcheck/tests/testthat.Rout
R version 4.5.1 Patched (2025-08-23 r88802) -- "Great Square Root"
Copyright (C) 2025 The R Foundation for Statistical Computing
Platform: x86_64-pc-linux-gnu
R is free software and comes with ABSOLUTELY NO WARRANTY.
You are welcome to redistribute it under certain conditions.
Type 'license()' or 'licence()' for distribution details.
R is a collaborative project with many contributors.
Type 'contributors()' for more information and
'citation()' on how to cite R or R packages in publications.
Type 'demo()' for some demos, 'help()' for on-line help, or
'help.start()' for an HTML browser interface to help.
Type 'q()' to quit R.
> library(testthat)
> library(bluster)
> test_check("bluster")
[ FAIL 0 | WARN 1 | SKIP 0 | PASS 2249 ]
[ FAIL 0 | WARN 1 | SKIP 0 | PASS 2249 ]
>
> proc.time()
user system elapsed
42.240 0.996 43.232
bluster.Rcheck/bluster-Ex.timings
| name | user | system | elapsed | |
| AffinityParam-class | 1.064 | 0.053 | 1.118 | |
| AgnesParam-class | 0.023 | 0.000 | 0.022 | |
| ClaraParam-class | 0.020 | 0.000 | 0.021 | |
| DbscanParam-class | 0.025 | 0.000 | 0.026 | |
| DianaParam-class | 0.020 | 0.002 | 0.021 | |
| DmmParam-class | 1.148 | 0.077 | 1.225 | |
| HclustParam-class | 0.093 | 0.010 | 0.103 | |
| KmeansParam-class | 0.007 | 0.001 | 0.008 | |
| MbkmeansParam-class | 5.514 | 0.214 | 5.727 | |
| NNGraphParam-class | 0.040 | 0.004 | 0.045 | |
| PamParam-class | 0.018 | 0.002 | 0.019 | |
| SomParam-class | 0.040 | 0.006 | 0.048 | |
| TwoStepParam-class | 0.317 | 0.017 | 0.335 | |
| approxSilhouette | 0.050 | 0.009 | 0.059 | |
| bootstrapStability | 0.133 | 0.019 | 0.151 | |
| clusterRMSD | 0.005 | 0.000 | 0.006 | |
| clusterRows | 0.506 | 0.015 | 0.521 | |
| clusterSweep | 0.352 | 0.010 | 0.361 | |
| compareClusterings | 0.127 | 0.000 | 0.127 | |
| defaultArguments | 0.002 | 0.000 | 0.003 | |
| linkClusters | 0.054 | 0.008 | 0.064 | |
| makeSNNGraph | 0.841 | 0.010 | 0.851 | |
| mergeCommunities | 0.024 | 0.001 | 0.025 | |
| neighborPurity | 0.068 | 0.004 | 0.071 | |
| nestedClusters | 0.032 | 0.000 | 0.032 | |
| pairwiseModularity | 0.633 | 0.010 | 0.643 | |
| pairwiseRand | 0.01 | 0.00 | 0.01 | |