| Back to Multiple platform build/check report for BioC 3.22: simplified long |
|
This page was generated on 2025-10-24 12:07 -0400 (Fri, 24 Oct 2025).
| Hostname | OS | Arch (*) | R version | Installed pkgs |
|---|---|---|---|---|
| nebbiolo2 | Linux (Ubuntu 24.04.3 LTS) | x86_64 | 4.5.1 Patched (2025-08-23 r88802) -- "Great Square Root" | 4898 |
| lconway | macOS 12.7.6 Monterey | x86_64 | 4.5.1 Patched (2025-09-10 r88807) -- "Great Square Root" | 4688 |
| kjohnson3 | macOS 13.7.7 Ventura | arm64 | 4.5.1 Patched (2025-09-10 r88807) -- "Great Square Root" | 4634 |
| taishan | Linux (openEuler 24.03 LTS) | aarch64 | 4.5.0 (2025-04-11) -- "How About a Twenty-Six" | 4658 |
| Click on any hostname to see more info about the system (e.g. compilers) (*) as reported by 'uname -p', except on Windows and Mac OS X | ||||
| Package 159/2359 | Hostname | OS / Arch | INSTALL | BUILD | CHECK | BUILD BIN | ||||||||
| beadarray 2.59.0 (landing page) Mark Dunning
| nebbiolo2 | Linux (Ubuntu 24.04.3 LTS) / x86_64 | OK | OK | ERROR | |||||||||
| lconway | macOS 12.7.6 Monterey / x86_64 | OK | OK | ERROR | OK | |||||||||
| kjohnson3 | macOS 13.7.7 Ventura / arm64 | OK | OK | ERROR | OK | |||||||||
| taishan | Linux (openEuler 24.03 LTS) / aarch64 | OK | OK | OK | ||||||||||
|
To the developers/maintainers of the beadarray package: - Allow up to 24 hours (and sometimes 48 hours) for your latest push to git@git.bioconductor.org:packages/beadarray.git to reflect on this report. See Troubleshooting Build Report for more information. - Use the following Renviron settings to reproduce errors and warnings. - If 'R CMD check' started to fail recently on the Linux builder(s) over a missing dependency, add the missing dependency to 'Suggests:' in your DESCRIPTION file. See Renviron.bioc for more information. - See Martin Grigorov's blog post for how to debug Linux ARM64 related issues on a x86_64 host. |
| Package: beadarray |
| Version: 2.59.0 |
| Command: /home/biocbuild/R/R/bin/R CMD check --install=check:beadarray.install-out.txt --library=/home/biocbuild/R/R/site-library --no-vignettes --timings beadarray_2.59.0.tar.gz |
| StartedAt: 2025-10-21 04:49:33 -0000 (Tue, 21 Oct 2025) |
| EndedAt: 2025-10-21 04:57:34 -0000 (Tue, 21 Oct 2025) |
| EllapsedTime: 481.1 seconds |
| RetCode: 0 |
| Status: OK |
| CheckDir: beadarray.Rcheck |
| Warnings: 0 |
##############################################################################
##############################################################################
###
### Running command:
###
### /home/biocbuild/R/R/bin/R CMD check --install=check:beadarray.install-out.txt --library=/home/biocbuild/R/R/site-library --no-vignettes --timings beadarray_2.59.0.tar.gz
###
##############################################################################
##############################################################################
* using log directory ‘/home/biocbuild/bbs-3.22-bioc/meat/beadarray.Rcheck’
* using R version 4.5.0 (2025-04-11)
* using platform: aarch64-unknown-linux-gnu
* R was compiled by
aarch64-unknown-linux-gnu-gcc (GCC) 14.2.0
GNU Fortran (GCC) 14.2.0
* running under: openEuler 24.03 (LTS)
* using session charset: UTF-8
* using option ‘--no-vignettes’
* checking for file ‘beadarray/DESCRIPTION’ ... OK
* this is package ‘beadarray’ version ‘2.59.0’
* checking package namespace information ... OK
* checking package dependencies ... OK
* checking if this is a source package ... OK
* checking if there is a namespace ... OK
* checking for hidden files and directories ... OK
* checking for portable file names ... OK
* checking for sufficient/correct file permissions ... OK
* checking whether package ‘beadarray’ can be installed ... OK
* used C compiler: ‘aarch64-unknown-linux-gnu-gcc (GCC) 14.2.0’
* checking installed package size ... OK
* checking package directory ... OK
* checking ‘build’ directory ... OK
* checking DESCRIPTION meta-information ... NOTE
License stub is invalid DCF.
* checking top-level files ... OK
* checking for left-over files ... OK
* checking index information ... OK
* checking package subdirectories ... OK
* checking code files for non-ASCII characters ... OK
* checking R files for syntax errors ... OK
* checking whether the package can be loaded ... OK
* checking whether the package can be loaded with stated dependencies ... OK
* checking whether the package can be unloaded cleanly ... OK
* checking whether the namespace can be loaded with stated dependencies ... OK
* checking whether the namespace can be unloaded cleanly ... OK
* checking loading without being on the library search path ... OK
* checking whether startup messages can be suppressed ... OK
* checking dependencies in R code ... NOTE
Package in Depends field not imported from: ‘hexbin’
These packages need to be imported from (in the NAMESPACE file)
for when this namespace is loaded but not attached.
Unexported objects imported by ':::' calls:
‘BeadDataPackR:::combineFiles’ ‘BeadDataPackR:::readHeader’
‘Biobase:::assayDataStorageMode’
See the note in ?`:::` about the use of this operator.
* checking S3 generic/method consistency ... OK
* checking replacement functions ... OK
* checking foreign function calls ... NOTE
Foreign function call to a different package:
.Call("roundLocsFileValues", ..., PACKAGE = "BeadDataPackR")
See chapter ‘System and foreign language interfaces’ in the ‘Writing R
Extensions’ manual.
* checking R code for possible problems ... NOTE
combinedControlPlot: no visible binding for global variable ‘Negative’
createGEOMeta: no visible binding for global variable ‘metaTemplate’
expressionQCPipeline: no visible global function definition for
‘openPage’
expressionQCPipeline: no visible global function definition for
‘hwrite’
expressionQCPipeline: no visible global function definition for
‘hwriteImage’
expressionQCPipeline: no visible global function definition for
‘closePage’
getPlatformSigs: no visible global function definition for
‘lumiHumanIDMapping_dbconn’
getPlatformSigs: no visible global function definition for
‘dbListTables’
getPlatformSigs: no visible global function definition for
‘dbListFields’
getPlatformSigs: no visible global function definition for ‘dbGetQuery’
getPlatformSigs: no visible global function definition for
‘lumiMouseIDMapping_dbconn’
getPlatformSigs: no visible global function definition for
‘lumiRatIDMapping_dbconn’
imageplot: no visible binding for global variable ‘Var1’
imageplot: no visible binding for global variable ‘Var2’
imageplot: no visible binding for global variable ‘value’
makeReport: no visible binding for global variable ‘Nozzle.R1’
makeReport: no visible binding for global variable ‘ggbio’
makeReport: no visible global function definition for ‘newCustomReport’
makeReport: no visible global function definition for ‘newSection’
makeReport: no visible global function definition for ‘newTable’
makeReport: no visible global function definition for ‘newParagraph’
makeReport: no visible global function definition for ‘addTo’
makeReport: no visible global function definition for ‘autoplot’
makeReport: no visible global function definition for ‘plotIdeogram’
makeReport: no visible global function definition for ‘tracks’
makeReport: no visible global function definition for ‘newFigure’
makeReport: no visible binding for global variable ‘IMAGE.TYPE.RASTER’
makeReport: no visible binding for global variable ‘PROTECTION.PUBLIC’
makeReport: no visible binding for global variable ‘value’
makeReport: no visible global function definition for ‘writeReport’
maplots: no visible binding for global variable ‘value.1’
maplots: no visible binding for global variable ‘value’
normaliseIllumina: no visible global function definition for ‘lumiT’
normaliseIllumina: no visible global function definition for
‘normalize.qspline’
normaliseIllumina: no visible global function definition for ‘vsn2’
plotBeadLocations2: no visible global function definition for ‘qplot’
plotBeadLocations2: no visible global function definition for ‘opts’
plotBeadLocations2: no visible global function definition for
‘theme_blank’
plotProbe: no visible global function definition for ‘autoplot’
plotProbe: no visible binding for global variable ‘genesymbol’
plotProbe: no visible global function definition for ‘tracks’
plotProbe: no visible binding for global variable ‘PROBEQUALITY’
rankInvariantNormalise: no visible global function definition for
‘normalize.invariantset’
suggestAnnotation: no visible binding for global variable
‘platformSigs’
suggestAnnotation_Vector: no visible binding for global variable
‘platformSigs’
[,ExpressionSetIllumina-ANY: no visible global function definition for
‘assayDataEnvLock’
boxplot,ExpressionSetIllumina: no visible binding for global variable
‘Var2’
boxplot,ExpressionSetIllumina: no visible binding for global variable
‘value’
plotMA,ExpressionSetIllumina: no visible binding for global variable
‘value.1’
plotMA,ExpressionSetIllumina: no visible binding for global variable
‘value’
Undefined global functions or variables:
IMAGE.TYPE.RASTER Negative Nozzle.R1 PROBEQUALITY PROTECTION.PUBLIC
Var1 Var2 addTo assayDataEnvLock autoplot closePage dbGetQuery
dbListFields dbListTables genesymbol ggbio hwrite hwriteImage
lumiHumanIDMapping_dbconn lumiMouseIDMapping_dbconn
lumiRatIDMapping_dbconn lumiT metaTemplate newCustomReport newFigure
newParagraph newSection newTable normalize.invariantset
normalize.qspline openPage opts platformSigs plotIdeogram qplot
theme_blank tracks value value.1 vsn2 writeReport
* checking Rd files ... NOTE
checkRd: (-1) createTargetsFile.Rd:49: Lost braces
49 | code{metricsflag}: This gives the key word that can be used to identify metrics files.
| ^
checkRd: (-1) readBeadSummaryData.Rd:70: Escaped LaTeX specials: \_
checkRd: (-1) readBeadSummaryData.Rd:71: Escaped LaTeX specials: \_ \_
checkRd: (-1) readBeadSummaryData.Rd:76: Escaped LaTeX specials: \_ \_
checkRd: (-1) sampleSheet.Rd:26: Escaped LaTeX specials: \_ \_ \_ \_ \_ \_ \_ \_ \_ \_ \_ \_
* checking Rd metadata ... OK
* checking Rd cross-references ... NOTE
Non-topic package-anchored link(s) in Rd file 'class-ExpressionSetIllumina.Rd':
‘[Biobase:class.eSet]{eSet}’
See section 'Cross-references' in the 'Writing R Extensions' manual.
* checking for missing documentation entries ... OK
* checking for code/documentation mismatches ... OK
* checking Rd \usage sections ... OK
* checking Rd contents ... OK
* checking for unstated dependencies in examples ... OK
* checking contents of ‘data’ directory ... OK
* checking data for non-ASCII characters ... OK
* checking LazyData ... OK
* checking data for ASCII and uncompressed saves ... OK
* checking line endings in C/C++/Fortran sources/headers ... OK
* checking compiled code ... NOTE
Note: information on .o files is not available
* checking files in ‘vignettes’ ... OK
* checking examples ... OK
Examples with CPU (user + system) or elapsed time > 5s
user system elapsed
squeezedVarOutlierMethod 41.657 0.436 42.312
summarize 23.481 0.421 24.022
limmaDE 20.200 0.210 20.535
normaliseIllumina 14.561 0.330 14.988
calculateOutlierStats 11.990 0.326 12.381
calculateDetection 11.191 0.207 11.457
outlierplot 10.289 0.262 10.595
controlProbeDetection 9.262 0.100 9.408
identifyControlBeads 8.329 0.059 8.422
makeQCTable 8.083 0.203 8.325
insertSectionData 7.870 0.243 8.148
poscontPlot 6.791 0.100 6.920
annotationInterface 6.078 0.314 6.432
imageplot 6.227 0.056 6.310
addFeatureData 5.789 0.207 6.044
* checking for unstated dependencies in vignettes ... OK
* checking package vignettes ... OK
* checking running R code from vignettes ... SKIPPED
* checking re-building of vignette outputs ... SKIPPED
* checking PDF version of manual ... OK
* DONE
Status: 7 NOTEs
See
‘/home/biocbuild/bbs-3.22-bioc/meat/beadarray.Rcheck/00check.log’
for details.
beadarray.Rcheck/00install.out
##############################################################################
##############################################################################
###
### Running command:
###
### /home/biocbuild/R/R/bin/R CMD INSTALL beadarray
###
##############################################################################
##############################################################################
* installing to library ‘/home/biocbuild/R/R-4.5.0/site-library’
* installing *source* package ‘beadarray’ ...
** this is package ‘beadarray’ version ‘2.59.0’
** using staged installation
** libs
using C compiler: ‘aarch64-unknown-linux-gnu-gcc (GCC) 14.2.0’
/opt/ohpc/pub/compiler/gcc/14.2.0/bin/aarch64-unknown-linux-gnu-gcc -std=gnu23 -I"/home/biocbuild/R/R-4.5.0/include" -DNDEBUG -I/usr/local/include -fPIC -g -O2 -Wall -Werror=format-security -c BASH.c -o BASH.o
/opt/ohpc/pub/compiler/gcc/14.2.0/bin/aarch64-unknown-linux-gnu-gcc -std=gnu23 -I"/home/biocbuild/R/R-4.5.0/include" -DNDEBUG -I/usr/local/include -fPIC -g -O2 -Wall -Werror=format-security -c HULK.c -o HULK.o
/opt/ohpc/pub/compiler/gcc/14.2.0/bin/aarch64-unknown-linux-gnu-gcc -std=gnu23 -I"/home/biocbuild/R/R-4.5.0/include" -DNDEBUG -I/usr/local/include -fPIC -g -O2 -Wall -Werror=format-security -c determiningGridPositions.c -o determiningGridPositions.o
/opt/ohpc/pub/compiler/gcc/14.2.0/bin/aarch64-unknown-linux-gnu-gcc -std=gnu23 -I"/home/biocbuild/R/R-4.5.0/include" -DNDEBUG -I/usr/local/include -fPIC -g -O2 -Wall -Werror=format-security -c findAllOutliers.c -o findAllOutliers.o
findAllOutliers.c: In function ‘findBeadStatus’:
findAllOutliers.c:196:35: warning: ‘m’ may be used uninitialized [-Wmaybe-uninitialized]
196 | if((inten[k] < (m + *nmads*ma)) && (inten[k] > (m - *nmads*ma))){
| ~~~^~~~~~~~~~~~
findAllOutliers.c:155:16: note: ‘m’ was declared here
155 | double m, ma;
| ^
findAllOutliers.c:189:15: warning: ‘ma’ may be used uninitialized [-Wmaybe-uninitialized]
189 | if(ma==0) {
| ^
findAllOutliers.c:155:19: note: ‘ma’ was declared here
155 | double m, ma;
| ^~
findAllOutliers.c: In function ‘findAllOutliers’:
findAllOutliers.c:246:20: warning: ‘status’ may be used uninitialized [-Wmaybe-uninitialized]
246 | free(status->validInds);
| ~~~~~~^~~~~~~~~~~
findAllOutliers.c:226:27: note: ‘status’ was declared here
226 | beadStatusStruct *status;
| ^~~~~~
/opt/ohpc/pub/compiler/gcc/14.2.0/bin/aarch64-unknown-linux-gnu-gcc -std=gnu23 -I"/home/biocbuild/R/R-4.5.0/include" -DNDEBUG -I/usr/local/include -fPIC -g -O2 -Wall -Werror=format-security -c imageProcessing.c -o imageProcessing.o
imageProcessing.c: In function ‘illuminaBackground’:
imageProcessing.c:88: warning: ignoring ‘#pragma omp parallel’ [-Wunknown-pragmas]
88 | #pragma omp parallel shared(nthreads, nbeads, imageHeight, pixelMatrix, coords) private(tid, start, end)
imageProcessing.c: In function ‘medianBackground’:
imageProcessing.c:135: warning: ignoring ‘#pragma omp parallel’ [-Wunknown-pragmas]
135 | #pragma omp parallel shared(nthreads, nbeads, imageHeight, pixelMatrix, coords) private(tid, start, end)
imageProcessing.c: In function ‘illuminaSharpen’:
imageProcessing.c:244: warning: ignoring ‘#pragma omp parallel’ [-Wunknown-pragmas]
244 | #pragma omp parallel for private(i, j) shared(sharpened) num_threads(2)
imageProcessing.c:251: warning: ignoring ‘#pragma omp parallel’ [-Wunknown-pragmas]
251 | #pragma omp parallel for private(i, j, sum) shared(sharpened) num_threads(2)
/opt/ohpc/pub/compiler/gcc/14.2.0/bin/aarch64-unknown-linux-gnu-gcc -std=gnu23 -shared -L/home/biocbuild/R/R-4.5.0/lib -L/usr/local/lib -o beadarray.so BASH.o HULK.o determiningGridPositions.o findAllOutliers.o imageProcessing.o -L/home/biocbuild/R/R-4.5.0/lib -lR
installing to /home/biocbuild/R/R-4.5.0/site-library/00LOCK-beadarray/00new/beadarray/libs
** R
** data
*** moving datasets to lazyload DB
** inst
** byte-compile and prepare package for lazy loading
** help
*** installing help indices
** building package indices
** installing vignettes
** testing if installed package can be loaded from temporary location
** checking absolute paths in shared objects and dynamic libraries
** testing if installed package can be loaded from final location
** testing if installed package keeps a record of temporary installation path
* DONE (beadarray)
beadarray.Rcheck/beadarray-Ex.timings
| name | user | system | elapsed | |
| BASH | 0.000 | 0.000 | 0.001 | |
| BASHCompact | 0 | 0 | 0 | |
| BASHDiffuse | 0 | 0 | 0 | |
| BASHExtended | 0 | 0 | 0 | |
| GEO | 0.000 | 0.000 | 0.001 | |
| GEOtemplate | 0.002 | 0.000 | 0.002 | |
| HULK | 0 | 0 | 0 | |
| addFeatureData | 5.789 | 0.207 | 6.044 | |
| annotationInterface | 6.078 | 0.314 | 6.432 | |
| backgroundCorrectSingleSection | 0 | 0 | 0 | |
| beadarrayUsersGuide | 0.002 | 0.000 | 0.002 | |
| boxplot | 4.090 | 0.123 | 4.239 | |
| calculateDetection | 11.191 | 0.207 | 11.457 | |
| calculateOutlierStats | 11.990 | 0.326 | 12.381 | |
| class-beadLevelData | 2.025 | 0.068 | 2.104 | |
| class-illuminaChannel | 0.000 | 0.002 | 0.003 | |
| combine | 3.332 | 0.048 | 3.399 | |
| controlProbeDetection | 9.262 | 0.100 | 9.408 | |
| createTargetsFile | 0 | 0 | 0 | |
| expressionQCPipeline | 0.026 | 0.008 | 0.034 | |
| generateNeighbours | 0 | 0 | 0 | |
| getBeadData | 1.588 | 0.024 | 1.620 | |
| identifyControlBeads | 8.329 | 0.059 | 8.422 | |
| illuminaOutlierMethod | 2.369 | 0.099 | 2.481 | |
| imageplot | 6.227 | 0.056 | 6.310 | |
| insertBeadData | 2.119 | 0.074 | 2.204 | |
| insertSectionData | 7.870 | 0.243 | 8.148 | |
| limmaDE | 20.200 | 0.210 | 20.535 | |
| makeControlProfile | 0.398 | 0.004 | 0.405 | |
| makeQCTable | 8.083 | 0.203 | 8.325 | |
| maplots | 4.869 | 0.088 | 4.981 | |
| medianNormalise | 1.332 | 0.011 | 1.352 | |
| metrics | 1.377 | 0.020 | 1.404 | |
| noOutlierMethod | 1.389 | 0.056 | 1.453 | |
| normaliseIllumina | 14.561 | 0.330 | 14.988 | |
| numBeads | 2.492 | 0.119 | 2.626 | |
| outlierplot | 10.289 | 0.262 | 10.595 | |
| plotBeadIntensities | 1.795 | 0.143 | 1.948 | |
| plotBeadLocations | 2.550 | 0.055 | 2.619 | |
| plotChipLayout | 0 | 0 | 0 | |
| plotMAXY | 0 | 0 | 0 | |
| poscontPlot | 6.791 | 0.100 | 6.920 | |
| quickSummary | 4.676 | 0.165 | 4.865 | |
| readBeadSummaryData | 0 | 0 | 0 | |
| sectionNames | 1.491 | 0.075 | 1.574 | |
| showArrayMask | 3.859 | 0.104 | 3.983 | |
| squeezedVarOutlierMethod | 41.657 | 0.436 | 42.312 | |
| summarize | 23.481 | 0.421 | 24.022 | |
| transformationFunctions | 2.866 | 0.040 | 2.921 | |
| weightsOutlierMethod | 0 | 0 | 0 | |