Back to Multiple platform build/check report for BioC 3.22:   simplified   long
A[B]CDEFGHIJKLMNOPQRSTUVWXYZ

This page was generated on 2025-11-20 12:05 -0500 (Thu, 20 Nov 2025).

HostnameOSArch (*)R versionInstalled pkgs
nebbiolo2Linux (Ubuntu 24.04.3 LTS)x86_644.5.2 (2025-10-31) -- "[Not] Part in a Rumble" 4615
merida1macOS 12.7.6 Montereyx86_644.5.2 Patched (2025-11-05 r88990) -- "[Not] Part in a Rumble" 4610
kjohnson1macOS 13.7.5 Venturaarm644.5.2 Patched (2025-11-04 r88984) -- "[Not] Part in a Rumble" 4598
taishanLinux (openEuler 24.03 LTS)aarch644.5.0 (2025-04-11) -- "How About a Twenty-Six" 4668
Click on any hostname to see more info about the system (e.g. compilers)      (*) as reported by 'uname -p', except on Windows and Mac OS X

Package 137/2361HostnameOS / ArchINSTALLBUILDCHECKBUILD BIN
basecallQC 1.34.0  (landing page)
Thomas Carroll
Snapshot Date: 2025-11-17 13:45 -0500 (Mon, 17 Nov 2025)
git_url: https://git.bioconductor.org/packages/basecallQC
git_branch: RELEASE_3_22
git_last_commit: 7d04b5c
git_last_commit_date: 2025-10-29 10:38:02 -0500 (Wed, 29 Oct 2025)
nebbiolo2Linux (Ubuntu 24.04.3 LTS) / x86_64  OK    OK    ERROR  
merida1macOS 12.7.6 Monterey / x86_64  OK    OK    ERROR    OK  
kjohnson1macOS 13.7.5 Ventura / arm64  OK    OK    ERROR    OK  
taishanLinux (openEuler 24.03 LTS) / aarch64  OK    OK    OK  


CHECK results for basecallQC on kjohnson1

To the developers/maintainers of the basecallQC package:
- Allow up to 24 hours (and sometimes 48 hours) for your latest push to git@git.bioconductor.org:packages/basecallQC.git to reflect on this report. See Troubleshooting Build Report for more information.
- Use the following Renviron settings to reproduce errors and warnings.
- If 'R CMD check' started to fail recently on the Linux builder(s) over a missing dependency, add the missing dependency to 'Suggests:' in your DESCRIPTION file. See Renviron.bioc for more information.

raw results


Summary

Package: basecallQC
Version: 1.34.0
Command: /Library/Frameworks/R.framework/Resources/bin/R CMD check --install=check:basecallQC.install-out.txt --library=/Library/Frameworks/R.framework/Resources/library --no-vignettes --timings basecallQC_1.34.0.tar.gz
StartedAt: 2025-11-18 02:55:13 -0500 (Tue, 18 Nov 2025)
EndedAt: 2025-11-18 02:58:22 -0500 (Tue, 18 Nov 2025)
EllapsedTime: 188.5 seconds
RetCode: 1
Status:   ERROR  
CheckDir: basecallQC.Rcheck
Warnings: NA

Command output

##############################################################################
##############################################################################
###
### Running command:
###
###   /Library/Frameworks/R.framework/Resources/bin/R CMD check --install=check:basecallQC.install-out.txt --library=/Library/Frameworks/R.framework/Resources/library --no-vignettes --timings basecallQC_1.34.0.tar.gz
###
##############################################################################
##############################################################################


* using log directory ‘/Users/biocbuild/bbs-3.22-bioc/meat/basecallQC.Rcheck’
* using R version 4.5.2 Patched (2025-11-04 r88984)
* using platform: aarch64-apple-darwin20
* R was compiled by
    Apple clang version 16.0.0 (clang-1600.0.26.6)
    GNU Fortran (GCC) 14.2.0
* running under: macOS Ventura 13.7.8
* using session charset: UTF-8
* using option ‘--no-vignettes’
* checking for file ‘basecallQC/DESCRIPTION’ ... OK
* checking extension type ... Package
* this is package ‘basecallQC’ version ‘1.34.0’
* checking package namespace information ... OK
* checking package dependencies ... OK
* checking if this is a source package ... OK
* checking if there is a namespace ... OK
* checking for hidden files and directories ... OK
* checking for portable file names ... OK
* checking for sufficient/correct file permissions ... OK
* checking whether package ‘basecallQC’ can be installed ... OK
* checking installed package size ... OK
* checking package directory ... OK
* checking ‘build’ directory ... OK
* checking DESCRIPTION meta-information ... OK
* checking top-level files ... OK
* checking for left-over files ... OK
* checking index information ... OK
* checking package subdirectories ... OK
* checking code files for non-ASCII characters ... OK
* checking R files for syntax errors ... OK
* checking whether the package can be loaded ... OK
* checking whether the package can be loaded with stated dependencies ... OK
* checking whether the package can be unloaded cleanly ... OK
* checking whether the namespace can be loaded with stated dependencies ... OK
* checking whether the namespace can be unloaded cleanly ... OK
* checking dependencies in R code ... OK
* checking S3 generic/method consistency ... OK
* checking replacement functions ... OK
* checking foreign function calls ... OK
* checking R code for possible problems ... OK
* checking Rd files ... NOTE
checkRd: (-1) BCL2FastQparams.Rd:39: Lost braces in \itemize; meant \describe ?
checkRd: (-1) BCL2FastQparams.Rd:40: Lost braces in \itemize; meant \describe ?
checkRd: (-1) BCL2FastQparams.Rd:41-42: Lost braces in \itemize; meant \describe ?
checkRd: (-1) basecallQC.Rd:39: Lost braces in \itemize; meant \describe ?
checkRd: (-1) basecallQC.Rd:40-42: Lost braces in \itemize; meant \describe ?
checkRd: (-1) basecallQC.Rd:43-44: Lost braces in \itemize; meant \describe ?
checkRd: (-1) basecallQC.Rd:45-46: Lost braces in \itemize; meant \describe ?
checkRd: (-1) basecallQC.Rd:47-48: Lost braces in \itemize; meant \describe ?
checkRd: (-1) basecallQC.Rd:49-50: Lost braces in \itemize; meant \describe ?
checkRd: (-1) basecallQC.Rd:51-52: Lost braces in \itemize; meant \describe ?
checkRd: (-1) interOpsReport.Rd:32-33: Lost braces in \itemize; meant \describe ?
checkRd: (-1) interOpsReport.Rd:34-37: Lost braces in \itemize; meant \describe ?
checkRd: (-1) interOpsReport.Rd:38-41: Lost braces in \itemize; meant \describe ?
* checking Rd metadata ... OK
* checking Rd cross-references ... OK
* checking for missing documentation entries ... OK
* checking for code/documentation mismatches ... OK
* checking Rd \usage sections ... OK
* checking Rd contents ... OK
* checking for unstated dependencies in examples ... OK
* checking files in ‘vignettes’ ... OK
* checking examples ... OK
* checking for unstated dependencies in ‘tests’ ... OK
* checking tests ...
  Running ‘testthat.R’
 ERROR
Running the tests in ‘tests/testthat.R’ failed.
Last 13 lines of output:
  ── Error ('test_Run4.R:14:1'): (code run outside of `test_that()`) ─────────────
  Error in `is_true()`: could not find function "is_true"
  Backtrace:
      ▆
   1. └─testthat::expect_that(...) at test_Run4.R:14:1
  ── Error ('test_Run5.R:14:1'): (code run outside of `test_that()`) ─────────────
  Error in `is_true()`: could not find function "is_true"
  Backtrace:
      ▆
   1. └─testthat::expect_that(...) at test_Run5.R:14:1
  
  [ FAIL 5 | WARN 42 | SKIP 0 | PASS 0 ]
  Error:
  ! Test failures.
  Execution halted
* checking for unstated dependencies in vignettes ... OK
* checking package vignettes ... OK
* checking running R code from vignettes ... SKIPPED
* checking re-building of vignette outputs ... SKIPPED
* checking PDF version of manual ... OK
* DONE

Status: 1 ERROR, 1 NOTE
See
  ‘/Users/biocbuild/bbs-3.22-bioc/meat/basecallQC.Rcheck/00check.log’
for details.


Installation output

basecallQC.Rcheck/00install.out

##############################################################################
##############################################################################
###
### Running command:
###
###   /Library/Frameworks/R.framework/Resources/bin/R CMD INSTALL basecallQC
###
##############################################################################
##############################################################################


* installing to library ‘/Library/Frameworks/R.framework/Versions/4.5-arm64/Resources/library’
* installing *source* package ‘basecallQC’ ...
** this is package ‘basecallQC’ version ‘1.34.0’
** using staged installation
** R
** inst
** byte-compile and prepare package for lazy loading
** help
*** installing help indices
** building package indices
** installing vignettes
** testing if installed package can be loaded from temporary location
** testing if installed package can be loaded from final location
** testing if installed package keeps a record of temporary installation path
* DONE (basecallQC)

Tests output

basecallQC.Rcheck/tests/testthat.Rout.fail


R version 4.5.2 Patched (2025-11-04 r88984) -- "[Not] Part in a Rumble"
Copyright (C) 2025 The R Foundation for Statistical Computing
Platform: aarch64-apple-darwin20

R is free software and comes with ABSOLUTELY NO WARRANTY.
You are welcome to redistribute it under certain conditions.
Type 'license()' or 'licence()' for distribution details.

R is a collaborative project with many contributors.
Type 'contributors()' for more information and
'citation()' on how to cite R or R packages in publications.

Type 'demo()' for some demos, 'help()' for on-line help, or
'help.start()' for an HTML browser interface to help.
Type 'q()' to quit R.

> library(testthat)
> library(basecallQC)
Loading required package: rmarkdown
Loading required package: knitr
Loading required package: prettydoc
Loading required package: yaml
> 
> test_check("basecallQC")
Saving _problems/test_Run1-13.R
Saving _problems/test_Run2-16.R
Saving _problems/test_Run3-17.R
Saving _problems/test_Run4-17.R
Saving _problems/test_Run5-17.R
[ FAIL 5 | WARN 42 | SKIP 0 | PASS 0 ]

══ Failed tests ════════════════════════════════════════════════════════════════
── Error ('test_Run1.R:11:1'): (code run outside of `test_that()`) ─────────────
Error in `is_true()`: could not find function "is_true"
Backtrace:
    ▆
 1. └─testthat::expect_that(class(plot)[2] == "ggplot", is_true()) at test_Run1.R:11:1
── Error ('test_Run2.R:13:1'): (code run outside of `test_that()`) ─────────────
Error in `is_true()`: could not find function "is_true"
Backtrace:
    ▆
 1. └─testthat::expect_that(...) at test_Run2.R:13:1
── Error ('test_Run3.R:14:1'): (code run outside of `test_that()`) ─────────────
Error in `is_true()`: could not find function "is_true"
Backtrace:
    ▆
 1. └─testthat::expect_that(...) at test_Run3.R:14:1
── Error ('test_Run4.R:14:1'): (code run outside of `test_that()`) ─────────────
Error in `is_true()`: could not find function "is_true"
Backtrace:
    ▆
 1. └─testthat::expect_that(...) at test_Run4.R:14:1
── Error ('test_Run5.R:14:1'): (code run outside of `test_that()`) ─────────────
Error in `is_true()`: could not find function "is_true"
Backtrace:
    ▆
 1. └─testthat::expect_that(...) at test_Run5.R:14:1

[ FAIL 5 | WARN 42 | SKIP 0 | PASS 0 ]
Error:
! Test failures.
Execution halted

Example timings

basecallQC.Rcheck/basecallQC-Ex.timings

nameusersystemelapsed
BCL2FastQparams0.0890.0080.097
baseCallMetrics1.8680.0332.118
basecallQC1.4660.0071.565
createBCLcommand0.1040.0010.110
createBasemasks0.0920.0010.108
demultiplexMetrics0.0200.0010.021
demuxBarplot1.6110.0121.848
demuxBoxplot1.5770.0131.723
indexlengths0.010.000.01
interOpsReport0.0080.0000.009
makeFQTable1.4920.0041.575
passFilterBar2.0300.0152.467
passFilterBoxplot1.4870.0051.594
passFilterTileplot1.5140.0051.622
readlengths0.0090.0010.009
reportBCL2.7020.0892.973
summaryConvStatsTable1.4870.0061.574
summaryDemuxTable1.5820.0111.765
validateBCLSheet0.0240.0010.029