| Back to Multiple platform build/check report for BioC 3.22: simplified long | 
 | 
This page was generated on 2025-10-24 12:03 -0400 (Fri, 24 Oct 2025).
| Hostname | OS | Arch (*) | R version | Installed pkgs | 
|---|---|---|---|---|
| nebbiolo2 | Linux (Ubuntu 24.04.3 LTS) | x86_64 | 4.5.1 Patched (2025-08-23 r88802) -- "Great Square Root" | 4898 | 
| lconway | macOS 12.7.6 Monterey | x86_64 | 4.5.1 Patched (2025-09-10 r88807) -- "Great Square Root" | 4688 | 
| kjohnson3 | macOS 13.7.7 Ventura | arm64 | 4.5.1 Patched (2025-09-10 r88807) -- "Great Square Root" | 4634 | 
| taishan | Linux (openEuler 24.03 LTS) | aarch64 | 4.5.0 (2025-04-11) -- "How About a Twenty-Six" | 4658 | 
| Click on any hostname to see more info about the system (e.g. compilers) (*) as reported by 'uname -p', except on Windows and Mac OS X | ||||
| Package 68/2359 | Hostname | OS / Arch | INSTALL | BUILD | CHECK | BUILD BIN | ||||||||
| anglemania 0.99.7  (landing page) Aaron Kollotzek 
 | nebbiolo2 | Linux (Ubuntu 24.04.3 LTS) / x86_64 | OK | OK | OK |  | ||||||||
| lconway | macOS 12.7.6 Monterey / x86_64 | OK | OK | OK | OK |  | ||||||||
| kjohnson3 | macOS 13.7.7 Ventura / arm64 | OK | OK | OK | OK |  | ||||||||
| taishan | Linux (openEuler 24.03 LTS) / aarch64 | OK | OK | ERROR | ||||||||||
| To the developers/maintainers of the anglemania package: - Allow up to 24 hours (and sometimes 48 hours) for your latest push to git@git.bioconductor.org:packages/anglemania.git to reflect on this report. See Troubleshooting Build Report for more information. - Use the following Renviron settings to reproduce errors and warnings. - If 'R CMD check' started to fail recently on the Linux builder(s) over a missing dependency, add the missing dependency to 'Suggests:' in your DESCRIPTION file. See Renviron.bioc for more information. | 
| Package: anglemania | 
| Version: 0.99.7 | 
| Command: /home/biocbuild/bbs-3.22-bioc/R/bin/R CMD check --install=check:anglemania.install-out.txt --library=/home/biocbuild/bbs-3.22-bioc/R/site-library --timings anglemania_0.99.7.tar.gz | 
| StartedAt: 2025-10-23 21:03:06 -0400 (Thu, 23 Oct 2025) | 
| EndedAt: 2025-10-23 21:17:46 -0400 (Thu, 23 Oct 2025) | 
| EllapsedTime: 880.4 seconds | 
| RetCode: 0 | 
| Status: OK | 
| CheckDir: anglemania.Rcheck | 
| Warnings: 0 | 
##############################################################################
##############################################################################
###
### Running command:
###
###   /home/biocbuild/bbs-3.22-bioc/R/bin/R CMD check --install=check:anglemania.install-out.txt --library=/home/biocbuild/bbs-3.22-bioc/R/site-library --timings anglemania_0.99.7.tar.gz
###
##############################################################################
##############################################################################
* using log directory ‘/home/biocbuild/bbs-3.22-bioc/meat/anglemania.Rcheck’
* using R version 4.5.1 Patched (2025-08-23 r88802)
* using platform: x86_64-pc-linux-gnu
* R was compiled by
    gcc (Ubuntu 13.3.0-6ubuntu2~24.04) 13.3.0
    GNU Fortran (Ubuntu 13.3.0-6ubuntu2~24.04) 13.3.0
* running under: Ubuntu 24.04.3 LTS
* using session charset: UTF-8
* checking for file ‘anglemania/DESCRIPTION’ ... OK
* this is package ‘anglemania’ version ‘0.99.7’
* package encoding: UTF-8
* checking package namespace information ... OK
* checking package dependencies ... OK
* checking if this is a source package ... OK
* checking if there is a namespace ... OK
* checking for hidden files and directories ... OK
* checking for portable file names ... OK
* checking for sufficient/correct file permissions ... OK
* checking whether package ‘anglemania’ can be installed ... OK
* used C++ compiler: ‘g++ (Ubuntu 13.3.0-6ubuntu2~24.04) 13.3.0’
* checking installed package size ... OK
* checking package directory ... OK
* checking ‘build’ directory ... OK
* checking DESCRIPTION meta-information ... OK
* checking top-level files ... OK
* checking for left-over files ... OK
* checking index information ... OK
* checking package subdirectories ... OK
* checking code files for non-ASCII characters ... OK
* checking R files for syntax errors ... OK
* checking whether the package can be loaded ... OK
* checking whether the package can be loaded with stated dependencies ... OK
* checking whether the package can be unloaded cleanly ... OK
* checking whether the namespace can be loaded with stated dependencies ... OK
* checking whether the namespace can be unloaded cleanly ... OK
* checking loading without being on the library search path ... OK
* checking dependencies in R code ... NOTE
Unexported object imported by a ':::' call: ‘bigstatsr:::check_args’
  See the note in ?`:::` about the use of this operator.
* checking S3 generic/method consistency ... OK
* checking replacement functions ... OK
* checking foreign function calls ... OK
* checking R code for possible problems ... NOTE
.set_weights: no visible binding for global variable ‘anglemania_batch’
.set_weights: no visible binding for global variable ‘n_samples’
.set_weights: no visible binding for global variable ‘.’
.set_weights: no visible binding for global variable ‘weight’
select_genes: no visible binding for global variable ‘mean_zscore’
select_genes: no visible binding for global variable ‘sd_zscore’
select_genes: no visible binding for global variable ‘rank_mean_zscore’
select_genes: no visible binding for global variable ‘rank_sd_zscore’
Undefined global functions or variables:
  . anglemania_batch mean_zscore n_samples rank_mean_zscore
  rank_sd_zscore sd_zscore weight
* checking Rd files ... OK
* checking Rd metadata ... OK
* checking Rd cross-references ... OK
* checking for missing documentation entries ... OK
* checking for code/documentation mismatches ... OK
* checking Rd \usage sections ... OK
* checking Rd contents ... OK
* checking for unstated dependencies in examples ... OK
* checking line endings in C/C++/Fortran sources/headers ... OK
* checking compiled code ... NOTE
Note: information on .o files is not available
* checking files in ‘vignettes’ ... OK
* checking examples ... OK
* checking for unstated dependencies in ‘tests’ ... OK
* checking tests ...
  Running ‘testthat.R’
 OK
* checking for unstated dependencies in vignettes ... OK
* checking package vignettes ... OK
* checking re-building of vignette outputs ... OK
* checking PDF version of manual ... OK
* DONE
Status: 3 NOTEs
See
  ‘/home/biocbuild/bbs-3.22-bioc/meat/anglemania.Rcheck/00check.log’
for details.
anglemania.Rcheck/00install.out
############################################################################## ############################################################################## ### ### Running command: ### ### /home/biocbuild/bbs-3.22-bioc/R/bin/R CMD INSTALL anglemania ### ############################################################################## ############################################################################## * installing to library ‘/home/biocbuild/bbs-3.22-bioc/R/site-library’ * installing *source* package ‘anglemania’ ... ** this is package ‘anglemania’ version ‘0.99.7’ ** using staged installation ** libs using C++ compiler: ‘g++ (Ubuntu 13.3.0-6ubuntu2~24.04) 13.3.0’ g++ -std=gnu++17 -I"/home/biocbuild/bbs-3.22-bioc/R/include" -DNDEBUG -I'/home/biocbuild/bbs-3.22-bioc/R/site-library/Rcpp/include' -I'/home/biocbuild/bbs-3.22-bioc/R/site-library/rmio/include' -I'/home/biocbuild/bbs-3.22-bioc/R/site-library/bigstatsr/include' -I/usr/local/include -fpic -g -O2 -Wall -Werror=format-security -c RcppExports.cpp -o RcppExports.o g++ -std=gnu++17 -I"/home/biocbuild/bbs-3.22-bioc/R/include" -DNDEBUG -I'/home/biocbuild/bbs-3.22-bioc/R/site-library/Rcpp/include' -I'/home/biocbuild/bbs-3.22-bioc/R/site-library/rmio/include' -I'/home/biocbuild/bbs-3.22-bioc/R/site-library/bigstatsr/include' -I/usr/local/include -fpic -g -O2 -Wall -Werror=format-security -c anglemanise_cpp_utils.cpp -o anglemanise_cpp_utils.o g++ -std=gnu++17 -shared -L/home/biocbuild/bbs-3.22-bioc/R/lib -L/usr/local/lib -o anglemania.so RcppExports.o anglemanise_cpp_utils.o -L/home/biocbuild/bbs-3.22-bioc/R/lib -lR installing to /home/biocbuild/bbs-3.22-bioc/R/site-library/00LOCK-anglemania/00new/anglemania/libs ** R ** byte-compile and prepare package for lazy loading ** help *** installing help indices *** copying figures ** building package indices ** installing vignettes ** testing if installed package can be loaded from temporary location ** checking absolute paths in shared objects and dynamic libraries ** testing if installed package can be loaded from final location ** testing if installed package keeps a record of temporary installation path * DONE (anglemania)
anglemania.Rcheck/tests/testthat.Rout
R version 4.5.1 Patched (2025-08-23 r88802) -- "Great Square Root"
Copyright (C) 2025 The R Foundation for Statistical Computing
Platform: x86_64-pc-linux-gnu
R is free software and comes with ABSOLUTELY NO WARRANTY.
You are welcome to redistribute it under certain conditions.
Type 'license()' or 'licence()' for distribution details.
R is a collaborative project with many contributors.
Type 'contributors()' for more information and
'citation()' on how to cite R or R packages in publications.
Type 'demo()' for some demos, 'help()' for on-line help, or
'help.start()' for an HTML browser interface to help.
Type 'q()' to quit R.
> # This file is part of the standard setup for testthat.
> # It is recommended that you do not modify it.
> #
> # Where should you do additional test configuration?
> # Learn more about the roles of various files in:
> # * https://r-pkgs.org/testing-design.html#sec-tests-files-overview
> # * https://testthat.r-lib.org/articles/special-files.html
> 
> library(testthat)
> library(anglemania)
> 
> test_check("anglemania")
Loading required package: stats4
Loading required package: BiocGenerics
Loading required package: generics
Attaching package: 'generics'
The following objects are masked from 'package:base':
    as.difftime, as.factor, as.ordered, intersect, is.element, setdiff,
    setequal, union
Attaching package: 'BiocGenerics'
The following objects are masked from 'package:stats':
    IQR, mad, sd, var, xtabs
The following objects are masked from 'package:base':
    Filter, Find, Map, Position, Reduce, anyDuplicated, aperm, append,
    as.data.frame, basename, cbind, colnames, dirname, do.call,
    duplicated, eval, evalq, get, grep, grepl, is.unsorted, lapply,
    mapply, match, mget, order, paste, pmax, pmax.int, pmin, pmin.int,
    rank, rbind, rownames, sapply, saveRDS, table, tapply, unique,
    unsplit, which.max, which.min
Attaching package: 'S4Vectors'
The following object is masked from 'package:utils':
    findMatches
The following objects are masked from 'package:base':
    I, expand.grid, unname
No dataset_key specified.
Assuming that all samples belong to the same dataset and are separated by batch_key: batch
Preparing input...
Filtering each batch to at least 1 cells per gene...
  |                                                  | 0 % elapsed=00s   
  |==================================================| 100% elapsed=00s, remaining~00s
Using the intersection of filtered genes from all batches...
Number of genes in intersected set: 300
Extracting count matrices...
  |                                                  | 0 % elapsed=00s   
  |==================================================| 100% elapsed=00s, remaining~00s
Computing angles and transforming to z-scores...
  |                                                  | 0 % elapsed=00s   Creating directory "/tmp/RtmpvnsnIy/file2d19267c228f50" which didn't exist..
  |=========================                         | 50% elapsed=01s, remaining~01sCreating directory "/tmp/RtmpvnsnIy/file2d1926648d3b6d" which didn't exist..
  |==================================================| 100% elapsed=01s, remaining~00s
Computing statistics...
Weighting matrix_list...
Calculating mean...
Calculating sds...
Pre-filtering features...
Extracting filtered features...
Selected 20 genes for integration.
No dataset_key specified.
Assuming that all samples belong to the same dataset and are separated by batch_key: batch
Preparing input...
Filtering each batch to at least 1 cells per gene...
  |                                                  | 0 % elapsed=00s   
  |==================================================| 100% elapsed=00s, remaining~00s
Using the intersection of filtered genes from all batches...
Number of genes in intersected set: 300
Extracting count matrices...
  |                                                  | 0 % elapsed=00s   
  |==================================================| 100% elapsed=00s, remaining~00s
Computing angles and transforming to z-scores...
  |                                                  | 0 % elapsed=00s   Creating directory "/tmp/RtmpvnsnIy/file2d192666a9b7e9" which didn't exist..
  |=========================                         | 50% elapsed=00s, remaining~00sCreating directory "/tmp/RtmpvnsnIy/file2d192671ca1a11" which didn't exist..
  |==================================================| 100% elapsed=00s, remaining~00s
Computing statistics...
Weighting matrix_list...
Calculating mean...
Calculating sds...
Pre-filtering features...
Extracting filtered features...
Selected 20 genes for integration.
Creating directory "/tmp/RtmpvnsnIy/file2d19265873342e" which didn't exist..
Creating directory "/tmp/RtmpvnsnIy/file2d192676a0d04f" which didn't exist..
Creating directory "/tmp/RtmpvnsnIy/file2d1926a06f669" which didn't exist..
Creating directory "/tmp/RtmpvnsnIy/file2d19267ede263" which didn't exist..
Creating directory "/tmp/RtmpvnsnIy/file2d192626258f9d" which didn't exist..
[ FAIL 0 | WARN 0 | SKIP 1 | PASS 23 ]
══ Skipped tests (1) ═══════════════════════════════════════════════════════════
• On CRAN (1): 'test-anglemania.R:13:5'
[ FAIL 0 | WARN 0 | SKIP 1 | PASS 23 ]
> 
> proc.time()
   user  system elapsed 
 12.134   1.361  13.105 
anglemania.Rcheck/anglemania-Ex.timings
| name | user | system | elapsed | |
| adapted_reexports | 0.202 | 0.004 | 0.207 | |
| anglemania | 2.339 | 0.046 | 2.407 | |
| anglemania_utils | 2.477 | 0.087 | 2.654 | |
| extract_angles | 0.021 | 0.000 | 0.021 | |
| factorise | 0.096 | 0.003 | 0.098 | |
| permute_nonzero | 0 | 0 | 0 | |
| sce_example | 0.099 | 0.000 | 0.099 | |
| select_genes | 2.781 | 0.084 | 2.941 | |
| statistics | 1.372 | 0.024 | 1.460 | |