| Back to Multiple platform build/check report for BioC 3.22: simplified long |
|
This page was generated on 2025-10-24 12:03 -0400 (Fri, 24 Oct 2025).
| Hostname | OS | Arch (*) | R version | Installed pkgs |
|---|---|---|---|---|
| nebbiolo2 | Linux (Ubuntu 24.04.3 LTS) | x86_64 | 4.5.1 Patched (2025-08-23 r88802) -- "Great Square Root" | 4898 |
| lconway | macOS 12.7.6 Monterey | x86_64 | 4.5.1 Patched (2025-09-10 r88807) -- "Great Square Root" | 4688 |
| kjohnson3 | macOS 13.7.7 Ventura | arm64 | 4.5.1 Patched (2025-09-10 r88807) -- "Great Square Root" | 4634 |
| taishan | Linux (openEuler 24.03 LTS) | aarch64 | 4.5.0 (2025-04-11) -- "How About a Twenty-Six" | 4658 |
| Click on any hostname to see more info about the system (e.g. compilers) (*) as reported by 'uname -p', except on Windows and Mac OS X | ||||
| Package 64/2359 | Hostname | OS / Arch | INSTALL | BUILD | CHECK | BUILD BIN | ||||||||
| anansi 0.99.4 (landing page) Thomaz Bastiaanssen
| nebbiolo2 | Linux (Ubuntu 24.04.3 LTS) / x86_64 | OK | OK | OK | |||||||||
| lconway | macOS 12.7.6 Monterey / x86_64 | OK | OK | OK | OK | |||||||||
| kjohnson3 | macOS 13.7.7 Ventura / arm64 | OK | OK | OK | OK | |||||||||
| taishan | Linux (openEuler 24.03 LTS) / aarch64 | OK | OK | OK | ||||||||||
|
To the developers/maintainers of the anansi package: - Allow up to 24 hours (and sometimes 48 hours) for your latest push to git@git.bioconductor.org:packages/anansi.git to reflect on this report. See Troubleshooting Build Report for more information. - Use the following Renviron settings to reproduce errors and warnings. - If 'R CMD check' started to fail recently on the Linux builder(s) over a missing dependency, add the missing dependency to 'Suggests:' in your DESCRIPTION file. See Renviron.bioc for more information. |
| Package: anansi |
| Version: 0.99.4 |
| Command: /home/biocbuild/bbs-3.22-bioc/R/bin/R CMD check --install=check:anansi.install-out.txt --library=/home/biocbuild/bbs-3.22-bioc/R/site-library --timings anansi_0.99.4.tar.gz |
| StartedAt: 2025-10-23 21:02:39 -0400 (Thu, 23 Oct 2025) |
| EndedAt: 2025-10-23 21:08:04 -0400 (Thu, 23 Oct 2025) |
| EllapsedTime: 325.4 seconds |
| RetCode: 0 |
| Status: OK |
| CheckDir: anansi.Rcheck |
| Warnings: 0 |
##############################################################################
##############################################################################
###
### Running command:
###
### /home/biocbuild/bbs-3.22-bioc/R/bin/R CMD check --install=check:anansi.install-out.txt --library=/home/biocbuild/bbs-3.22-bioc/R/site-library --timings anansi_0.99.4.tar.gz
###
##############################################################################
##############################################################################
* using log directory ‘/home/biocbuild/bbs-3.22-bioc/meat/anansi.Rcheck’
* using R version 4.5.1 Patched (2025-08-23 r88802)
* using platform: x86_64-pc-linux-gnu
* R was compiled by
gcc (Ubuntu 13.3.0-6ubuntu2~24.04) 13.3.0
GNU Fortran (Ubuntu 13.3.0-6ubuntu2~24.04) 13.3.0
* running under: Ubuntu 24.04.3 LTS
* using session charset: UTF-8
* checking for file ‘anansi/DESCRIPTION’ ... OK
* checking extension type ... Package
* this is package ‘anansi’ version ‘0.99.4’
* package encoding: UTF-8
* checking package namespace information ... OK
* checking package dependencies ... OK
* checking if this is a source package ... OK
* checking if there is a namespace ... OK
* checking for hidden files and directories ... OK
* checking for portable file names ... OK
* checking for sufficient/correct file permissions ... OK
* checking whether package ‘anansi’ can be installed ... OK
* checking installed package size ... OK
* checking package directory ... OK
* checking ‘build’ directory ... OK
* checking DESCRIPTION meta-information ... OK
* checking top-level files ... OK
* checking for left-over files ... OK
* checking index information ... OK
* checking package subdirectories ... OK
* checking code files for non-ASCII characters ... OK
* checking R files for syntax errors ... OK
* checking whether the package can be loaded ... OK
* checking whether the package can be loaded with stated dependencies ... OK
* checking whether the package can be unloaded cleanly ... OK
* checking whether the namespace can be loaded with stated dependencies ... OK
* checking whether the namespace can be unloaded cleanly ... OK
* checking loading without being on the library search path ... OK
* checking whether startup messages can be suppressed ... OK
* checking dependencies in R code ... OK
* checking S3 generic/method consistency ... OK
* checking replacement functions ... OK
* checking foreign function calls ... OK
* checking R code for possible problems ... OK
* checking Rd files ... OK
* checking Rd metadata ... OK
* checking Rd cross-references ... NOTE
Non-topic package-anchored link(s) in Rd file 'MultiFactor-methods.Rd':
‘[igraph:aaa-igraph-package]{igraph::igraph()}’
Non-topic package-anchored link(s) in Rd file 'anansi.Rd':
‘[igraph:aaa-igraph-package]{igraph::igraph}’
See section 'Cross-references' in the 'Writing R Extensions' manual.
* checking for missing documentation entries ... OK
* checking for code/documentation mismatches ... OK
* checking Rd \usage sections ... OK
* checking Rd contents ... OK
* checking for unstated dependencies in examples ... OK
* checking contents of ‘data’ directory ... OK
* checking data for non-ASCII characters ... OK
* checking data for ASCII and uncompressed saves ... OK
* checking files in ‘vignettes’ ... OK
* checking examples ... OK
Examples with CPU (user + system) or elapsed time > 5s
user system elapsed
plotAnansi 7.47 0.396 7.867
* checking for unstated dependencies in ‘tests’ ... OK
* checking tests ...
Running ‘testthat.R’
OK
* checking for unstated dependencies in vignettes ... OK
* checking package vignettes ... OK
* checking re-building of vignette outputs ... OK
* checking PDF version of manual ... OK
* DONE
Status: 1 NOTE
See
‘/home/biocbuild/bbs-3.22-bioc/meat/anansi.Rcheck/00check.log’
for details.
anansi.Rcheck/00install.out
############################################################################## ############################################################################## ### ### Running command: ### ### /home/biocbuild/bbs-3.22-bioc/R/bin/R CMD INSTALL anansi ### ############################################################################## ############################################################################## * installing to library ‘/home/biocbuild/bbs-3.22-bioc/R/site-library’ * installing *source* package ‘anansi’ ... ** this is package ‘anansi’ version ‘0.99.4’ ** using staged installation ** R ** data ** inst ** byte-compile and prepare package for lazy loading ** help *** installing help indices *** copying figures ** building package indices ** installing vignettes ** testing if installed package can be loaded from temporary location ** testing if installed package can be loaded from final location ** testing if installed package keeps a record of temporary installation path * DONE (anansi)
anansi.Rcheck/tests/testthat.Rout
R version 4.5.1 Patched (2025-08-23 r88802) -- "Great Square Root"
Copyright (C) 2025 The R Foundation for Statistical Computing
Platform: x86_64-pc-linux-gnu
R is free software and comes with ABSOLUTELY NO WARRANTY.
You are welcome to redistribute it under certain conditions.
Type 'license()' or 'licence()' for distribution details.
R is a collaborative project with many contributors.
Type 'contributors()' for more information and
'citation()' on how to cite R or R packages in publications.
Type 'demo()' for some demos, 'help()' for on-line help, or
'help.start()' for an HTML browser interface to help.
Type 'q()' to quit R.
> # This file is part of the standard setup for testthat.
> # It is recommended that you do not modify it.
> #
> # Where should you do additional test configuration?
> # Learn more about the roles of various files in:
> # * https://r-pkgs.org/testing-design.html#sec-tests-files-overview
> # * https://testthat.r-lib.org/articles/special-files.html
>
> library(testthat)
> library(anansi)
>
> test_check("anansi")
anansi::AnansiWeb S7_object with 10 observations:
tableY: y (12 features)
tableX: x (8 features)
Use @ to access: tableX, tableY, dictionary, metadata.An anansi::MultiFactor S7_object,
3 feature types across 2 edge lists.
a b c
a2b 10 10 .
b2c . 10 10
Values represent unique feature names in that edge list.
Levels:
a : 10 Levels: a_001 a_002 ... a_010
b : 10 Levels: b_001 b_002 ... b_010
c : 10 Levels: c_001 c_002 ... c_010
Dropped features in tableX: 2476 remain.
Fitting least-squares for following model:
~ x + Legend + x:Legend
Running correlations for the following groups:
Aged yFMT, Aged oFMT, Young yFMT
[ FAIL 0 | WARN 0 | SKIP 0 | PASS 54 ]
>
> proc.time()
user system elapsed
16.190 0.907 17.088
anansi.Rcheck/anansi-Ex.timings
| name | user | system | elapsed | |
| AnansiTale | 0.002 | 0.000 | 0.001 | |
| AnansiWeb-class | 0.006 | 0.000 | 0.005 | |
| AnansiWeb-methods | 0.503 | 0.036 | 0.539 | |
| AnansiWeb-pairwise | 0.020 | 0.011 | 0.032 | |
| MultiFactor-class | 0.053 | 0.007 | 0.060 | |
| MultiFactor-methods | 1.068 | 0.011 | 1.078 | |
| anansi-coercion | 0.329 | 0.001 | 0.329 | |
| anansi | 3.639 | 0.076 | 3.715 | |
| dictionary | 0.003 | 0.001 | 0.004 | |
| getEdgeList | 0.021 | 0.001 | 0.022 | |
| getFeaturePairs | 0.004 | 0.000 | 0.003 | |
| getGraph | 0.001 | 0.000 | 0.000 | |
| kegg_link | 0.294 | 0.072 | 0.365 | |
| linkBiobakeryMap | 0.001 | 0.000 | 0.001 | |
| metadata-set | 0.003 | 0.000 | 0.003 | |
| metadata | 0.004 | 0.000 | 0.003 | |
| pairwiseApply | 0.023 | 0.001 | 0.024 | |
| plotAnansi | 7.470 | 0.396 | 7.867 | |
| randomAnansi | 0.072 | 0.003 | 0.074 | |
| tableX | 0.003 | 0.000 | 0.003 | |
| tableY | 0.003 | 0.001 | 0.003 | |
| weaveWeb-generic | 0.942 | 0.018 | 0.961 | |
| weaveWeb-methods | 0.925 | 0.028 | 0.953 | |