| Back to Multiple platform build/check report for BioC 3.22: simplified long |
|
This page was generated on 2025-10-24 12:03 -0400 (Fri, 24 Oct 2025).
| Hostname | OS | Arch (*) | R version | Installed pkgs |
|---|---|---|---|---|
| nebbiolo2 | Linux (Ubuntu 24.04.3 LTS) | x86_64 | 4.5.1 Patched (2025-08-23 r88802) -- "Great Square Root" | 4898 |
| lconway | macOS 12.7.6 Monterey | x86_64 | 4.5.1 Patched (2025-09-10 r88807) -- "Great Square Root" | 4688 |
| kjohnson3 | macOS 13.7.7 Ventura | arm64 | 4.5.1 Patched (2025-09-10 r88807) -- "Great Square Root" | 4634 |
| taishan | Linux (openEuler 24.03 LTS) | aarch64 | 4.5.0 (2025-04-11) -- "How About a Twenty-Six" | 4658 |
| Click on any hostname to see more info about the system (e.g. compilers) (*) as reported by 'uname -p', except on Windows and Mac OS X | ||||
| Package 2/2359 | Hostname | OS / Arch | INSTALL | BUILD | CHECK | BUILD BIN | ||||||||
| a4Base 1.57.0 (landing page) Laure Cougnaud
| nebbiolo2 | Linux (Ubuntu 24.04.3 LTS) / x86_64 | OK | OK | OK | |||||||||
| lconway | macOS 12.7.6 Monterey / x86_64 | OK | OK | OK | OK | |||||||||
| kjohnson3 | macOS 13.7.7 Ventura / arm64 | OK | OK | OK | OK | |||||||||
| taishan | Linux (openEuler 24.03 LTS) / aarch64 | OK | OK | OK | ||||||||||
|
To the developers/maintainers of the a4Base package: - Allow up to 24 hours (and sometimes 48 hours) for your latest push to git@git.bioconductor.org:packages/a4Base.git to reflect on this report. See Troubleshooting Build Report for more information. - Use the following Renviron settings to reproduce errors and warnings. - If 'R CMD check' started to fail recently on the Linux builder(s) over a missing dependency, add the missing dependency to 'Suggests:' in your DESCRIPTION file. See Renviron.bioc for more information. |
| Package: a4Base |
| Version: 1.57.0 |
| Command: /home/biocbuild/bbs-3.22-bioc/R/bin/R CMD check --install=check:a4Base.install-out.txt --library=/home/biocbuild/bbs-3.22-bioc/R/site-library --timings a4Base_1.57.0.tar.gz |
| StartedAt: 2025-10-23 20:57:18 -0400 (Thu, 23 Oct 2025) |
| EndedAt: 2025-10-23 21:00:24 -0400 (Thu, 23 Oct 2025) |
| EllapsedTime: 185.3 seconds |
| RetCode: 0 |
| Status: OK |
| CheckDir: a4Base.Rcheck |
| Warnings: 0 |
##############################################################################
##############################################################################
###
### Running command:
###
### /home/biocbuild/bbs-3.22-bioc/R/bin/R CMD check --install=check:a4Base.install-out.txt --library=/home/biocbuild/bbs-3.22-bioc/R/site-library --timings a4Base_1.57.0.tar.gz
###
##############################################################################
##############################################################################
* using log directory ‘/home/biocbuild/bbs-3.22-bioc/meat/a4Base.Rcheck’
* using R version 4.5.1 Patched (2025-08-23 r88802)
* using platform: x86_64-pc-linux-gnu
* R was compiled by
gcc (Ubuntu 13.3.0-6ubuntu2~24.04) 13.3.0
GNU Fortran (Ubuntu 13.3.0-6ubuntu2~24.04) 13.3.0
* running under: Ubuntu 24.04.3 LTS
* using session charset: UTF-8
* checking for file ‘a4Base/DESCRIPTION’ ... OK
* checking extension type ... Package
* this is package ‘a4Base’ version ‘1.57.0’
* checking package namespace information ... OK
* checking package dependencies ... INFO
Package which this enhances but not available for checking: ‘JavaGD’
* checking if this is a source package ... OK
* checking if there is a namespace ... OK
* checking for hidden files and directories ... OK
* checking for portable file names ... OK
* checking for sufficient/correct file permissions ... OK
* checking whether package ‘a4Base’ can be installed ... OK
* checking installed package size ... OK
* checking package directory ... OK
* checking DESCRIPTION meta-information ... OK
* checking top-level files ... OK
* checking for left-over files ... OK
* checking index information ... OK
* checking package subdirectories ... OK
* checking code files for non-ASCII characters ... OK
* checking R files for syntax errors ... OK
* checking whether the package can be loaded ... OK
* checking whether the package can be loaded with stated dependencies ... OK
* checking whether the package can be unloaded cleanly ... OK
* checking whether the namespace can be loaded with stated dependencies ... OK
* checking whether the namespace can be unloaded cleanly ... OK
* checking loading without being on the library search path ... OK
* checking whether startup messages can be suppressed ... OK
* checking dependencies in R code ... OK
* checking S3 generic/method consistency ... OK
* checking replacement functions ... OK
* checking foreign function calls ... OK
* checking R code for possible problems ... OK
* checking Rd files ... NOTE
checkRd: (-1) computeLogRatio.Rd:49-51: Lost braces in \itemize; meant \describe ?
checkRd: (-1) computeLogRatio.Rd:52-55: Lost braces in \itemize; meant \describe ?
checkRd: (-1) filterVarInt.Rd:52: Escaped LaTeX specials: \&
checkRd: (-1) histPvalue.Rd:50: Escaped LaTeX specials: \&
checkRd: (-1) lassoReg.Rd:38: Escaped LaTeX specials: \&
checkRd: (-1) plotLogRatio.Rd:166: Lost braces in \itemize; meant \describe ?
checkRd: (-1) plotLogRatio.Rd:167: Lost braces in \itemize; meant \describe ?
checkRd: (-1) plotLogRatio.Rd:168: Lost braces in \itemize; meant \describe ?
checkRd: (-1) plotLogRatio.Rd:169: Lost braces in \itemize; meant \describe ?
checkRd: (-1) plotLogRatio.Rd:170: Lost braces in \itemize; meant \describe ?
checkRd: (-1) plotLogRatio.Rd:183-185: Lost braces in \itemize; meant \describe ?
checkRd: (-1) plotLogRatio.Rd:186-191: Lost braces in \itemize; meant \describe ?
checkRd: (-1) plotLogRatio.Rd:192-200: Lost braces in \itemize; meant \describe ?
checkRd: (-1) plotLogRatio.Rd:201-203: Lost braces in \itemize; meant \describe ?
checkRd: (-1) spectralMap.Rd:49: Escaped LaTeX specials: \&
checkRd: (-1) topTable-methods.Rd:112: Lost braces in \itemize; meant \describe ?
checkRd: (-1) volcanoPlot.Rd:45: Escaped LaTeX specials: \&
* checking Rd metadata ... OK
* checking Rd cross-references ... NOTE
Non-topic package-anchored link(s) in Rd file 'a4palette.Rd':
‘[grDevices]{palettes}’
See section 'Cross-references' in the 'Writing R Extensions' manual.
Found the following Rd file(s) with Rd \link{} targets missing package
anchors:
ExpressionSetWithComputation-class.Rd: ExpressionSet-class,
eSet-class, VersionedBiobase-class, Versioned-class
combineTwoExpressionSet.Rd: ExpressionSet-class
createExpressionSet.Rd: ExpressionSet-class
Please provide package anchors for all Rd \link{} targets not in the
package itself and the base packages.
* checking for missing documentation entries ... OK
* checking for code/documentation mismatches ... OK
* checking Rd \usage sections ... OK
* checking Rd contents ... OK
* checking for unstated dependencies in examples ... OK
* checking contents of ‘data’ directory ... OK
* checking data for non-ASCII characters ... OK
* checking data for ASCII and uncompressed saves ... OK
* checking examples ... OK
Examples with CPU (user + system) or elapsed time > 5s
user system elapsed
spectralMap 9.577 0.168 9.746
* checking PDF version of manual ... OK
* DONE
Status: 2 NOTEs
See
‘/home/biocbuild/bbs-3.22-bioc/meat/a4Base.Rcheck/00check.log’
for details.
a4Base.Rcheck/00install.out
############################################################################## ############################################################################## ### ### Running command: ### ### /home/biocbuild/bbs-3.22-bioc/R/bin/R CMD INSTALL a4Base ### ############################################################################## ############################################################################## * installing to library ‘/home/biocbuild/bbs-3.22-bioc/R/site-library’ * installing *source* package ‘a4Base’ ... ** this is package ‘a4Base’ version ‘1.57.0’ ** using staged installation ** R ** data ** inst ** byte-compile and prepare package for lazy loading ** help *** installing help indices ** building package indices ** testing if installed package can be loaded from temporary location ** testing if installed package can be loaded from final location ** testing if installed package keeps a record of temporary installation path * DONE (a4Base)
a4Base.Rcheck/a4Base-Ex.timings
| name | user | system | elapsed | |
| a4palette | 0.040 | 0.001 | 0.041 | |
| addQuantilesColors | 1.799 | 0.125 | 1.924 | |
| boxPlot | 2.463 | 0.102 | 2.565 | |
| combineTwoExpressionSet | 0 | 0 | 0 | |
| computeLogRatio | 4.321 | 0.286 | 4.606 | |
| createExpressionSet | 0.025 | 0.000 | 0.025 | |
| filterVarInt | 2.189 | 0.055 | 2.245 | |
| heatmap.expressionSet | 0.000 | 0.000 | 0.001 | |
| histPvalue | 1.794 | 0.042 | 1.834 | |
| histpvalueplotter | 1.739 | 0.059 | 1.800 | |
| lassoReg | 1.747 | 0.035 | 1.782 | |
| logReg | 0 | 0 | 0 | |
| nlcvTT | 0 | 0 | 0 | |
| plot1gene | 1.721 | 0.033 | 1.754 | |
| plotComb2Samples | 1.883 | 0.031 | 1.914 | |
| plotCombMultSamples | 2.982 | 0.085 | 3.067 | |
| plotCombination2genes | 2.534 | 0.036 | 2.572 | |
| plotLogRatio | 3.838 | 0.047 | 3.885 | |
| probabilitiesPlot | 0 | 0 | 0 | |
| probe2gene | 1.456 | 0.032 | 1.490 | |
| profilesPlot | 1.688 | 0.037 | 1.725 | |
| propdegenescalculation | 2.275 | 0.023 | 2.299 | |
| replicates | 0.001 | 0.000 | 0.001 | |
| spectralMap | 9.577 | 0.168 | 9.746 | |
| tTest | 1.923 | 0.030 | 1.954 | |
| volcanoPlot | 2.149 | 0.027 | 2.176 | |