| Back to Multiple platform build/check report for BioC 3.22: simplified long |
|
This page was generated on 2025-10-24 12:04 -0400 (Fri, 24 Oct 2025).
| Hostname | OS | Arch (*) | R version | Installed pkgs |
|---|---|---|---|---|
| nebbiolo2 | Linux (Ubuntu 24.04.3 LTS) | x86_64 | 4.5.1 Patched (2025-08-23 r88802) -- "Great Square Root" | 4898 |
| lconway | macOS 12.7.6 Monterey | x86_64 | 4.5.1 Patched (2025-09-10 r88807) -- "Great Square Root" | 4688 |
| kjohnson3 | macOS 13.7.7 Ventura | arm64 | 4.5.1 Patched (2025-09-10 r88807) -- "Great Square Root" | 4634 |
| taishan | Linux (openEuler 24.03 LTS) | aarch64 | 4.5.0 (2025-04-11) -- "How About a Twenty-Six" | 4658 |
| Click on any hostname to see more info about the system (e.g. compilers) (*) as reported by 'uname -p', except on Windows and Mac OS X | ||||
| Package 2346/2359 | Hostname | OS / Arch | INSTALL | BUILD | CHECK | BUILD BIN | ||||||||
| Xeva 1.25.0 (landing page) Benjamin Haibe-Kains
| nebbiolo2 | Linux (Ubuntu 24.04.3 LTS) / x86_64 | OK | OK | OK | |||||||||
| lconway | macOS 12.7.6 Monterey / x86_64 | OK | OK | OK | OK | |||||||||
| kjohnson3 | macOS 13.7.7 Ventura / arm64 | OK | OK | OK | OK | |||||||||
| taishan | Linux (openEuler 24.03 LTS) / aarch64 | OK | OK | NA | ||||||||||
|
To the developers/maintainers of the Xeva package: - Allow up to 24 hours (and sometimes 48 hours) for your latest push to git@git.bioconductor.org:packages/Xeva.git to reflect on this report. See Troubleshooting Build Report for more information. - Use the following Renviron settings to reproduce errors and warnings. - If 'R CMD check' started to fail recently on the Linux builder(s) over a missing dependency, add the missing dependency to 'Suggests:' in your DESCRIPTION file. See Renviron.bioc for more information. |
| Package: Xeva |
| Version: 1.25.0 |
| Command: /home/biocbuild/bbs-3.22-bioc/R/bin/R CMD check --install=check:Xeva.install-out.txt --library=/home/biocbuild/bbs-3.22-bioc/R/site-library --timings Xeva_1.25.0.tar.gz |
| StartedAt: 2025-10-24 05:14:51 -0400 (Fri, 24 Oct 2025) |
| EndedAt: 2025-10-24 05:19:28 -0400 (Fri, 24 Oct 2025) |
| EllapsedTime: 277.4 seconds |
| RetCode: 0 |
| Status: OK |
| CheckDir: Xeva.Rcheck |
| Warnings: 0 |
##############################################################################
##############################################################################
###
### Running command:
###
### /home/biocbuild/bbs-3.22-bioc/R/bin/R CMD check --install=check:Xeva.install-out.txt --library=/home/biocbuild/bbs-3.22-bioc/R/site-library --timings Xeva_1.25.0.tar.gz
###
##############################################################################
##############################################################################
* using log directory ‘/home/biocbuild/bbs-3.22-bioc/meat/Xeva.Rcheck’
* using R version 4.5.1 Patched (2025-08-23 r88802)
* using platform: x86_64-pc-linux-gnu
* R was compiled by
gcc (Ubuntu 13.3.0-6ubuntu2~24.04) 13.3.0
GNU Fortran (Ubuntu 13.3.0-6ubuntu2~24.04) 13.3.0
* running under: Ubuntu 24.04.3 LTS
* using session charset: UTF-8
* checking for file ‘Xeva/DESCRIPTION’ ... OK
* checking extension type ... Package
* this is package ‘Xeva’ version ‘1.25.0’
* package encoding: UTF-8
* checking package namespace information ... OK
* checking package dependencies ... OK
* checking if this is a source package ... OK
* checking if there is a namespace ... OK
* checking for hidden files and directories ... OK
* checking for portable file names ... OK
* checking for sufficient/correct file permissions ... OK
* checking whether package ‘Xeva’ can be installed ... OK
* checking installed package size ... OK
* checking package directory ... OK
* checking ‘build’ directory ... OK
* checking DESCRIPTION meta-information ... OK
* checking top-level files ... OK
* checking for left-over files ... OK
* checking index information ... OK
* checking package subdirectories ... OK
* checking code files for non-ASCII characters ... OK
* checking R files for syntax errors ... OK
* checking whether the package can be loaded ... OK
* checking whether the package can be loaded with stated dependencies ... OK
* checking whether the package can be unloaded cleanly ... OK
* checking whether the namespace can be loaded with stated dependencies ... OK
* checking whether the namespace can be unloaded cleanly ... OK
* checking loading without being on the library search path ... OK
* checking dependencies in R code ... NOTE
Namespace in Imports field not imported from: ‘downloader’
All declared Imports should be used.
* checking S3 generic/method consistency ... OK
* checking replacement functions ... OK
* checking foreign function calls ... OK
* checking R code for possible problems ... OK
* checking Rd files ... NOTE
checkRd: (-1) drugInform.Rd:7: Lost braces; missing escapes or markup?
7 | Get the drug information slot from a {XevaSet} object.}
| ^
checkRd: (-1) drugInform.Rd:21: Lost braces; missing escapes or markup?
21 | Get the drug information slot from a {XevaSet} object.
| ^
* checking Rd metadata ... OK
* checking Rd cross-references ... OK
* checking for missing documentation entries ... OK
* checking for code/documentation mismatches ... OK
* checking Rd \usage sections ... OK
* checking Rd contents ... OK
* checking for unstated dependencies in examples ... OK
* checking contents of ‘data’ directory ... OK
* checking data for non-ASCII characters ... OK
* checking data for ASCII and uncompressed saves ... OK
* checking files in ‘vignettes’ ... OK
* checking examples ... OK
* checking for unstated dependencies in vignettes ... OK
* checking package vignettes ... OK
* checking re-building of vignette outputs ... OK
* checking PDF version of manual ... OK
* DONE
Status: 2 NOTEs
See
‘/home/biocbuild/bbs-3.22-bioc/meat/Xeva.Rcheck/00check.log’
for details.
Xeva.Rcheck/00install.out
############################################################################## ############################################################################## ### ### Running command: ### ### /home/biocbuild/bbs-3.22-bioc/R/bin/R CMD INSTALL Xeva ### ############################################################################## ############################################################################## * installing to library ‘/home/biocbuild/bbs-3.22-bioc/R/site-library’ * installing *source* package ‘Xeva’ ... ** this is package ‘Xeva’ version ‘1.25.0’ ** using staged installation ** R ** data ** inst ** byte-compile and prepare package for lazy loading ** help *** installing help indices ** building package indices ** installing vignettes ** testing if installed package can be loaded from temporary location ** testing if installed package can be loaded from final location ** testing if installed package keeps a record of temporary installation path * DONE (Xeva)
Xeva.Rcheck/Xeva-Ex.timings
| name | user | system | elapsed | |
| ABC | 0.004 | 0.000 | 0.003 | |
| AUC | 0.016 | 0.000 | 0.017 | |
| TGI | 0.000 | 0.000 | 0.001 | |
| addExperimentalDesign | 0.097 | 0.002 | 0.098 | |
| angle | 0.007 | 0.000 | 0.006 | |
| batchInfo | 0.901 | 0.001 | 0.901 | |
| createXevaSet | 0.073 | 0.013 | 0.164 | |
| dosePlot | 0.556 | 0.068 | 0.624 | |
| drugInform | 0.092 | 0.004 | 0.096 | |
| drugSensitivitySig | 0.282 | 0.036 | 0.317 | |
| getExperiment | 0.129 | 0.002 | 0.131 | |
| getMolecularProfiles | 0.090 | 0.001 | 0.091 | |
| lmm | 0.069 | 0.001 | 0.069 | |
| mRECIST | 0.002 | 0.000 | 0.001 | |
| modelInfo | 0.096 | 0.001 | 0.096 | |
| plotPDX | 1.764 | 0.112 | 1.876 | |
| plotmRECIST | 1.801 | 0.069 | 1.870 | |
| response | 0.133 | 0.000 | 0.133 | |
| selectModelIds | 0.151 | 0.001 | 0.153 | |
| sensitivity | 0.098 | 0.000 | 0.098 | |
| setResponse | 3.109 | 0.147 | 3.256 | |
| slope | 0.01 | 0.00 | 0.01 | |
| subsetXeva | 0.158 | 0.000 | 0.158 | |
| summarizeMolecularProfiles | 0.124 | 0.010 | 0.134 | |
| summarizeResponse | 0.168 | 0.008 | 0.175 | |
| waterfall | 0.841 | 0.036 | 0.877 | |