| Back to Multiple platform build/check report for BioC 3.22: simplified long |
|
This page was generated on 2025-10-24 12:04 -0400 (Fri, 24 Oct 2025).
| Hostname | OS | Arch (*) | R version | Installed pkgs |
|---|---|---|---|---|
| nebbiolo2 | Linux (Ubuntu 24.04.3 LTS) | x86_64 | 4.5.1 Patched (2025-08-23 r88802) -- "Great Square Root" | 4898 |
| lconway | macOS 12.7.6 Monterey | x86_64 | 4.5.1 Patched (2025-09-10 r88807) -- "Great Square Root" | 4688 |
| kjohnson3 | macOS 13.7.7 Ventura | arm64 | 4.5.1 Patched (2025-09-10 r88807) -- "Great Square Root" | 4634 |
| taishan | Linux (openEuler 24.03 LTS) | aarch64 | 4.5.0 (2025-04-11) -- "How About a Twenty-Six" | 4658 |
| Click on any hostname to see more info about the system (e.g. compilers) (*) as reported by 'uname -p', except on Windows and Mac OS X | ||||
| Package 2186/2359 | Hostname | OS / Arch | INSTALL | BUILD | CHECK | BUILD BIN | ||||||||
| TBSignatureProfiler 1.21.4 (landing page) Kiloni Quiles
| nebbiolo2 | Linux (Ubuntu 24.04.3 LTS) / x86_64 | OK | OK | OK | |||||||||
| lconway | macOS 12.7.6 Monterey / x86_64 | OK | OK | OK | OK | |||||||||
| kjohnson3 | macOS 13.7.7 Ventura / arm64 | OK | OK | OK | OK | |||||||||
| taishan | Linux (openEuler 24.03 LTS) / aarch64 | OK | OK | NA | ||||||||||
|
To the developers/maintainers of the TBSignatureProfiler package: - Allow up to 24 hours (and sometimes 48 hours) for your latest push to git@git.bioconductor.org:packages/TBSignatureProfiler.git to reflect on this report. See Troubleshooting Build Report for more information. - Use the following Renviron settings to reproduce errors and warnings. - If 'R CMD check' started to fail recently on the Linux builder(s) over a missing dependency, add the missing dependency to 'Suggests:' in your DESCRIPTION file. See Renviron.bioc for more information. |
| Package: TBSignatureProfiler |
| Version: 1.21.4 |
| Command: /home/biocbuild/bbs-3.22-bioc/R/bin/R CMD check --install=check:TBSignatureProfiler.install-out.txt --library=/home/biocbuild/bbs-3.22-bioc/R/site-library --timings TBSignatureProfiler_1.21.4.tar.gz |
| StartedAt: 2025-10-24 04:39:51 -0400 (Fri, 24 Oct 2025) |
| EndedAt: 2025-10-24 04:42:24 -0400 (Fri, 24 Oct 2025) |
| EllapsedTime: 153.2 seconds |
| RetCode: 0 |
| Status: OK |
| CheckDir: TBSignatureProfiler.Rcheck |
| Warnings: 0 |
##############################################################################
##############################################################################
###
### Running command:
###
### /home/biocbuild/bbs-3.22-bioc/R/bin/R CMD check --install=check:TBSignatureProfiler.install-out.txt --library=/home/biocbuild/bbs-3.22-bioc/R/site-library --timings TBSignatureProfiler_1.21.4.tar.gz
###
##############################################################################
##############################################################################
* using log directory ‘/home/biocbuild/bbs-3.22-bioc/meat/TBSignatureProfiler.Rcheck’
* using R version 4.5.1 Patched (2025-08-23 r88802)
* using platform: x86_64-pc-linux-gnu
* R was compiled by
gcc (Ubuntu 13.3.0-6ubuntu2~24.04) 13.3.0
GNU Fortran (Ubuntu 13.3.0-6ubuntu2~24.04) 13.3.0
* running under: Ubuntu 24.04.3 LTS
* using session charset: UTF-8
* checking for file ‘TBSignatureProfiler/DESCRIPTION’ ... OK
* this is package ‘TBSignatureProfiler’ version ‘1.21.4’
* package encoding: UTF-8
* checking package namespace information ... OK
* checking package dependencies ... OK
* checking if this is a source package ... OK
* checking if there is a namespace ... OK
* checking for hidden files and directories ... OK
* checking for portable file names ... OK
* checking for sufficient/correct file permissions ... OK
* checking whether package ‘TBSignatureProfiler’ can be installed ... OK
* checking installed package size ... OK
* checking package directory ... OK
* checking ‘build’ directory ... OK
* checking DESCRIPTION meta-information ... OK
* checking top-level files ... OK
* checking for left-over files ... OK
* checking index information ... OK
* checking package subdirectories ... OK
* checking code files for non-ASCII characters ... OK
* checking R files for syntax errors ... OK
* checking whether the package can be loaded ... OK
* checking whether the package can be loaded with stated dependencies ... OK
* checking whether the package can be unloaded cleanly ... OK
* checking whether the namespace can be loaded with stated dependencies ... OK
* checking whether the namespace can be unloaded cleanly ... OK
* checking loading without being on the library search path ... OK
* checking dependencies in R code ... OK
* checking S3 generic/method consistency ... OK
* checking replacement functions ... OK
* checking foreign function calls ... OK
* checking R code for possible problems ... OK
* checking Rd files ... OK
* checking Rd metadata ... OK
* checking Rd cross-references ... OK
* checking for missing documentation entries ... OK
* checking for code/documentation mismatches ... OK
* checking Rd \usage sections ... OK
* checking Rd contents ... OK
* checking for unstated dependencies in examples ... OK
* checking contents of ‘data’ directory ... OK
* checking data for non-ASCII characters ... OK
* checking LazyData ... OK
* checking data for ASCII and uncompressed saves ... OK
* checking files in ‘vignettes’ ... OK
* checking examples ... OK
Examples with CPU (user + system) or elapsed time > 5s
user system elapsed
bootstrapAUC 10.345 0.649 11.001
* checking for unstated dependencies in ‘tests’ ... OK
* checking tests ...
Running ‘packagecoverage.R’
Running ‘spelling.R’
Running ‘testthat.R’
OK
* checking for unstated dependencies in vignettes ... OK
* checking package vignettes ... OK
* checking re-building of vignette outputs ... OK
* checking PDF version of manual ... OK
* DONE
Status: OK
TBSignatureProfiler.Rcheck/00install.out
############################################################################## ############################################################################## ### ### Running command: ### ### /home/biocbuild/bbs-3.22-bioc/R/bin/R CMD INSTALL TBSignatureProfiler ### ############################################################################## ############################################################################## * installing to library ‘/home/biocbuild/bbs-3.22-bioc/R/site-library’ * installing *source* package ‘TBSignatureProfiler’ ... ** this is package ‘TBSignatureProfiler’ version ‘1.21.4’ ** using staged installation ** R ** data *** moving datasets to lazyload DB ** inst ** byte-compile and prepare package for lazy loading ** help *** installing help indices ** building package indices ** installing vignettes ** testing if installed package can be loaded from temporary location ** testing if installed package can be loaded from final location ** testing if installed package keeps a record of temporary installation path * DONE (TBSignatureProfiler)
TBSignatureProfiler.Rcheck/tests/packagecoverage.Rout
R version 4.5.1 Patched (2025-08-23 r88802) -- "Great Square Root"
Copyright (C) 2025 The R Foundation for Statistical Computing
Platform: x86_64-pc-linux-gnu
R is free software and comes with ABSOLUTELY NO WARRANTY.
You are welcome to redistribute it under certain conditions.
Type 'license()' or 'licence()' for distribution details.
R is a collaborative project with many contributors.
Type 'contributors()' for more information and
'citation()' on how to cite R or R packages in publications.
Type 'demo()' for some demos, 'help()' for on-line help, or
'help.start()' for an HTML browser interface to help.
Type 'q()' to quit R.
> # Coverage Script
> # Run tests and generate Code Coverage Report
>
> # Look at a specific script ---------------------------------------------------
> #test_for_me <- function(codefile, testfile) {
> # test_file(testfile)
> # res <- covr::file_coverage(codefile, testfile)
> # print(res)
> # covr::report(res)
> #}
>
> #test_for_me("R/evaluate.R", "tests/testthat/test-evaluate.R")
> # Look at whole package -------------------------------------------------------
> # Gets percent coverage for entire package, by script
> #covr::package_coverage()
> #
> # Report with gui (probably the best here)
> #covr::report()
>
> proc.time()
user system elapsed
0.149 0.026 0.163
TBSignatureProfiler.Rcheck/tests/spelling.Rout
R version 4.5.1 Patched (2025-08-23 r88802) -- "Great Square Root"
Copyright (C) 2025 The R Foundation for Statistical Computing
Platform: x86_64-pc-linux-gnu
R is free software and comes with ABSOLUTELY NO WARRANTY.
You are welcome to redistribute it under certain conditions.
Type 'license()' or 'licence()' for distribution details.
R is a collaborative project with many contributors.
Type 'contributors()' for more information and
'citation()' on how to cite R or R packages in publications.
Type 'demo()' for some demos, 'help()' for on-line help, or
'help.start()' for an HTML browser interface to help.
Type 'q()' to quit R.
> if (requireNamespace("spelling", quietly = TRUE))
+ spelling::spell_check_test(vignettes = TRUE, error = FALSE,
+ skip_on_cran = TRUE)
All Done!
>
> proc.time()
user system elapsed
0.143 0.035 0.165
TBSignatureProfiler.Rcheck/tests/testthat.Rout
R version 4.5.1 Patched (2025-08-23 r88802) -- "Great Square Root"
Copyright (C) 2025 The R Foundation for Statistical Computing
Platform: x86_64-pc-linux-gnu
R is free software and comes with ABSOLUTELY NO WARRANTY.
You are welcome to redistribute it under certain conditions.
Type 'license()' or 'licence()' for distribution details.
R is a collaborative project with many contributors.
Type 'contributors()' for more information and
'citation()' on how to cite R or R packages in publications.
Type 'demo()' for some demos, 'help()' for on-line help, or
'help.start()' for an HTML browser interface to help.
Type 'q()' to quit R.
> library(testthat)
> library(TBSignatureProfiler)
>
> test_check("TBSignatureProfiler")
|
| | 0%
|
|======================================================================| 100%
|
| | 0%
|
|======================================================================| 100%
|
| | 0%
|
|======================================================================| 100%
|
| | 0%
|
|======================================================================| 100%
|
| | 0%
|
|======================================================================| 100%
|
| | 0%
|
|======================================================================| 100%
|
| | 0%
|
|======================================================================| 100%
|
| | 0%
|
|======================================================================| 100%
|
| | 0%
|
|======================================================================| 100%
|
| | 0%
|
|======================================================================| 100%
|
| | 0%
|
|======================================================================| 100%
|
| | 0%
|
|======================================================================| 100%
|
| | 0%
|
|======================================================================| 100%
|
| | 0%
|
|======================================================================| 100%
|
| | 0%
|
|======================================================================| 100%
================================================================================
================================================================================
================================================================================
================================================================================
================================================================================
[ FAIL 0 | WARN 8 | SKIP 0 | PASS 136 ]
[ FAIL 0 | WARN 8 | SKIP 0 | PASS 136 ]
>
> proc.time()
user system elapsed
57.477 1.445 58.964
TBSignatureProfiler.Rcheck/TBSignatureProfiler-Ex.timings
| name | user | system | elapsed | |
| COVIDsignatures | 0.011 | 0.003 | 0.014 | |
| OriginalTrainingData | 0.001 | 0.001 | 0.001 | |
| SignatureQuantitative | 3.650 | 0.242 | 3.896 | |
| TBSPapp | 0 | 0 | 0 | |
| TB_hiv | 0.001 | 0.000 | 0.000 | |
| TB_indian | 0.001 | 0.000 | 0.000 | |
| TBcommon | 0.001 | 0.000 | 0.001 | |
| TBsignatures | 0.000 | 0.000 | 0.001 | |
| TBsignaturesSplit | 0.000 | 0.000 | 0.001 | |
| addTBsignature | 0.005 | 0.003 | 0.008 | |
| bootstrapAUC | 10.345 | 0.649 | 11.001 | |
| common_sigAnnotData | 0.001 | 0.000 | 0.001 | |
| compareAlgs | 2.394 | 0.077 | 2.472 | |
| compareBoxplots | 0.941 | 0.082 | 1.023 | |
| deseq2_norm_rle | 0.226 | 0.000 | 0.225 | |
| distinctColors | 0.001 | 0.000 | 0.001 | |
| evaluateOriginalModel | 0.227 | 0.039 | 0.266 | |
| mkAssay | 2.731 | 0.075 | 2.806 | |
| plotQuantitative | 1.632 | 0.001 | 1.633 | |
| runTBsigProfiler | 0.377 | 0.006 | 0.382 | |
| sigAnnotData | 0.001 | 0.000 | 0.001 | |
| signatureBoxplot | 0.789 | 0.005 | 0.793 | |
| signatureGeneHeatmap | 3.456 | 0.003 | 3.459 | |
| signatureHeatmap | 0.625 | 0.002 | 0.627 | |
| signatureROCplot | 0.916 | 0.005 | 0.922 | |
| signatureROCplot_CI | 4.933 | 0.041 | 4.974 | |
| tableAUC | 0.540 | 0.008 | 0.548 | |