Back to Multiple platform build/check report for BioC 3.22:   simplified   long
ABCDEFGHIJKLMNOPQR[S]TUVWXYZ

This page was generated on 2025-11-15 11:58 -0500 (Sat, 15 Nov 2025).

HostnameOSArch (*)R versionInstalled pkgs
nebbiolo2Linux (Ubuntu 24.04.3 LTS)x86_644.5.1 Patched (2025-08-23 r88802) -- "Great Square Root" 4903
taishanLinux (openEuler 24.03 LTS)aarch644.5.0 (2025-04-11) -- "How About a Twenty-Six" 4668
Click on any hostname to see more info about the system (e.g. compilers)      (*) as reported by 'uname -p', except on Windows and Mac OS X

Package 2131/2361HostnameOS / ArchINSTALLBUILDCHECKBUILD BIN
StabMap 1.4.0  (landing page)
Shila Ghazanfar
Snapshot Date: 2025-11-14 13:45 -0500 (Fri, 14 Nov 2025)
git_url: https://git.bioconductor.org/packages/StabMap
git_branch: RELEASE_3_22
git_last_commit: 82229fe
git_last_commit_date: 2025-10-29 11:31:21 -0500 (Wed, 29 Oct 2025)
nebbiolo2Linux (Ubuntu 24.04.3 LTS) / x86_64  OK    OK    ERROR  
taishanLinux (openEuler 24.03 LTS) / aarch64  OK    OK    OK  


CHECK results for StabMap on nebbiolo2

To the developers/maintainers of the StabMap package:
- Allow up to 24 hours (and sometimes 48 hours) for your latest push to git@git.bioconductor.org:packages/StabMap.git to reflect on this report. See Troubleshooting Build Report for more information.
- Use the following Renviron settings to reproduce errors and warnings.
- If 'R CMD check' started to fail recently on the Linux builder(s) over a missing dependency, add the missing dependency to 'Suggests:' in your DESCRIPTION file. See Renviron.bioc for more information.

raw results


Summary

Package: StabMap
Version: 1.4.0
Command: /home/biocbuild/bbs-3.22-bioc/R/bin/R CMD check --install=check:StabMap.install-out.txt --library=/home/biocbuild/bbs-3.22-bioc/R/site-library --timings StabMap_1.4.0.tar.gz
StartedAt: 2025-11-15 04:54:57 -0500 (Sat, 15 Nov 2025)
EndedAt: 2025-11-15 05:03:44 -0500 (Sat, 15 Nov 2025)
EllapsedTime: 526.5 seconds
RetCode: 1
Status:   ERROR  
CheckDir: StabMap.Rcheck
Warnings: NA

Command output

##############################################################################
##############################################################################
###
### Running command:
###
###   /home/biocbuild/bbs-3.22-bioc/R/bin/R CMD check --install=check:StabMap.install-out.txt --library=/home/biocbuild/bbs-3.22-bioc/R/site-library --timings StabMap_1.4.0.tar.gz
###
##############################################################################
##############################################################################


* using log directory ‘/home/biocbuild/bbs-3.22-bioc/meat/StabMap.Rcheck’
* using R version 4.5.1 Patched (2025-08-23 r88802)
* using platform: x86_64-pc-linux-gnu
* R was compiled by
    gcc (Ubuntu 13.3.0-6ubuntu2~24.04) 13.3.0
    GNU Fortran (Ubuntu 13.3.0-6ubuntu2~24.04) 13.3.0
* running under: Ubuntu 24.04.3 LTS
* using session charset: UTF-8
* checking for file ‘StabMap/DESCRIPTION’ ... OK
* checking extension type ... Package
* this is package ‘StabMap’ version ‘1.4.0’
* package encoding: UTF-8
* checking package namespace information ... OK
* checking package dependencies ... OK
* checking if this is a source package ... OK
* checking if there is a namespace ... OK
* checking for hidden files and directories ... OK
* checking for portable file names ... OK
* checking for sufficient/correct file permissions ... OK
* checking whether package ‘StabMap’ can be installed ... OK
* checking installed package size ... OK
* checking package directory ... OK
* checking ‘build’ directory ... OK
* checking DESCRIPTION meta-information ... OK
* checking top-level files ... OK
* checking for left-over files ... OK
* checking index information ... OK
* checking package subdirectories ... OK
* checking code files for non-ASCII characters ... OK
* checking R files for syntax errors ... OK
* checking whether the package can be loaded ... OK
* checking whether the package can be loaded with stated dependencies ... OK
* checking whether the package can be unloaded cleanly ... OK
* checking whether the namespace can be loaded with stated dependencies ... OK
* checking whether the namespace can be unloaded cleanly ... OK
* checking loading without being on the library search path ... OK
* checking dependencies in R code ... OK
* checking S3 generic/method consistency ... OK
* checking replacement functions ... OK
* checking foreign function calls ... OK
* checking R code for possible problems ... OK
* checking Rd files ... OK
* checking Rd metadata ... OK
* checking Rd cross-references ... OK
* checking for missing documentation entries ... OK
* checking for code/documentation mismatches ... OK
* checking Rd \usage sections ... OK
* checking Rd contents ... OK
* checking for unstated dependencies in examples ... OK
* checking files in ‘vignettes’ ... OK
* checking examples ... OK
* checking for unstated dependencies in ‘tests’ ... OK
* checking tests ...
  Running ‘testthat.R’
 ERROR
Running the tests in ‘tests/testthat.R’ failed.
Last 13 lines of output:
  Error: unable to find an inherited method for function 'queryKNN' for signature 'X = "dgCMatrix"'
  Backtrace:
      ▆
   1. └─purrr (local) quietIE(assay_list, out_sparse) at test-imputeEmbedding.R:31:3
   2.   ├─purrr:::capture_output(.f(...))
   3.   │ └─base::withCallingHandlers(code, warning = wHandler, message = mHandler)
   4.   └─StabMap (local) .f(...)
   5.     └─StabMap:::queryNamedKNN(...)
   6.       └─BiocNeighbors::queryKNN(...)
   7.         └─methods (local) `<fn>`(`<list>`, `<nnstndGF>`, `<env>`)
  
  [ FAIL 1 | WARN 4 | SKIP 2 | PASS 8 ]
  Error:
  ! Test failures.
  Execution halted
* checking for unstated dependencies in vignettes ... OK
* checking package vignettes ... OK
* checking re-building of vignette outputs ... OK
* checking PDF version of manual ... OK
* DONE

Status: 1 ERROR
See
  ‘/home/biocbuild/bbs-3.22-bioc/meat/StabMap.Rcheck/00check.log’
for details.


Installation output

StabMap.Rcheck/00install.out

##############################################################################
##############################################################################
###
### Running command:
###
###   /home/biocbuild/bbs-3.22-bioc/R/bin/R CMD INSTALL StabMap
###
##############################################################################
##############################################################################


* installing to library ‘/home/biocbuild/bbs-3.22-bioc/R/site-library’
* installing *source* package ‘StabMap’ ...
** this is package ‘StabMap’ version ‘1.4.0’
** using staged installation
** R
** byte-compile and prepare package for lazy loading
** help
*** installing help indices
*** copying figures
** building package indices
** installing vignettes
** testing if installed package can be loaded from temporary location
** testing if installed package can be loaded from final location
** testing if installed package keeps a record of temporary installation path
* DONE (StabMap)

Tests output

StabMap.Rcheck/tests/testthat.Rout.fail


R version 4.5.1 Patched (2025-08-23 r88802) -- "Great Square Root"
Copyright (C) 2025 The R Foundation for Statistical Computing
Platform: x86_64-pc-linux-gnu

R is free software and comes with ABSOLUTELY NO WARRANTY.
You are welcome to redistribute it under certain conditions.
Type 'license()' or 'licence()' for distribution details.

R is a collaborative project with many contributors.
Type 'contributors()' for more information and
'citation()' on how to cite R or R packages in publications.

Type 'demo()' for some demos, 'help()' for on-line help, or
'help.start()' for an HTML browser interface to help.
Type 'q()' to quit R.

> # This file is part of the standard setup for testthat.
> # It is recommended that you do not modify it.
> #
> # Where should you do additional test configuration?
> # Learn more about the roles of various files in:
> # * https://r-pkgs.org/testing-design.html#sec-tests-files-overview
> # * https://testthat.r-lib.org/articles/special-files.html
> 
> library(testthat)
> library(StabMap)
> 
> test_check("StabMap")
`geom_line()`: Each group consists of only one observation.
i Do you need to adjust the group aesthetic?
feature network is not connected, features must overlap via rownames for StabMap to run
[ FAIL 1 | WARN 4 | SKIP 2 | PASS 8 ]

══ Skipped tests (2) ═══════════════════════════════════════════════════════════
• On CRAN (2): 'test-classifyEmbedding.R:1:1', 'test-stabMap.R:1:1'

══ Failed tests ════════════════════════════════════════════════════════════════
── Error ('test-imputeEmbedding.R:31:3'): imputeEmbedding works ────────────────
Error: unable to find an inherited method for function 'queryKNN' for signature 'X = "dgCMatrix"'
Backtrace:
    ▆
 1. └─purrr (local) quietIE(assay_list, out_sparse) at test-imputeEmbedding.R:31:3
 2.   ├─purrr:::capture_output(.f(...))
 3.   │ └─base::withCallingHandlers(code, warning = wHandler, message = mHandler)
 4.   └─StabMap (local) .f(...)
 5.     └─StabMap:::queryNamedKNN(...)
 6.       └─BiocNeighbors::queryKNN(...)
 7.         └─methods (local) `<fn>`(`<list>`, `<nnstndGF>`, `<env>`)

[ FAIL 1 | WARN 4 | SKIP 2 | PASS 8 ]
Error:
! Test failures.
Execution halted

Example timings

StabMap.Rcheck/StabMap-Ex.timings

nameusersystemelapsed
adaptiveKNN0.1400.0020.144
classifyEmbedding2.0750.1392.213
getAdaptiveK0.0070.0000.007
imputeEmbedding3.9530.0624.015
mockMosaicData0.0060.0000.006
mosaicDataTopology0.0270.0000.026
mosaicDataUpSet2.2380.0152.253
reWeightEmbedding1.2340.0171.251
stabMap2.4330.0282.463