Back to Multiple platform build/check report for BioC 3.22:   simplified   long
ABCDEFGHIJKLMNOPQR[S]TUVWXYZ

This page was generated on 2025-11-17 11:58 -0500 (Mon, 17 Nov 2025).

HostnameOSArch (*)R versionInstalled pkgs
nebbiolo2Linux (Ubuntu 24.04.3 LTS)x86_644.5.1 Patched (2025-08-23 r88802) -- "Great Square Root" 4903
taishanLinux (openEuler 24.03 LTS)aarch644.5.0 (2025-04-11) -- "How About a Twenty-Six" 4668
Click on any hostname to see more info about the system (e.g. compilers)      (*) as reported by 'uname -p', except on Windows and Mac OS X

Package 2094/2361HostnameOS / ArchINSTALLBUILDCHECKBUILD BIN
SpectriPy 1.0.0  (landing page)
Johannes Rainer
Snapshot Date: 2025-11-16 13:45 -0500 (Sun, 16 Nov 2025)
git_url: https://git.bioconductor.org/packages/SpectriPy
git_branch: RELEASE_3_22
git_last_commit: 017658a
git_last_commit_date: 2025-10-29 11:36:52 -0500 (Wed, 29 Oct 2025)
nebbiolo2Linux (Ubuntu 24.04.3 LTS) / x86_64  OK    OK    OK  UNNEEDED, same version is already published
taishanLinux (openEuler 24.03 LTS) / aarch64  OK    OK    OK  


CHECK results for SpectriPy on nebbiolo2

To the developers/maintainers of the SpectriPy package:
- Allow up to 24 hours (and sometimes 48 hours) for your latest push to git@git.bioconductor.org:packages/SpectriPy.git to reflect on this report. See Troubleshooting Build Report for more information.
- Use the following Renviron settings to reproduce errors and warnings.
- If 'R CMD check' started to fail recently on the Linux builder(s) over a missing dependency, add the missing dependency to 'Suggests:' in your DESCRIPTION file. See Renviron.bioc for more information.

raw results


Summary

Package: SpectriPy
Version: 1.0.0
Command: /home/biocbuild/bbs-3.22-bioc/R/bin/R CMD check --install=check:SpectriPy.install-out.txt --library=/home/biocbuild/bbs-3.22-bioc/R/site-library --timings SpectriPy_1.0.0.tar.gz
StartedAt: 2025-11-17 04:35:37 -0500 (Mon, 17 Nov 2025)
EndedAt: 2025-11-17 04:48:40 -0500 (Mon, 17 Nov 2025)
EllapsedTime: 782.8 seconds
RetCode: 0
Status:   OK  
CheckDir: SpectriPy.Rcheck
Warnings: 0

Command output

##############################################################################
##############################################################################
###
### Running command:
###
###   /home/biocbuild/bbs-3.22-bioc/R/bin/R CMD check --install=check:SpectriPy.install-out.txt --library=/home/biocbuild/bbs-3.22-bioc/R/site-library --timings SpectriPy_1.0.0.tar.gz
###
##############################################################################
##############################################################################


* using log directory ‘/home/biocbuild/bbs-3.22-bioc/meat/SpectriPy.Rcheck’
* using R version 4.5.1 Patched (2025-08-23 r88802)
* using platform: x86_64-pc-linux-gnu
* R was compiled by
    gcc (Ubuntu 13.3.0-6ubuntu2~24.04) 13.3.0
    GNU Fortran (Ubuntu 13.3.0-6ubuntu2~24.04) 13.3.0
* running under: Ubuntu 24.04.3 LTS
* using session charset: UTF-8
* checking for file ‘SpectriPy/DESCRIPTION’ ... OK
* this is package ‘SpectriPy’ version ‘1.0.0’
* package encoding: UTF-8
* checking package namespace information ... OK
* checking package dependencies ... OK
* checking if this is a source package ... OK
* checking if there is a namespace ... OK
* checking for hidden files and directories ... OK
* checking for portable file names ... OK
* checking for sufficient/correct file permissions ... OK
* checking whether package ‘SpectriPy’ can be installed ... OK
* checking installed package size ... OK
* checking package directory ... OK
* checking ‘build’ directory ... OK
* checking DESCRIPTION meta-information ... OK
* checking top-level files ... OK
* checking for left-over files ... OK
* checking index information ... OK
* checking package subdirectories ... OK
* checking code files for non-ASCII characters ... OK
* checking R files for syntax errors ... OK
* checking whether the package can be loaded ... OK
* checking whether the package can be loaded with stated dependencies ... OK
* checking whether the package can be unloaded cleanly ... OK
* checking whether the namespace can be loaded with stated dependencies ... OK
* checking whether the namespace can be unloaded cleanly ... OK
* checking loading without being on the library search path ... OK
* checking whether startup messages can be suppressed ... OK
* checking dependencies in R code ... NOTE
Unexported object imported by a ':::' call: ‘Spectra:::.check_peaks_data_value’
  See the note in ?`:::` about the use of this operator.
* checking S3 generic/method consistency ... OK
* checking replacement functions ... OK
* checking foreign function calls ... OK
* checking R code for possible problems ... OK
* checking Rd files ... OK
* checking Rd metadata ... OK
* checking Rd cross-references ... OK
* checking for missing documentation entries ... OK
* checking for code/documentation mismatches ... OK
* checking Rd \usage sections ... OK
* checking Rd contents ... OK
* checking for unstated dependencies in examples ... OK
* checking files in ‘vignettes’ ... OK
* checking examples ... OK
Examples with CPU (user + system) or elapsed time > 5s
             user system elapsed
MsBackendPy 5.242  0.803   5.918
* checking for unstated dependencies in ‘tests’ ... OK
* checking tests ...
  Running ‘testthat.R’
 OK
* checking for unstated dependencies in vignettes ... OK
* checking package vignettes ... OK
* checking re-building of vignette outputs ... OK
* checking PDF version of manual ... OK
* DONE

Status: 1 NOTE
See
  ‘/home/biocbuild/bbs-3.22-bioc/meat/SpectriPy.Rcheck/00check.log’
for details.


Installation output

SpectriPy.Rcheck/00install.out

##############################################################################
##############################################################################
###
### Running command:
###
###   /home/biocbuild/bbs-3.22-bioc/R/bin/R CMD INSTALL SpectriPy
###
##############################################################################
##############################################################################


* installing to library ‘/home/biocbuild/bbs-3.22-bioc/R/site-library’
* installing *source* package ‘SpectriPy’ ...
** this is package ‘SpectriPy’ version ‘1.0.0’
** using staged installation
** R
** inst
** byte-compile and prepare package for lazy loading
** help
*** installing help indices
*** copying figures
** building package indices
** installing vignettes
** testing if installed package can be loaded from temporary location
** testing if installed package can be loaded from final location
** testing if installed package keeps a record of temporary installation path
* DONE (SpectriPy)

Tests output

SpectriPy.Rcheck/tests/testthat.Rout


R version 4.5.1 Patched (2025-08-23 r88802) -- "Great Square Root"
Copyright (C) 2025 The R Foundation for Statistical Computing
Platform: x86_64-pc-linux-gnu

R is free software and comes with ABSOLUTELY NO WARRANTY.
You are welcome to redistribute it under certain conditions.
Type 'license()' or 'licence()' for distribution details.

R is a collaborative project with many contributors.
Type 'contributors()' for more information and
'citation()' on how to cite R or R packages in publications.

Type 'demo()' for some demos, 'help()' for on-line help, or
'help.start()' for an HTML browser interface to help.
Type 'q()' to quit R.

> library(testthat)
> library(Spectra)
Loading required package: S4Vectors
Loading required package: stats4
Loading required package: BiocGenerics
Loading required package: generics

Attaching package: 'generics'

The following objects are masked from 'package:base':

    as.difftime, as.factor, as.ordered, intersect, is.element, setdiff,
    setequal, union


Attaching package: 'BiocGenerics'

The following objects are masked from 'package:stats':

    IQR, mad, sd, var, xtabs

The following objects are masked from 'package:base':

    Filter, Find, Map, Position, Reduce, anyDuplicated, aperm, append,
    as.data.frame, basename, cbind, colnames, dirname, do.call,
    duplicated, eval, evalq, get, grep, grepl, is.unsorted, lapply,
    mapply, match, mget, order, paste, pmax, pmax.int, pmin, pmin.int,
    rank, rbind, rownames, sapply, saveRDS, table, tapply, unique,
    unsplit, which.max, which.min


Attaching package: 'S4Vectors'

The following object is masked from 'package:utils':

    findMatches

The following objects are masked from 'package:base':

    I, expand.grid, unname

Loading required package: BiocParallel
> library(SpectriPy)
Loading required package: reticulate
> library(MsBackendMgf)
> 
> fl <- system.file("extdata", "mgf", "test.mgf", package = "SpectriPy")
> s <- Spectra(fl, source = MsBackendMgf())
Start data import from 1 files ... done
> s <- setBackend(s, MsBackendPy(), pythonVariableName = "py_be")
> 
> be <- s@backend
> 
> test_check("SpectriPy")
2025-11-17 04:40:04,397:WARNING:matchms:add_precursor_mz:No precursor_mz found in metadata.
2025-11-17 04:40:04,398:WARNING:matchms:add_precursor_mz:No precursor_mz found in metadata.
2025-11-17 04:40:04,399:WARNING:matchms:add_precursor_mz:No precursor_mz found in metadata.
2025-11-17 04:40:04,399:WARNING:matchms:add_precursor_mz:No precursor_mz found in metadata.
2025-11-17 04:40:04,400:WARNING:matchms:add_precursor_mz:No precursor_mz found in metadata.
2025-11-17 04:40:04,401:WARNING:matchms:add_precursor_mz:No precursor_mz found in metadata.
2025-11-17 04:40:04,401:WARNING:matchms:add_precursor_mz:No precursor_mz found in metadata.
2025-11-17 04:40:04,402:WARNING:matchms:add_precursor_mz:No precursor_mz found in metadata.
2025-11-17 04:40:04,403:WARNING:matchms:add_precursor_mz:No precursor_mz found in metadata.
2025-11-17 04:40:04,404:WARNING:matchms:add_precursor_mz:No precursor_mz found in metadata.
2025-11-17 04:40:04,404:WARNING:matchms:add_precursor_mz:No precursor_mz found in metadata.
2025-11-17 04:40:04,405:WARNING:matchms:add_precursor_mz:No precursor_mz found in metadata.
2025-11-17 04:40:04,406:WARNING:matchms:add_precursor_mz:No precursor_mz found in metadata.
2025-11-17 04:40:04,407:WARNING:matchms:add_precursor_mz:No precursor_mz found in metadata.
2025-11-17 04:40:04,407:WARNING:matchms:add_precursor_mz:No precursor_mz found in metadata.
2025-11-17 04:40:04,408:WARNING:matchms:add_precursor_mz:No precursor_mz found in metadata.
2025-11-17 04:40:04,409:WARNING:matchms:add_precursor_mz:No precursor_mz found in metadata.
2025-11-17 04:40:04,410:WARNING:matchms:add_precursor_mz:No precursor_mz found in metadata.
2025-11-17 04:40:04,410:WARNING:matchms:add_precursor_mz:No precursor_mz found in metadata.
2025-11-17 04:40:04,411:WARNING:matchms:add_precursor_mz:No precursor_mz found in metadata.
2025-11-17 04:40:04,412:WARNING:matchms:add_precursor_mz:No precursor_mz found in metadata.
2025-11-17 04:40:04,413:WARNING:matchms:add_precursor_mz:No precursor_mz found in metadata.
2025-11-17 04:40:04,413:WARNING:matchms:add_precursor_mz:No precursor_mz found in metadata.
2025-11-17 04:40:04,414:WARNING:matchms:add_precursor_mz:No precursor_mz found in metadata.
2025-11-17 04:40:04,415:WARNING:matchms:add_precursor_mz:No precursor_mz found in metadata.
2025-11-17 04:40:04,416:WARNING:matchms:add_precursor_mz:No precursor_mz found in metadata.
2025-11-17 04:40:04,416:WARNING:matchms:add_precursor_mz:No precursor_mz found in metadata.
2025-11-17 04:40:04,417:WARNING:matchms:add_precursor_mz:No precursor_mz found in metadata.
2025-11-17 04:40:04,418:WARNING:matchms:add_precursor_mz:No precursor_mz found in metadata.
2025-11-17 04:40:04,418:WARNING:matchms:add_precursor_mz:No precursor_mz found in metadata.
2025-11-17 04:40:04,419:WARNING:matchms:add_precursor_mz:No precursor_mz found in metadata.
2025-11-17 04:40:04,420:WARNING:matchms:add_precursor_mz:No precursor_mz found in metadata.
2025-11-17 04:40:04,421:WARNING:matchms:add_precursor_mz:No precursor_mz found in metadata.
2025-11-17 04:40:04,421:WARNING:matchms:add_precursor_mz:No precursor_mz found in metadata.
2025-11-17 04:40:04,422:WARNING:matchms:add_precursor_mz:No precursor_mz found in metadata.
2025-11-17 04:40:04,423:WARNING:matchms:add_precursor_mz:No precursor_mz found in metadata.
2025-11-17 04:40:04,424:WARNING:matchms:add_precursor_mz:No precursor_mz found in metadata.
2025-11-17 04:40:04,424:WARNING:matchms:add_precursor_mz:No precursor_mz found in metadata.
2025-11-17 04:40:04,425:WARNING:matchms:add_precursor_mz:No precursor_mz found in metadata.
2025-11-17 04:40:04,426:WARNING:matchms:add_precursor_mz:No precursor_mz found in metadata.
2025-11-17 04:40:04,427:WARNING:matchms:add_precursor_mz:No precursor_mz found in metadata.
2025-11-17 04:40:04,427:WARNING:matchms:add_precursor_mz:No precursor_mz found in metadata.
2025-11-17 04:40:04,428:WARNING:matchms:add_precursor_mz:No precursor_mz found in metadata.
2025-11-17 04:40:04,429:WARNING:matchms:add_precursor_mz:No precursor_mz found in metadata.
2025-11-17 04:40:04,430:WARNING:matchms:add_precursor_mz:No precursor_mz found in metadata.
2025-11-17 04:40:04,431:WARNING:matchms:add_precursor_mz:No precursor_mz found in metadata.
2025-11-17 04:40:04,431:WARNING:matchms:add_precursor_mz:No precursor_mz found in metadata.
2025-11-17 04:40:04,432:WARNING:matchms:add_precursor_mz:No precursor_mz found in metadata.
2025-11-17 04:40:04,433:WARNING:matchms:add_precursor_mz:No precursor_mz found in metadata.
2025-11-17 04:40:04,433:WARNING:matchms:add_precursor_mz:No precursor_mz found in metadata.
2025-11-17 04:40:04,434:WARNING:matchms:add_precursor_mz:No precursor_mz found in metadata.
2025-11-17 04:40:04,435:WARNING:matchms:add_precursor_mz:No precursor_mz found in metadata.
2025-11-17 04:40:04,435:WARNING:matchms:add_precursor_mz:No precursor_mz found in metadata.
2025-11-17 04:40:04,436:WARNING:matchms:add_precursor_mz:No precursor_mz found in metadata.
2025-11-17 04:40:04,437:WARNING:matchms:add_precursor_mz:No precursor_mz found in metadata.
2025-11-17 04:40:04,437:WARNING:matchms:add_precursor_mz:No precursor_mz found in metadata.
2025-11-17 04:40:04,438:WARNING:matchms:add_precursor_mz:No precursor_mz found in metadata.
2025-11-17 04:40:04,439:WARNING:matchms:add_precursor_mz:No precursor_mz found in metadata.
2025-11-17 04:40:04,439:WARNING:matchms:add_precursor_mz:No precursor_mz found in metadata.
2025-11-17 04:40:04,440:WARNING:matchms:add_precursor_mz:No precursor_mz found in metadata.
2025-11-17 04:40:04,441:WARNING:matchms:add_precursor_mz:No precursor_mz found in metadata.
2025-11-17 04:40:04,442:WARNING:matchms:add_precursor_mz:No precursor_mz found in metadata.
2025-11-17 04:40:04,442:WARNING:matchms:add_precursor_mz:No precursor_mz found in metadata.
2025-11-17 04:40:04,443:WARNING:matchms:add_precursor_mz:No precursor_mz found in metadata.
2025-11-17 04:40:04,444:WARNING:matchms:add_precursor_mz:No precursor_mz found in metadata.
2025-11-17 04:40:04,444:WARNING:matchms:add_precursor_mz:No precursor_mz found in metadata.
2025-11-17 04:40:04,445:WARNING:matchms:add_precursor_mz:No precursor_mz found in metadata.
2025-11-17 04:40:04,446:WARNING:matchms:add_precursor_mz:No precursor_mz found in metadata.
2025-11-17 04:40:04,446:WARNING:matchms:add_precursor_mz:No precursor_mz found in metadata.
2025-11-17 04:40:04,447:WARNING:matchms:add_precursor_mz:No precursor_mz found in metadata.
2025-11-17 04:40:04,448:WARNING:matchms:add_precursor_mz:No precursor_mz found in metadata.
2025-11-17 04:40:04,448:WARNING:matchms:add_precursor_mz:No precursor_mz found in metadata.
2025-11-17 04:40:04,449:WARNING:matchms:add_precursor_mz:No precursor_mz found in metadata.
2025-11-17 04:40:04,450:WARNING:matchms:add_precursor_mz:No precursor_mz found in metadata.
2025-11-17 04:40:04,450:WARNING:matchms:add_precursor_mz:No precursor_mz found in metadata.
2025-11-17 04:40:04,451:WARNING:matchms:add_precursor_mz:No precursor_mz found in metadata.
2025-11-17 04:40:04,452:WARNING:matchms:add_precursor_mz:No precursor_mz found in metadata.
2025-11-17 04:40:04,452:WARNING:matchms:add_precursor_mz:No precursor_mz found in metadata.
2025-11-17 04:40:04,453:WARNING:matchms:add_precursor_mz:No precursor_mz found in metadata.
2025-11-17 04:40:04,454:WARNING:matchms:add_precursor_mz:No precursor_mz found in metadata.
2025-11-17 04:40:04,454:WARNING:matchms:add_precursor_mz:No precursor_mz found in metadata.
2025-11-17 04:40:04,455:WARNING:matchms:add_precursor_mz:No precursor_mz found in metadata.
2025-11-17 04:40:04,456:WARNING:matchms:add_precursor_mz:No precursor_mz found in metadata.
2025-11-17 04:40:04,456:WARNING:matchms:add_precursor_mz:No precursor_mz found in metadata.
2025-11-17 04:40:04,457:WARNING:matchms:add_precursor_mz:No precursor_mz found in metadata.
2025-11-17 04:40:04,458:WARNING:matchms:add_precursor_mz:No precursor_mz found in metadata.
2025-11-17 04:40:04,458:WARNING:matchms:add_precursor_mz:No precursor_mz found in metadata.
2025-11-17 04:40:04,459:WARNING:matchms:add_precursor_mz:No precursor_mz found in metadata.
2025-11-17 04:40:04,460:WARNING:matchms:add_precursor_mz:No precursor_mz found in metadata.
2025-11-17 04:40:04,461:WARNING:matchms:add_precursor_mz:No precursor_mz found in metadata.
2025-11-17 04:40:04,461:WARNING:matchms:add_precursor_mz:No precursor_mz found in metadata.
2025-11-17 04:40:04,462:WARNING:matchms:add_precursor_mz:No precursor_mz found in metadata.
2025-11-17 04:40:04,463:WARNING:matchms:add_precursor_mz:No precursor_mz found in metadata.
2025-11-17 04:40:04,463:WARNING:matchms:add_precursor_mz:No precursor_mz found in metadata.
2025-11-17 04:40:04,464:WARNING:matchms:add_precursor_mz:No precursor_mz found in metadata.
2025-11-17 04:40:04,465:WARNING:matchms:add_precursor_mz:No precursor_mz found in metadata.
2025-11-17 04:40:04,465:WARNING:matchms:add_precursor_mz:No precursor_mz found in metadata.
2025-11-17 04:40:04,466:WARNING:matchms:add_precursor_mz:No precursor_mz found in metadata.
2025-11-17 04:40:04,467:WARNING:matchms:add_precursor_mz:No precursor_mz found in metadata.
2025-11-17 04:40:04,467:WARNING:matchms:add_precursor_mz:No precursor_mz found in metadata.

Calculating similarities:   0%|          | 0/4 [00:00<?, ?it/s]
Calculating similarities:  25%|██▌       | 1/4 [00:02<00:07,  2.47s/it]
Calculating similarities: 100%|██████████| 4/4 [00:02<00:00,  1.62it/s]

Calculating similarities:   0%|          | 0/4 [00:00<?, ?it/s]
Calculating similarities: 100%|██████████| 4/4 [00:00<00:00, 4971.03it/s]

Calculating similarities:   0%|          | 0/4 [00:00<?, ?it/s]
Calculating similarities: 100%|██████████| 4/4 [00:00<00:00, 3805.22it/s]

Calculating similarities:   0%|          | 0/4 [00:00<?, ?it/s]
Calculating similarities: 100%|██████████| 4/4 [00:00<00:00, 5162.22it/s]

Calculating similarities:   0%|          | 0/2 [00:00<?, ?it/s]
Calculating similarities: 100%|██████████| 2/2 [00:00<00:00, 6647.07it/s]

Calculating similarities:   0%|          | 0/2 [00:00<?, ?it/s]
Calculating similarities: 100%|██████████| 2/2 [00:00<00:00, 4604.07it/s]

Calculating similarities:   0%|          | 0/2 [00:00<?, ?it/s]
Calculating similarities: 100%|██████████| 2/2 [00:00<00:00, 5940.94it/s]

Calculating similarities:   0%|          | 0/2 [00:00<?, ?it/s]
Calculating similarities: 100%|██████████| 2/2 [00:00<00:00, 2473.06it/s]

Calculating similarities:   0%|          | 0/2 [00:00<?, ?it/s]
Calculating similarities: 100%|██████████| 2/2 [00:00<00:00, 3499.63it/s]

Calculating similarities:   0%|          | 0/2 [00:00<?, ?it/s]
Calculating similarities: 100%|██████████| 2/2 [00:00<00:00, 3071.63it/s]

Calculating similarities:   0%|          | 0/4 [00:00<?, ?it/s]
Calculating similarities:  50%|█████     | 2/4 [00:00<00:00, 2019.40it/s]

Calculating similarities:   0%|          | 0/2 [00:00<?, ?it/s]
Calculating similarities:  50%|█████     | 1/2 [00:00<00:00,  1.68it/s]
Calculating similarities: 100%|██████████| 2/2 [00:00<00:00,  3.36it/s]

Calculating similarities:   0%|          | 0/2 [00:00<?, ?it/s]
Calculating similarities:  50%|█████     | 1/2 [00:00<00:00,  1.20it/s]
Calculating similarities: 100%|██████████| 2/2 [00:00<00:00,  2.40it/s]
2025-11-17 04:40:15,503:WARNING:matchms:add_precursor_mz:No precursor_mz found in metadata.
2025-11-17 04:40:15,577:WARNING:matchms:add_precursor_mz:No precursor_mz found in metadata.
2025-11-17 04:40:15,578:WARNING:matchms:add_precursor_mz:No precursor_mz found in metadata.
2025-11-17 04:40:15,578:WARNING:matchms:add_precursor_mz:No precursor_mz found in metadata.
2025-11-17 04:40:15,644:WARNING:matchms:add_precursor_mz:No precursor_mz found in metadata.
2025-11-17 04:40:15,644:WARNING:matchms:add_precursor_mz:No precursor_mz found in metadata.
2025-11-17 04:40:15,645:WARNING:matchms:add_precursor_mz:No precursor_mz found in metadata.
2025-11-17 04:40:15,887:WARNING:matchms:add_precursor_mz:No precursor_mz found in metadata.
2025-11-17 04:40:15,888:WARNING:matchms:add_precursor_mz:No precursor_mz found in metadata.
2025-11-17 04:40:15,888:WARNING:matchms:add_precursor_mz:No precursor_mz found in metadata.
2025-11-17 04:40:15,924:WARNING:matchms:add_precursor_mz:No precursor_mz found in metadata.
2025-11-17 04:40:15,925:WARNING:matchms:add_precursor_mz:No precursor_mz found in metadata.
2025-11-17 04:40:15,926:WARNING:matchms:add_precursor_mz:No precursor_mz found in metadata.
2025-11-17 04:40:16,227:WARNING:matchms:add_precursor_mz:No precursor_mz found in metadata.
2025-11-17 04:40:16,228:WARNING:matchms:add_precursor_mz:No precursor_mz found in metadata.
2025-11-17 04:40:16,229:WARNING:matchms:add_precursor_mz:No precursor_mz found in metadata.
2025-11-17 04:40:16,244:WARNING:matchms:add_precursor_mz:No precursor_mz found in metadata.
2025-11-17 04:40:16,245:WARNING:matchms:add_precursor_mz:No precursor_mz found in metadata.
2025-11-17 04:40:16,246:WARNING:matchms:add_precursor_mz:No precursor_mz found in metadata.

Processing spectra:   0%|          | 0/4 [00:00<?, ?it/s]
Processing spectra: 100%|██████████| 4/4 [00:00<00:00, 3560.53it/s]

Processing spectra:   0%|          | 0/4 [00:00<?, ?it/s]
Processing spectra: 100%|██████████| 4/4 [00:00<00:00, 3915.34it/s]

Processing spectra:   0%|          | 0/4 [00:00<?, ?it/s]
Processing spectra: 100%|██████████| 4/4 [00:00<00:00, 3927.25it/s]

Processing spectra:   0%|          | 0/4 [00:00<?, ?it/s]
Processing spectra: 100%|██████████| 4/4 [00:00<00:00, 4247.40it/s]

Processing spectra:   0%|          | 0/4 [00:00<?, ?it/s]
Processing spectra: 100%|██████████| 4/4 [00:00<00:00, 3947.58it/s]
[ FAIL 0 | WARN 4 | SKIP 1 | PASS 592 ]

══ Skipped tests (1) ═══════════════════════════════════════════════════════════
• empty test (1): 'test_zzz.R:16:1'

[ FAIL 0 | WARN 4 | SKIP 1 | PASS 592 ]
> 
> ## TODO: add tests from the Spectra unit test suite!
> 
> ## ## Run the MsBackend spectra variable test suite
> ## test_suite <- system.file("test_backends", "test_MsBackend",
> ##                           package = "Spectra")
> 
> ## ## Run single test file.
> ## res <- test_dir(test_suite, stop_on_failure = TRUE)
> 
> proc.time()
   user  system elapsed 
 28.158   2.699  30.212 

Example timings

SpectriPy.Rcheck/SpectriPy-Ex.timings

nameusersystemelapsed
MsBackendPy5.2420.8035.918
compareSpectriPy2.4460.2302.701
conversion0.3480.2970.455
filterSpectriPy0.1760.0130.189