Back to Multiple platform build/check report for BioC 3.22:   simplified   long
ABCDEFGHIJKLMNOPQR[S]TUVWXYZ

This page was generated on 2025-11-20 12:05 -0500 (Thu, 20 Nov 2025).

HostnameOSArch (*)R versionInstalled pkgs
nebbiolo2Linux (Ubuntu 24.04.3 LTS)x86_644.5.2 (2025-10-31) -- "[Not] Part in a Rumble" 4615
merida1macOS 12.7.6 Montereyx86_644.5.2 Patched (2025-11-05 r88990) -- "[Not] Part in a Rumble" 4610
kjohnson1macOS 13.7.5 Venturaarm644.5.2 Patched (2025-11-04 r88984) -- "[Not] Part in a Rumble" 4598
taishanLinux (openEuler 24.03 LTS)aarch644.5.0 (2025-04-11) -- "How About a Twenty-Six" 4668
Click on any hostname to see more info about the system (e.g. compilers)      (*) as reported by 'uname -p', except on Windows and Mac OS X

Package 2085/2361HostnameOS / ArchINSTALLBUILDCHECKBUILD BIN
SpatialOmicsOverlay 1.10.0  (landing page)
Maddy Griswold
Snapshot Date: 2025-11-17 13:45 -0500 (Mon, 17 Nov 2025)
git_url: https://git.bioconductor.org/packages/SpatialOmicsOverlay
git_branch: RELEASE_3_22
git_last_commit: edcd7be
git_last_commit_date: 2025-10-29 11:22:27 -0500 (Wed, 29 Oct 2025)
nebbiolo2Linux (Ubuntu 24.04.3 LTS) / x86_64  OK    TIMEOUT  skipped
merida1macOS 12.7.6 Monterey / x86_64  OK    OK    OK    OK  UNNEEDED, same version is already published
kjohnson1macOS 13.7.5 Ventura / arm64  OK    OK    OK    OK  UNNEEDED, same version is already published
taishanLinux (openEuler 24.03 LTS) / aarch64  OK    TIMEOUT  skipped


CHECK results for SpatialOmicsOverlay on merida1

To the developers/maintainers of the SpatialOmicsOverlay package:
- Allow up to 24 hours (and sometimes 48 hours) for your latest push to git@git.bioconductor.org:packages/SpatialOmicsOverlay.git to reflect on this report. See Troubleshooting Build Report for more information.
- Use the following Renviron settings to reproduce errors and warnings.
- If 'R CMD check' started to fail recently on the Linux builder(s) over a missing dependency, add the missing dependency to 'Suggests:' in your DESCRIPTION file. See Renviron.bioc for more information.

raw results


Summary

Package: SpatialOmicsOverlay
Version: 1.10.0
Command: /Library/Frameworks/R.framework/Resources/bin/R CMD check --install=check:SpatialOmicsOverlay.install-out.txt --library=/Library/Frameworks/R.framework/Resources/library --no-vignettes --timings SpatialOmicsOverlay_1.10.0.tar.gz
StartedAt: 2025-11-18 15:08:38 -0500 (Tue, 18 Nov 2025)
EndedAt: 2025-11-18 15:25:30 -0500 (Tue, 18 Nov 2025)
EllapsedTime: 1012.5 seconds
RetCode: 0
Status:   OK  
CheckDir: SpatialOmicsOverlay.Rcheck
Warnings: 0

Command output

##############################################################################
##############################################################################
###
### Running command:
###
###   /Library/Frameworks/R.framework/Resources/bin/R CMD check --install=check:SpatialOmicsOverlay.install-out.txt --library=/Library/Frameworks/R.framework/Resources/library --no-vignettes --timings SpatialOmicsOverlay_1.10.0.tar.gz
###
##############################################################################
##############################################################################


* using log directory ‘/Users/biocbuild/bbs-3.22-bioc/meat/SpatialOmicsOverlay.Rcheck’
* using R version 4.5.2 Patched (2025-11-05 r88990)
* using platform: x86_64-apple-darwin20
* R was compiled by
    Apple clang version 14.0.0 (clang-1400.0.29.202)
    GNU Fortran (GCC) 14.2.0
* running under: macOS Monterey 12.7.6
* using session charset: UTF-8
* using option ‘--no-vignettes’
* checking for file ‘SpatialOmicsOverlay/DESCRIPTION’ ... OK
* this is package ‘SpatialOmicsOverlay’ version ‘1.10.0’
* package encoding: UTF-8
* checking package namespace information ... OK
* checking package dependencies ... OK
* checking if this is a source package ... OK
* checking if there is a namespace ... OK
* checking for hidden files and directories ... OK
* checking for portable file names ... OK
* checking for sufficient/correct file permissions ... OK
* checking whether package ‘SpatialOmicsOverlay’ can be installed ... OK
* checking installed package size ... OK
* checking package directory ... OK
* checking ‘build’ directory ... OK
* checking DESCRIPTION meta-information ... NOTE
License components which are templates and need '+ file LICENSE':
  MIT
* checking top-level files ... NOTE
File
  LICENSE
is not mentioned in the DESCRIPTION file.
* checking for left-over files ... OK
* checking index information ... OK
* checking package subdirectories ... OK
* checking code files for non-ASCII characters ... OK
* checking R files for syntax errors ... OK
* checking whether the package can be loaded ... OK
* checking whether the package can be loaded with stated dependencies ... OK
* checking whether the package can be unloaded cleanly ... OK
* checking whether the namespace can be loaded with stated dependencies ... OK
* checking whether the namespace can be unloaded cleanly ... OK
* checking dependencies in R code ... OK
* checking S3 generic/method consistency ... OK
* checking replacement functions ... OK
* checking foreign function calls ... OK
* checking R code for possible problems ... NOTE
plotSpatialOverlay: no visible binding for global variable ‘xcoor’
plotSpatialOverlay: no visible binding for global variable ‘ycoor’
plotSpatialOverlay: no visible binding for global variable ‘sampleID’
plotSpatialOverlay: no visible binding for global variable ‘Target’
scaleBarPrinting: no visible binding for global variable ‘X’
scaleBarPrinting: no visible binding for global variable ‘Y’
Undefined global functions or variables:
  Target X Y sampleID xcoor ycoor
* checking Rd files ... OK
* checking Rd metadata ... OK
* checking Rd cross-references ... OK
* checking for missing documentation entries ... OK
* checking for code/documentation mismatches ... OK
* checking Rd \usage sections ... OK
* checking Rd contents ... OK
* checking for unstated dependencies in examples ... OK
* checking files in ‘vignettes’ ... OK
* checking examples ... OK
Examples with CPU (user + system) or elapsed time > 5s
                          user system elapsed
add4ChannelImage        30.263  1.875  27.202
readSpatialOverlay      25.916  1.109  26.523
cropSamples             22.771  1.387  23.044
changeImageColoring     22.432  1.491  22.244
addImageOmeTiff         22.217  1.402  21.995
cropTissue              21.917  1.253  21.794
changeColoringIntensity 21.926  1.021  21.666
recolor                 20.153  1.153  20.346
flipX                   19.982  1.263  20.756
flipY                   19.994  1.166  20.209
createMask              15.304  0.628  16.237
createCoordFile          8.671  0.058   8.759
parseOverlayAttrs        5.221  0.251   5.180
parseScanMetadata        4.930  0.495   4.892
* checking for unstated dependencies in ‘tests’ ... OK
* checking tests ...
  Running ‘testthat.R’
 OK
* checking for unstated dependencies in vignettes ... OK
* checking package vignettes ... OK
* checking running R code from vignettes ... SKIPPED
* checking re-building of vignette outputs ... SKIPPED
* checking PDF version of manual ... OK
* DONE

Status: 3 NOTEs
See
  ‘/Users/biocbuild/bbs-3.22-bioc/meat/SpatialOmicsOverlay.Rcheck/00check.log’
for details.


Installation output

SpatialOmicsOverlay.Rcheck/00install.out

##############################################################################
##############################################################################
###
### Running command:
###
###   /Library/Frameworks/R.framework/Resources/bin/R CMD INSTALL SpatialOmicsOverlay
###
##############################################################################
##############################################################################


* installing to library ‘/Library/Frameworks/R.framework/Versions/4.5-x86_64/Resources/library’
* installing *source* package ‘SpatialOmicsOverlay’ ...
** this is package ‘SpatialOmicsOverlay’ version ‘1.10.0’
** using staged installation
** R
** inst
** byte-compile and prepare package for lazy loading
** help
*** installing help indices
** building package indices
** installing vignettes
** testing if installed package can be loaded from temporary location
** testing if installed package can be loaded from final location
** testing if installed package keeps a record of temporary installation path
* DONE (SpatialOmicsOverlay)

Tests output

SpatialOmicsOverlay.Rcheck/tests/testthat.Rout


R version 4.5.2 Patched (2025-11-05 r88990) -- "[Not] Part in a Rumble"
Copyright (C) 2025 The R Foundation for Statistical Computing
Platform: x86_64-apple-darwin20

R is free software and comes with ABSOLUTELY NO WARRANTY.
You are welcome to redistribute it under certain conditions.
Type 'license()' or 'licence()' for distribution details.

R is a collaborative project with many contributors.
Type 'contributors()' for more information and
'citation()' on how to cite R or R packages in publications.

Type 'demo()' for some demos, 'help()' for on-line help, or
'help.start()' for an HTML browser interface to help.
Type 'q()' to quit R.

> library(testthat)
> library(vdiffr)
> 
> options( java.parameters = "-Xmx4g" )
> library( "RBioFormats" )
BioFormats library version 7.3.0
> 
> library(SpatialOmicsOverlay)
> 
> # #run tests
> test_check("SpatialOmicsOverlay")
WARNING: A restricted method in java.lang.System has been called
WARNING: java.lang.System::load has been called by org.scijava.nativelib.NativeLibraryUtil in an unnamed module (file:/Users/biocbuild/Library/Caches/org.R-project.R/R/RBioFormats/bioformats_package_7.3.0.jar)
WARNING: Use --enable-native-access=ALL-UNNAMED to avoid a warning for callers in this module
WARNING: Restricted methods will be blocked in a future release unless native access is enabled

Loading required package: Biobase
Loading required package: BiocGenerics
Loading required package: generics

Attaching package: 'generics'

The following objects are masked from 'package:base':

    as.difftime, as.factor, as.ordered, intersect, is.element, setdiff,
    setequal, union


Attaching package: 'BiocGenerics'

The following objects are masked from 'package:stats':

    IQR, mad, sd, var, xtabs

The following objects are masked from 'package:base':

    Filter, Find, Map, Position, Reduce, anyDuplicated, aperm, append,
    as.data.frame, basename, cbind, colnames, dirname, do.call,
    duplicated, eval, evalq, get, grep, grepl, is.unsorted, lapply,
    mapply, match, mget, order, paste, pmax, pmax.int, pmin, pmin.int,
    rank, rbind, rownames, sapply, saveRDS, table, tapply, unique,
    unsplit, which.max, which.min

Welcome to Bioconductor

    Vignettes contain introductory material; view with
    'browseVignettes()'. To cite Bioconductor, see
    'citation("Biobase")', and for packages 'citation("pkgname")'.

Loading required package: NanoStringNCTools
Loading required package: S4Vectors
Loading required package: stats4

Attaching package: 'S4Vectors'

The following object is masked from 'package:utils':

    findMatches

The following objects are masked from 'package:base':

    I, expand.grid, unname

Loading required package: ggplot2
Extracting XML
Parsing XML - scan metadata
Parsing XML - overlay data
Generating Coordinates
Extracting XML
Parsing XML - scan metadata
Parsing XML - overlay data
Generating Coordinates
Calculating and scaling coordinates
Calculating and scaling coordinates
[ FAIL 0 | WARN 4 | SKIP 0 | PASS 422 ]

[ FAIL 0 | WARN 4 | SKIP 0 | PASS 422 ]
> 
> 
> 
> proc.time()
   user  system elapsed 
331.282  14.973 337.852 

Example timings

SpatialOmicsOverlay.Rcheck/SpatialOmicsOverlay-Ex.timings

nameusersystemelapsed
add4ChannelImage30.263 1.87527.202
addImageOmeTiff22.217 1.40221.995
addPlottingFactor0.9750.0311.027
bookendStr0.0020.0010.002
changeColoringIntensity21.926 1.02121.666
changeImageColoring22.432 1.49122.244
checkValidRes3.9780.4103.749
createCoordFile8.6710.0588.759
createMask15.304 0.62816.237
cropSamples22.771 1.38723.044
cropTissue21.917 1.25321.794
downloadMouseBrainImage0.2930.0170.309
flipX19.982 1.26320.756
flipY19.994 1.16620.209
fluorLegend3.7080.2503.999
moveCoords0.3830.0440.431
parseOverlayAttrs5.2210.2515.180
parseScanMetadata4.9300.4954.892
plotSpatialOverlay2.6360.1922.876
readLabWorksheet0.0060.0020.008
readSpatialOverlay25.916 1.10926.523
recolor20.153 1.15320.346
removeSample0.4840.0190.531
xmlExtraction4.6130.3424.745