| Back to Multiple platform build/check report for BioC 3.22: simplified long |
|
This page was generated on 2025-10-25 12:04 -0400 (Sat, 25 Oct 2025).
| Hostname | OS | Arch (*) | R version | Installed pkgs |
|---|---|---|---|---|
| nebbiolo2 | Linux (Ubuntu 24.04.3 LTS) | x86_64 | 4.5.1 Patched (2025-08-23 r88802) -- "Great Square Root" | 4901 |
| lconway | macOS 12.7.6 Monterey | x86_64 | 4.5.1 Patched (2025-09-10 r88807) -- "Great Square Root" | 4691 |
| kjohnson3 | macOS 13.7.7 Ventura | arm64 | 4.5.1 Patched (2025-09-10 r88807) -- "Great Square Root" | 4637 |
| taishan | Linux (openEuler 24.03 LTS) | aarch64 | 4.5.0 (2025-04-11) -- "How About a Twenty-Six" | 4658 |
| Click on any hostname to see more info about the system (e.g. compilers) (*) as reported by 'uname -p', except on Windows and Mac OS X | ||||
| Package 2006/2361 | Hostname | OS / Arch | INSTALL | BUILD | CHECK | BUILD BIN | ||||||||
| SIAMCAT 2.13.0 (landing page) Jakob Wirbel
| nebbiolo2 | Linux (Ubuntu 24.04.3 LTS) / x86_64 | OK | OK | OK | |||||||||
| lconway | macOS 12.7.6 Monterey / x86_64 | OK | OK | OK | OK | |||||||||
| kjohnson3 | macOS 13.7.7 Ventura / arm64 | OK | OK | OK | OK | |||||||||
| taishan | Linux (openEuler 24.03 LTS) / aarch64 | OK | NA | NA | ||||||||||
|
To the developers/maintainers of the SIAMCAT package: - Allow up to 24 hours (and sometimes 48 hours) for your latest push to git@git.bioconductor.org:packages/SIAMCAT.git to reflect on this report. See Troubleshooting Build Report for more information. - Use the following Renviron settings to reproduce errors and warnings. - If 'R CMD check' started to fail recently on the Linux builder(s) over a missing dependency, add the missing dependency to 'Suggests:' in your DESCRIPTION file. See Renviron.bioc for more information. |
| Package: SIAMCAT |
| Version: 2.13.0 |
| Command: /home/biocbuild/bbs-3.22-bioc/R/bin/R CMD check --install=check:SIAMCAT.install-out.txt --library=/home/biocbuild/bbs-3.22-bioc/R/site-library --timings SIAMCAT_2.13.0.tar.gz |
| StartedAt: 2025-10-25 04:09:53 -0400 (Sat, 25 Oct 2025) |
| EndedAt: 2025-10-25 04:18:07 -0400 (Sat, 25 Oct 2025) |
| EllapsedTime: 493.6 seconds |
| RetCode: 0 |
| Status: OK |
| CheckDir: SIAMCAT.Rcheck |
| Warnings: 0 |
##############################################################################
##############################################################################
###
### Running command:
###
### /home/biocbuild/bbs-3.22-bioc/R/bin/R CMD check --install=check:SIAMCAT.install-out.txt --library=/home/biocbuild/bbs-3.22-bioc/R/site-library --timings SIAMCAT_2.13.0.tar.gz
###
##############################################################################
##############################################################################
* using log directory ‘/home/biocbuild/bbs-3.22-bioc/meat/SIAMCAT.Rcheck’
* using R version 4.5.1 Patched (2025-08-23 r88802)
* using platform: x86_64-pc-linux-gnu
* R was compiled by
gcc (Ubuntu 13.3.0-6ubuntu2~24.04) 13.3.0
GNU Fortran (Ubuntu 13.3.0-6ubuntu2~24.04) 13.3.0
* running under: Ubuntu 24.04.3 LTS
* using session charset: UTF-8
* checking for file ‘SIAMCAT/DESCRIPTION’ ... OK
* checking extension type ... Package
* this is package ‘SIAMCAT’ version ‘2.13.0’
* package encoding: UTF-8
* checking package namespace information ... OK
* checking package dependencies ... OK
* checking if this is a source package ... OK
* checking if there is a namespace ... OK
* checking for hidden files and directories ... NOTE
Found the following hidden files and directories:
.travis.yml
These were most likely included in error. See section ‘Package
structure’ in the ‘Writing R Extensions’ manual.
* checking for portable file names ... OK
* checking for sufficient/correct file permissions ... OK
* checking whether package ‘SIAMCAT’ can be installed ... OK
* checking installed package size ... INFO
installed size is 5.1Mb
sub-directories of 1Mb or more:
extdata 2.1Mb
help 1.9Mb
* checking package directory ... OK
* checking ‘build’ directory ... OK
* checking DESCRIPTION meta-information ... OK
* checking top-level files ... OK
* checking for left-over files ... OK
* checking index information ... OK
* checking package subdirectories ... OK
* checking code files for non-ASCII characters ... OK
* checking R files for syntax errors ... OK
* checking whether the package can be loaded ... OK
* checking whether the package can be loaded with stated dependencies ... OK
* checking whether the package can be unloaded cleanly ... OK
* checking whether the namespace can be loaded with stated dependencies ... OK
* checking whether the namespace can be unloaded cleanly ... OK
* checking loading without being on the library search path ... OK
* checking dependencies in R code ... OK
* checking S3 generic/method consistency ... OK
* checking replacement functions ... OK
* checking foreign function calls ... OK
* checking R code for possible problems ... OK
* checking Rd files ... OK
* checking Rd metadata ... OK
* checking Rd cross-references ... NOTE
Found the following Rd file(s) with Rd \link{} targets missing package
anchors:
check.associations.Rd: lmerTest
summarize.features.Rd: phyloseq
train.model.Rd: mlr3learners, glmnet, LiblineaR
Please provide package anchors for all Rd \link{} targets not in the
package itself and the base packages.
* checking for missing documentation entries ... OK
* checking for code/documentation mismatches ... OK
* checking Rd \usage sections ... OK
* checking Rd contents ... OK
* checking for unstated dependencies in examples ... OK
* checking contents of ‘data’ directory ... OK
* checking data for non-ASCII characters ... OK
* checking LazyData ... OK
* checking data for ASCII and uncompressed saves ... OK
* checking files in ‘vignettes’ ... OK
* checking examples ... OK
Examples with CPU (user + system) or elapsed time > 5s
user system elapsed
assign-model_list 21.830 0.351 22.182
make.predictions 21.820 0.246 22.067
model.interpretation.plot 21.635 0.190 21.826
train.model 21.164 0.164 21.329
* checking for unstated dependencies in vignettes ... OK
* checking package vignettes ... OK
* checking re-building of vignette outputs ... OK
* checking PDF version of manual ... OK
* DONE
Status: 2 NOTEs
See
‘/home/biocbuild/bbs-3.22-bioc/meat/SIAMCAT.Rcheck/00check.log’
for details.
SIAMCAT.Rcheck/00install.out
############################################################################## ############################################################################## ### ### Running command: ### ### /home/biocbuild/bbs-3.22-bioc/R/bin/R CMD INSTALL SIAMCAT ### ############################################################################## ############################################################################## * installing to library ‘/home/biocbuild/bbs-3.22-bioc/R/site-library’ * installing *source* package ‘SIAMCAT’ ... ** this is package ‘SIAMCAT’ version ‘2.13.0’ ** using staged installation ** R ** data *** moving datasets to lazyload DB ** inst ** byte-compile and prepare package for lazy loading ** help *** installing help indices *** copying figures ** building package indices ** installing vignettes ** testing if installed package can be loaded from temporary location ** testing if installed package can be loaded from final location ** testing if installed package keeps a record of temporary installation path * DONE (SIAMCAT)
SIAMCAT.Rcheck/SIAMCAT-Ex.timings
| name | user | system | elapsed | |
| accessSlot | 0.005 | 0.002 | 0.007 | |
| add.meta.pred | 0.026 | 0.001 | 0.026 | |
| assign-associations | 0.005 | 0.001 | 0.006 | |
| assign-data_split | 0.005 | 0.002 | 0.007 | |
| assign-eval_data | 0.004 | 0.002 | 0.007 | |
| assign-filt_feat | 0.006 | 0.000 | 0.007 | |
| assign-label | 0.005 | 0.001 | 0.007 | |
| assign-meta | 0.024 | 0.002 | 0.027 | |
| assign-model_list | 21.830 | 0.351 | 22.182 | |
| assign-norm_feat | 0.005 | 0.001 | 0.006 | |
| assign-orig_feat | 0.009 | 0.001 | 0.010 | |
| assign-physeq | 0.005 | 0.001 | 0.006 | |
| assign-pred_matrix | 0.005 | 0.001 | 0.006 | |
| assoc_param-methods | 0.012 | 0.005 | 0.018 | |
| association.plot | 0.204 | 0.013 | 0.217 | |
| associations-methods | 0.005 | 0.001 | 0.008 | |
| check.associations | 0.009 | 0.000 | 0.009 | |
| check.confounders | 0.420 | 0.010 | 0.432 | |
| create.data.split | 0.020 | 0.001 | 0.022 | |
| create.label | 0.002 | 0.000 | 0.002 | |
| data_split-methods | 0.005 | 0.000 | 0.004 | |
| eval_data-methods | 0.005 | 0.000 | 0.004 | |
| evaluate.predictions | 1.755 | 0.018 | 1.773 | |
| feature_type-methods | 0.004 | 0.000 | 0.004 | |
| feature_weights-methods | 0.004 | 0.001 | 0.004 | |
| filt_feat-methods | 0.005 | 0.001 | 0.004 | |
| filt_params-methods | 0.003 | 0.000 | 0.004 | |
| filter.features | 0.011 | 0.000 | 0.012 | |
| filter.label | 0.006 | 0.000 | 0.006 | |
| get.filt_feat.matrix | 0.004 | 0.001 | 0.005 | |
| get.norm_feat.matrix | 0.004 | 0.000 | 0.005 | |
| get.orig_feat.matrix | 0.004 | 0.000 | 0.005 | |
| label-methods | 0.005 | 0.000 | 0.005 | |
| make.predictions | 21.820 | 0.246 | 22.067 | |
| meta-methods | 0.017 | 0.000 | 0.017 | |
| model.evaluation.plot | 0.023 | 0.001 | 0.024 | |
| model.interpretation.plot | 21.635 | 0.190 | 21.826 | |
| model_list-methods | 0.004 | 0.000 | 0.005 | |
| model_type-methods | 0.004 | 0.000 | 0.005 | |
| models-methods | 0.004 | 0.000 | 0.005 | |
| norm_feat-methods | 0.004 | 0.000 | 0.004 | |
| norm_params-methods | 0.004 | 0.001 | 0.004 | |
| normalize.features | 0.011 | 0.001 | 0.012 | |
| orig_feat-methods | 0.005 | 0.000 | 0.005 | |
| physeq-methods | 0.008 | 0.000 | 0.008 | |
| pred_matrix-methods | 0.005 | 0.000 | 0.004 | |
| read.label | 0.007 | 0.000 | 0.007 | |
| read.lefse | 0.528 | 0.002 | 0.530 | |
| select.samples | 0.077 | 0.000 | 0.077 | |
| siamcat | 0.246 | 0.003 | 0.249 | |
| siamcat.to.lefse | 0.015 | 0.001 | 0.015 | |
| siamcat.to.maaslin | 0.017 | 0.000 | 0.018 | |
| summarize.features | 1.760 | 0.085 | 1.845 | |
| train.model | 21.164 | 0.164 | 21.329 | |
| validate.data | 0.018 | 0.000 | 0.018 | |
| volcano.plot | 0.011 | 0.000 | 0.011 | |
| weight_matrix-methods | 0.003 | 0.001 | 0.004 | |