Back to Multiple platform build/check report for BioC 3.22:   simplified   long
ABCDEFGHIJKLMNOPQR[S]TUVWXYZ

This page was generated on 2025-11-20 12:05 -0500 (Thu, 20 Nov 2025).

HostnameOSArch (*)R versionInstalled pkgs
nebbiolo2Linux (Ubuntu 24.04.3 LTS)x86_644.5.2 (2025-10-31) -- "[Not] Part in a Rumble" 4615
merida1macOS 12.7.6 Montereyx86_644.5.2 Patched (2025-11-05 r88990) -- "[Not] Part in a Rumble" 4610
kjohnson1macOS 13.7.5 Venturaarm644.5.2 Patched (2025-11-04 r88984) -- "[Not] Part in a Rumble" 4598
taishanLinux (openEuler 24.03 LTS)aarch644.5.0 (2025-04-11) -- "How About a Twenty-Six" 4668
Click on any hostname to see more info about the system (e.g. compilers)      (*) as reported by 'uname -p', except on Windows and Mac OS X

Package 1998/2361HostnameOS / ArchINSTALLBUILDCHECKBUILD BIN
SGSeq 1.44.0  (landing page)
Leonard Goldstein
Snapshot Date: 2025-11-17 13:45 -0500 (Mon, 17 Nov 2025)
git_url: https://git.bioconductor.org/packages/SGSeq
git_branch: RELEASE_3_22
git_last_commit: 2a90d1b
git_last_commit_date: 2025-10-29 10:22:27 -0500 (Wed, 29 Oct 2025)
nebbiolo2Linux (Ubuntu 24.04.3 LTS) / x86_64  OK    OK    OK  UNNEEDED, same version is already published
merida1macOS 12.7.6 Monterey / x86_64  OK    OK    OK    OK  UNNEEDED, same version is already published
kjohnson1macOS 13.7.5 Ventura / arm64  OK    OK    OK    OK  UNNEEDED, same version is already published
taishanLinux (openEuler 24.03 LTS) / aarch64  OK    OK    OK  


CHECK results for SGSeq on merida1

To the developers/maintainers of the SGSeq package:
- Allow up to 24 hours (and sometimes 48 hours) for your latest push to git@git.bioconductor.org:packages/SGSeq.git to reflect on this report. See Troubleshooting Build Report for more information.
- Use the following Renviron settings to reproduce errors and warnings.
- If 'R CMD check' started to fail recently on the Linux builder(s) over a missing dependency, add the missing dependency to 'Suggests:' in your DESCRIPTION file. See Renviron.bioc for more information.

raw results


Summary

Package: SGSeq
Version: 1.44.0
Command: /Library/Frameworks/R.framework/Resources/bin/R CMD check --install=check:SGSeq.install-out.txt --library=/Library/Frameworks/R.framework/Resources/library --no-vignettes --timings SGSeq_1.44.0.tar.gz
StartedAt: 2025-11-18 14:39:38 -0500 (Tue, 18 Nov 2025)
EndedAt: 2025-11-18 15:01:17 -0500 (Tue, 18 Nov 2025)
EllapsedTime: 1298.9 seconds
RetCode: 0
Status:   OK  
CheckDir: SGSeq.Rcheck
Warnings: 0

Command output

##############################################################################
##############################################################################
###
### Running command:
###
###   /Library/Frameworks/R.framework/Resources/bin/R CMD check --install=check:SGSeq.install-out.txt --library=/Library/Frameworks/R.framework/Resources/library --no-vignettes --timings SGSeq_1.44.0.tar.gz
###
##############################################################################
##############################################################################


* using log directory ‘/Users/biocbuild/bbs-3.22-bioc/meat/SGSeq.Rcheck’
* using R version 4.5.2 Patched (2025-11-05 r88990)
* using platform: x86_64-apple-darwin20
* R was compiled by
    Apple clang version 14.0.0 (clang-1400.0.29.202)
    GNU Fortran (GCC) 14.2.0
* running under: macOS Monterey 12.7.6
* using session charset: UTF-8
* using option ‘--no-vignettes’
* checking for file ‘SGSeq/DESCRIPTION’ ... OK
* checking extension type ... Package
* this is package ‘SGSeq’ version ‘1.44.0’
* checking package namespace information ... OK
* checking package dependencies ... OK
* checking if this is a source package ... OK
* checking if there is a namespace ... OK
* checking for hidden files and directories ... OK
* checking for portable file names ... OK
* checking for sufficient/correct file permissions ... OK
* checking whether package ‘SGSeq’ can be installed ... OK
* checking installed package size ... OK
* checking package directory ... OK
* checking ‘build’ directory ... OK
* checking DESCRIPTION meta-information ... OK
* checking top-level files ... OK
* checking for left-over files ... OK
* checking index information ... OK
* checking package subdirectories ... OK
* checking code files for non-ASCII characters ... OK
* checking R files for syntax errors ... OK
* checking whether the package can be loaded ... OK
* checking whether the package can be loaded with stated dependencies ... OK
* checking whether the package can be unloaded cleanly ... OK
* checking whether the namespace can be loaded with stated dependencies ... OK
* checking whether the namespace can be unloaded cleanly ... OK
* checking dependencies in R code ... NOTE
Unexported objects imported by ':::' calls:
  ‘GenomicRanges:::extraColumnSlotNames’
  ‘GenomicRanges:::extraColumnSlotsAsDF’
  See the note in ?`:::` about the use of this operator.
* checking S3 generic/method consistency ... OK
* checking replacement functions ... OK
* checking foreign function calls ... OK
* checking R code for possible problems ... OK
* checking Rd files ... NOTE
checkRd: (-1) SGVariants.Rd:24-27: Lost braces in \itemize; meant \describe ?
checkRd: (-1) SGVariants.Rd:28-29: Lost braces in \itemize; meant \describe ?
checkRd: (-1) SGVariants.Rd:30-31: Lost braces in \itemize; meant \describe ?
checkRd: (-1) SGVariants.Rd:32-34: Lost braces in \itemize; meant \describe ?
checkRd: (-1) SGVariants.Rd:35-36: Lost braces in \itemize; meant \describe ?
checkRd: (-1) SGVariants.Rd:37-39: Lost braces in \itemize; meant \describe ?
checkRd: (-1) SGVariants.Rd:40-42: Lost braces in \itemize; meant \describe ?
checkRd: (-1) SGVariants.Rd:43-44: Lost braces in \itemize; meant \describe ?
checkRd: (-1) SGVariants.Rd:45-46: Lost braces in \itemize; meant \describe ?
checkRd: (-1) SGVariants.Rd:47-49: Lost braces in \itemize; meant \describe ?
checkRd: (-1) SGVariants.Rd:53: Lost braces in \itemize; meant \describe ?
checkRd: (-1) SGVariants.Rd:54: Lost braces in \itemize; meant \describe ?
checkRd: (-1) SGVariants.Rd:55-57: Lost braces in \itemize; meant \describe ?
checkRd: (-1) SGVariants.Rd:58-59: Lost braces in \itemize; meant \describe ?
checkRd: (-1) getBamInfo.Rd:36: Lost braces; missing escapes or markup?
    36 | Note that library size is only obtained if \code{yieldSize} is {NULL}.
       |                                                                ^
checkRd: (-1) getSGFeatureCounts.Rd:28: Lost braces
    28 | code{SGFeatureCounts} object, or integer matrix of counts
       |     ^
* checking Rd metadata ... OK
* checking Rd cross-references ... OK
* checking for missing documentation entries ... OK
* checking for code/documentation mismatches ... OK
* checking Rd \usage sections ... OK
* checking Rd contents ... OK
* checking for unstated dependencies in examples ... OK
* checking contents of ‘data’ directory ... OK
* checking data for non-ASCII characters ... OK
* checking LazyData ... OK
* checking data for ASCII and uncompressed saves ... OK
* checking files in ‘vignettes’ ... OK
* checking examples ... OK
Examples with CPU (user + system) or elapsed time > 5s
                        user system elapsed
predictVariantEffects 99.444  0.783 101.600
analyzeFeatures       46.010  0.379  47.574
predictTxFeatures     27.637  0.132  28.212
getSGVariantCounts    16.915  0.118  17.534
getSGFeatureCounts    13.855  0.109  15.386
* checking for unstated dependencies in ‘tests’ ... OK
* checking tests ...
  Running ‘runTests.R’
 OK
* checking for unstated dependencies in vignettes ... OK
* checking package vignettes ... OK
* checking running R code from vignettes ... SKIPPED
* checking re-building of vignette outputs ... SKIPPED
* checking PDF version of manual ... OK
* DONE

Status: 2 NOTEs
See
  ‘/Users/biocbuild/bbs-3.22-bioc/meat/SGSeq.Rcheck/00check.log’
for details.


Installation output

SGSeq.Rcheck/00install.out

##############################################################################
##############################################################################
###
### Running command:
###
###   /Library/Frameworks/R.framework/Resources/bin/R CMD INSTALL SGSeq
###
##############################################################################
##############################################################################


* installing to library ‘/Library/Frameworks/R.framework/Versions/4.5-x86_64/Resources/library’
* installing *source* package ‘SGSeq’ ...
** this is package ‘SGSeq’ version ‘1.44.0’
** using staged installation
** R
** data
*** moving datasets to lazyload DB
** inst
** byte-compile and prepare package for lazy loading
** help
*** installing help indices
** building package indices
** installing vignettes
** testing if installed package can be loaded from temporary location
** testing if installed package can be loaded from final location
** testing if installed package keeps a record of temporary installation path
* DONE (SGSeq)

Tests output

SGSeq.Rcheck/tests/runTests.Rout


R version 4.5.2 Patched (2025-11-05 r88990) -- "[Not] Part in a Rumble"
Copyright (C) 2025 The R Foundation for Statistical Computing
Platform: x86_64-apple-darwin20

R is free software and comes with ABSOLUTELY NO WARRANTY.
You are welcome to redistribute it under certain conditions.
Type 'license()' or 'licence()' for distribution details.

R is a collaborative project with many contributors.
Type 'contributors()' for more information and
'citation()' on how to cite R or R packages in publications.

Type 'demo()' for some demos, 'help()' for on-line help, or
'help.start()' for an HTML browser interface to help.
Type 'q()' to quit R.

> BiocGenerics:::testPackage("SGSeq")

Attaching package: 'generics'

The following objects are masked from 'package:base':

    as.difftime, as.factor, as.ordered, intersect, is.element, setdiff,
    setequal, union


Attaching package: 'BiocGenerics'

The following objects are masked from 'package:stats':

    IQR, mad, sd, var, xtabs

The following objects are masked from 'package:base':

    Filter, Find, Map, Position, Reduce, anyDuplicated, aperm, append,
    as.data.frame, basename, cbind, colnames, dirname, do.call,
    duplicated, eval, evalq, get, grep, grepl, is.unsorted, lapply,
    mapply, match, mget, order, paste, pmax, pmax.int, pmin, pmin.int,
    rank, rbind, rownames, sapply, saveRDS, table, tapply, unique,
    unsplit, which.max, which.min


Attaching package: 'S4Vectors'

The following object is masked from 'package:utils':

    findMatches

The following objects are masked from 'package:base':

    I, expand.grid, unname


Attaching package: 'Biostrings'

The following object is masked from 'package:base':

    strsplit


Attaching package: 'MatrixGenerics'

The following objects are masked from 'package:matrixStats':

    colAlls, colAnyNAs, colAnys, colAvgsPerRowSet, colCollapse,
    colCounts, colCummaxs, colCummins, colCumprods, colCumsums,
    colDiffs, colIQRDiffs, colIQRs, colLogSumExps, colMadDiffs,
    colMads, colMaxs, colMeans2, colMedians, colMins, colOrderStats,
    colProds, colQuantiles, colRanges, colRanks, colSdDiffs, colSds,
    colSums2, colTabulates, colVarDiffs, colVars, colWeightedMads,
    colWeightedMeans, colWeightedMedians, colWeightedSds,
    colWeightedVars, rowAlls, rowAnyNAs, rowAnys, rowAvgsPerColSet,
    rowCollapse, rowCounts, rowCummaxs, rowCummins, rowCumprods,
    rowCumsums, rowDiffs, rowIQRDiffs, rowIQRs, rowLogSumExps,
    rowMadDiffs, rowMads, rowMaxs, rowMeans2, rowMedians, rowMins,
    rowOrderStats, rowProds, rowQuantiles, rowRanges, rowRanks,
    rowSdDiffs, rowSds, rowSums2, rowTabulates, rowVarDiffs, rowVars,
    rowWeightedMads, rowWeightedMeans, rowWeightedMedians,
    rowWeightedSds, rowWeightedVars

Welcome to Bioconductor

    Vignettes contain introductory material; view with
    'browseVignettes()'. To cite Bioconductor, see
    'citation("Biobase")', and for packages 'citation("pkgname")'.


Attaching package: 'Biobase'

The following object is masked from 'package:MatrixGenerics':

    rowMedians

The following objects are masked from 'package:matrixStats':

    anyMissing, rowMedians

Predict features...
N1 complete.
N2 complete.
N3 complete.
N4 complete.
T1 complete.
T2 complete.
T3 complete.
T4 complete.
Process features...
Obtain counts...
N1 complete.
N2 complete.
N3 complete.
N4 complete.
T1 complete.
T2 complete.
T3 complete.
T4 complete.
Find segments...
Find variants...
Annotate variants...
[updateObject] SGVariants object is current.
[updateObject] Nothing to update.
[updateObject] Internal representation of SGFeatures object is current.
[updateObject] Nothing to update.
[updateObject] Internal representation of IRanges object is current.
[updateObject] Nothing to update.
updateObject(object="ANY") default for object of class 'NULL'
[updateObject] Validating the updated object ... OK
[updateObject] Validating the updated object ... OK
[updateObject] DFrame object is current.
[updateObject] Nothing to update.
updateObject(object="ANY") default for object of class 'NULL'
[updateObject] Validating the updated object ... OK
[updateObject] Validating the updated object ... OK
[updateObject] Validating the updated object ... OK
[updateObject] Internal representation of SGFeatures object is current.
[updateObject] Nothing to update.
[updateObject] Internal representation of IRanges object is current.
[updateObject] Nothing to update.
updateObject(object="ANY") default for object of class 'NULL'
[updateObject] Validating the updated object ... OK
[updateObject] Validating the updated object ... OK
[updateObject] DFrame object is current.
[updateObject] Nothing to update.
updateObject(object="ANY") default for object of class 'NULL'
[updateObject] Validating the updated object ... OK
[updateObject] Validating the updated object ... OK
[updateObject] Validating the updated object ... OK
[updateObject] Internal representation of PartitioningByEnd object is current.
[updateObject] Nothing to update.
updateObject(object="ANY") default for object of class 'NULL'
[updateObject] Validating the updated object ... OK
[updateObject] Validating the updated object ... OK
[updateObject] DFrame object is current.
[updateObject] Nothing to update.
updateObject(object="ANY") default for object of class 'NULL'
[updateObject] Validating the updated object ... OK
[updateObject] Validating the updated object ... OK
[updateObject] Validating the updated object ... OK
[updateObject] SGVariants object is current.
[updateObject] Nothing to update.
[updateObject] Internal representation of SGFeatures object is current.
[updateObject] Nothing to update.
[updateObject] Internal representation of IRanges object is current.
[updateObject] Nothing to update.
updateObject(object="ANY") default for object of class 'NULL'
[updateObject] Validating the updated object ... OK
[updateObject] Validating the updated object ... OK
[updateObject] DFrame object is current.
[updateObject] Nothing to update.
updateObject(object="ANY") default for object of class 'NULL'
[updateObject] Validating the updated object ... OK
[updateObject] Validating the updated object ... OK
[updateObject] Validating the updated object ... OK
[updateObject] Internal representation of SGFeatures object is current.
[updateObject] Nothing to update.
[updateObject] Internal representation of IRanges object is current.
[updateObject] Nothing to update.
updateObject(object="ANY") default for object of class 'NULL'
[updateObject] Validating the updated object ... OK
[updateObject] Validating the updated object ... OK
[updateObject] DFrame object is current.
[updateObject] Nothing to update.
updateObject(object="ANY") default for object of class 'NULL'
[updateObject] Validating the updated object ... OK
[updateObject] Validating the updated object ... OK
[updateObject] Validating the updated object ... OK
[updateObject] Internal representation of PartitioningByEnd object is current.
[updateObject] Nothing to update.
updateObject(object="ANY") default for object of class 'NULL'
[updateObject] Validating the updated object ... OK
[updateObject] Validating the updated object ... OK
[updateObject] DFrame object is current.
[updateObject] Nothing to update.
updateObject(object="ANY") default for object of class 'NULL'
[updateObject] Validating the updated object ... OK
[updateObject] Validating the updated object ... OK
[updateObject] Validating the updated object ... OK
Find segments...
Find variants...
Annotate variants...
Find segments...
Find variants...
Annotate variants...
Find segments...
Find variants...
Annotate variants...
Find segments...
Find variants...
Annotate variants...
N1 complete.
N2 complete.
N3 complete.
N4 complete.
T1 complete.
T2 complete.
T3 complete.
T4 complete.
N1 complete.
N2 complete.
N3 complete.
N4 complete.
T1 complete.
T2 complete.
T3 complete.
T4 complete.
[updateObject] SGVariants object is current.
[updateObject] Nothing to update.
[updateObject] Internal representation of SGFeatures object is current.
[updateObject] Nothing to update.
[updateObject] Internal representation of IRanges object is current.
[updateObject] Nothing to update.
updateObject(object="ANY") default for object of class 'NULL'
[updateObject] Validating the updated object ... OK
[updateObject] Validating the updated object ... OK
[updateObject] DFrame object is current.
[updateObject] Nothing to update.
updateObject(object="ANY") default for object of class 'NULL'
[updateObject] Validating the updated object ... OK
[updateObject] Validating the updated object ... OK
[updateObject] Validating the updated object ... OK
[updateObject] Internal representation of SGFeatures object is current.
[updateObject] Nothing to update.
[updateObject] Internal representation of IRanges object is current.
[updateObject] Nothing to update.
updateObject(object="ANY") default for object of class 'NULL'
[updateObject] Validating the updated object ... OK
[updateObject] Validating the updated object ... OK
[updateObject] DFrame object is current.
[updateObject] Nothing to update.
updateObject(object="ANY") default for object of class 'NULL'
[updateObject] Validating the updated object ... OK
[updateObject] Validating the updated object ... OK
[updateObject] Validating the updated object ... OK
[updateObject] Internal representation of PartitioningByEnd object is current.
[updateObject] Nothing to update.
updateObject(object="ANY") default for object of class 'NULL'
[updateObject] Validating the updated object ... OK
[updateObject] Validating the updated object ... OK
[updateObject] DFrame object is current.
[updateObject] Nothing to update.
updateObject(object="ANY") default for object of class 'NULL'
[updateObject] Validating the updated object ... OK
[updateObject] Validating the updated object ... OK
[updateObject] Validating the updated object ... OK
[updateObject] SGVariants object is current.
[updateObject] Nothing to update.
[updateObject] Internal representation of SGFeatures object is current.
[updateObject] Nothing to update.
[updateObject] Internal representation of IRanges object is current.
[updateObject] Nothing to update.
updateObject(object="ANY") default for object of class 'NULL'
[updateObject] Validating the updated object ... OK
[updateObject] Validating the updated object ... OK
[updateObject] DFrame object is current.
[updateObject] Nothing to update.
updateObject(object="ANY") default for object of class 'NULL'
[updateObject] Validating the updated object ... OK
[updateObject] Validating the updated object ... OK
[updateObject] Validating the updated object ... OK
[updateObject] Internal representation of SGFeatures object is current.
[updateObject] Nothing to update.
[updateObject] Internal representation of IRanges object is current.
[updateObject] Nothing to update.
updateObject(object="ANY") default for object of class 'NULL'
[updateObject] Validating the updated object ... OK
[updateObject] Validating the updated object ... OK
[updateObject] DFrame object is current.
[updateObject] Nothing to update.
updateObject(object="ANY") default for object of class 'NULL'
[updateObject] Validating the updated object ... OK
[updateObject] Validating the updated object ... OK
[updateObject] Validating the updated object ... OK
[updateObject] Internal representation of PartitioningByEnd object is current.
[updateObject] Nothing to update.
updateObject(object="ANY") default for object of class 'NULL'
[updateObject] Validating the updated object ... OK
[updateObject] Validating the updated object ... OK
[updateObject] DFrame object is current.
[updateObject] Nothing to update.
updateObject(object="ANY") default for object of class 'NULL'
[updateObject] Validating the updated object ... OK
[updateObject] Validating the updated object ... OK
[updateObject] Validating the updated object ... OK
N1 complete.
N2 complete.
N3 complete.
N4 complete.
T1 complete.
T2 complete.
T3 complete.
T4 complete.
N1 complete.
N2 complete.
N3 complete.
N4 complete.
T1 complete.
T2 complete.
T3 complete.
T4 complete.
Loading required package: BSgenome
Loading required package: BiocIO
Loading required package: rtracklayer
[updateObject] SGVariants object is current.
[updateObject] Nothing to update.
[updateObject] Internal representation of SGFeatures object is current.
[updateObject] Nothing to update.
[updateObject] Internal representation of IRanges object is current.
[updateObject] Nothing to update.
updateObject(object="ANY") default for object of class 'NULL'
[updateObject] Validating the updated object ... OK
[updateObject] Validating the updated object ... OK
[updateObject] DFrame object is current.
[updateObject] Nothing to update.
updateObject(object="ANY") default for object of class 'NULL'
[updateObject] Validating the updated object ... OK
[updateObject] Validating the updated object ... OK
[updateObject] Validating the updated object ... OK
[updateObject] Internal representation of SGFeatures object is current.
[updateObject] Nothing to update.
[updateObject] Internal representation of IRanges object is current.
[updateObject] Nothing to update.
updateObject(object="ANY") default for object of class 'NULL'
[updateObject] Validating the updated object ... OK
[updateObject] Validating the updated object ... OK
[updateObject] DFrame object is current.
[updateObject] Nothing to update.
updateObject(object="ANY") default for object of class 'NULL'
[updateObject] Validating the updated object ... OK
[updateObject] Validating the updated object ... OK
[updateObject] Validating the updated object ... OK
[updateObject] Internal representation of PartitioningByEnd object is current.
[updateObject] Nothing to update.
updateObject(object="ANY") default for object of class 'NULL'
[updateObject] Validating the updated object ... OK
[updateObject] Validating the updated object ... OK
[updateObject] DFrame object is current.
[updateObject] Nothing to update.
updateObject(object="ANY") default for object of class 'NULL'
[updateObject] Validating the updated object ... OK
[updateObject] Validating the updated object ... OK
[updateObject] Validating the updated object ... OK
[updateObject] SGVariants object is current.
[updateObject] Nothing to update.
[updateObject] Internal representation of SGFeatures object is current.
[updateObject] Nothing to update.
[updateObject] Internal representation of IRanges object is current.
[updateObject] Nothing to update.
updateObject(object="ANY") default for object of class 'NULL'
[updateObject] Validating the updated object ... OK
[updateObject] Validating the updated object ... OK
[updateObject] DFrame object is current.
[updateObject] Nothing to update.
updateObject(object="ANY") default for object of class 'NULL'
[updateObject] Validating the updated object ... OK
[updateObject] Validating the updated object ... OK
[updateObject] Validating the updated object ... OK
[updateObject] Internal representation of SGFeatures object is current.
[updateObject] Nothing to update.
[updateObject] Internal representation of IRanges object is current.
[updateObject] Nothing to update.
updateObject(object="ANY") default for object of class 'NULL'
[updateObject] Validating the updated object ... OK
[updateObject] Validating the updated object ... OK
[updateObject] DFrame object is current.
[updateObject] Nothing to update.
updateObject(object="ANY") default for object of class 'NULL'
[updateObject] Validating the updated object ... OK
[updateObject] Validating the updated object ... OK
[updateObject] Validating the updated object ... OK
[updateObject] Internal representation of PartitioningByEnd object is current.
[updateObject] Nothing to update.
updateObject(object="ANY") default for object of class 'NULL'
[updateObject] Validating the updated object ... OK
[updateObject] Validating the updated object ... OK
[updateObject] DFrame object is current.
[updateObject] Nothing to update.
updateObject(object="ANY") default for object of class 'NULL'
[updateObject] Validating the updated object ... OK
[updateObject] Validating the updated object ... OK
[updateObject] Validating the updated object ... OK
Predicting effect of 2 variants on 3 coding transcripts...
[updateObject] SGVariants object is current.
[updateObject] Nothing to update.
[updateObject] Internal representation of SGFeatures object is current.
[updateObject] Nothing to update.
[updateObject] Internal representation of IRanges object is current.
[updateObject] Nothing to update.
updateObject(object="ANY") default for object of class 'NULL'
[updateObject] Validating the updated object ... OK
[updateObject] Validating the updated object ... OK
[updateObject] DFrame object is current.
[updateObject] Nothing to update.
updateObject(object="ANY") default for object of class 'NULL'
[updateObject] Validating the updated object ... OK
[updateObject] Validating the updated object ... OK
[updateObject] Validating the updated object ... OK
[updateObject] Internal representation of SGFeatures object is current.
[updateObject] Nothing to update.
[updateObject] Internal representation of IRanges object is current.
[updateObject] Nothing to update.
updateObject(object="ANY") default for object of class 'NULL'
[updateObject] Validating the updated object ... OK
[updateObject] Validating the updated object ... OK
[updateObject] DFrame object is current.
[updateObject] Nothing to update.
updateObject(object="ANY") default for object of class 'NULL'
[updateObject] Validating the updated object ... OK
[updateObject] Validating the updated object ... OK
[updateObject] Validating the updated object ... OK
[updateObject] Internal representation of PartitioningByEnd object is current.
[updateObject] Nothing to update.
updateObject(object="ANY") default for object of class 'NULL'
[updateObject] Validating the updated object ... OK
[updateObject] Validating the updated object ... OK
[updateObject] DFrame object is current.
[updateObject] Nothing to update.
updateObject(object="ANY") default for object of class 'NULL'
[updateObject] Validating the updated object ... OK
[updateObject] Validating the updated object ... OK
[updateObject] Validating the updated object ... OK
[updateObject] SGVariants object is current.
[updateObject] Nothing to update.
[updateObject] Internal representation of SGFeatures object is current.
[updateObject] Nothing to update.
[updateObject] Internal representation of IRanges object is current.
[updateObject] Nothing to update.
updateObject(object="ANY") default for object of class 'NULL'
[updateObject] Validating the updated object ... OK
[updateObject] Validating the updated object ... OK
[updateObject] DFrame object is current.
[updateObject] Nothing to update.
updateObject(object="ANY") default for object of class 'NULL'
[updateObject] Validating the updated object ... OK
[updateObject] Validating the updated object ... OK
[updateObject] Validating the updated object ... OK
[updateObject] Internal representation of SGFeatures object is current.
[updateObject] Nothing to update.
[updateObject] Internal representation of IRanges object is current.
[updateObject] Nothing to update.
updateObject(object="ANY") default for object of class 'NULL'
[updateObject] Validating the updated object ... OK
[updateObject] Validating the updated object ... OK
[updateObject] DFrame object is current.
[updateObject] Nothing to update.
updateObject(object="ANY") default for object of class 'NULL'
[updateObject] Validating the updated object ... OK
[updateObject] Validating the updated object ... OK
[updateObject] Validating the updated object ... OK
[updateObject] Internal representation of PartitioningByEnd object is current.
[updateObject] Nothing to update.
updateObject(object="ANY") default for object of class 'NULL'
[updateObject] Validating the updated object ... OK
[updateObject] Validating the updated object ... OK
[updateObject] DFrame object is current.
[updateObject] Nothing to update.
updateObject(object="ANY") default for object of class 'NULL'
[updateObject] Validating the updated object ... OK
[updateObject] Validating the updated object ... OK
[updateObject] Validating the updated object ... OK
Predicting effect of 3 variants on 3 coding transcripts...


RUNIT TEST PROTOCOL -- Tue Nov 18 15:01:02 2025 
*********************************************** 
Number of test functions: 17 
Number of errors: 0 
Number of failures: 0 

 
1 Test Suite : 
SGSeq RUnit Tests - 17 test functions, 0 errors, 0 failures
Number of test functions: 17 
Number of errors: 0 
Number of failures: 0 
Warning message:
In (function (seqlevels, genome, new_style)  :
  cannot switch some hg19's seqlevels from UCSC to NCBI style
> 
> proc.time()
   user  system elapsed 
433.394   4.098 445.477 

Example timings

SGSeq.Rcheck/SGSeq-Ex.timings

nameusersystemelapsed
SGFeatureCounts1.2010.0061.211
SGFeatures0.0860.0010.087
SGVariantCounts0.5160.0380.561
SGVariants0.3590.0470.412
TxFeatures0.1240.0160.141
analyzeFeatures46.010 0.37947.574
analyzeVariants4.4080.0354.556
annotate4.7060.0134.755
assays0.0910.0010.092
convertToSGFeatures3.3040.0093.439
convertToTxFeatures1.1730.0041.337
exportFeatures0.0000.0010.001
findSGVariants3.4900.0144.010
getBamInfo2.7700.1293.331
getSGFeatureCounts13.855 0.10915.386
getSGVariantCounts16.915 0.11817.534
importTranscripts0.0000.0010.001
makeSGFeatureCounts0.1390.0010.139
makeVariantNames0.0490.0000.050
mergeTxFeatures0.5570.0020.563
plotCoverage000
plotFeatures0.0010.0000.001
plotSpliceGraph0.0000.0000.001
plotVariants0.0000.0010.001
predictTxFeatures27.637 0.13228.212
predictVariantEffects 99.444 0.783101.600
processTerminalExons0.6730.0020.681
slots0.0040.0020.006