| Back to Multiple platform build/check report for BioC 3.22: simplified long |
|
This page was generated on 2025-09-11 12:04 -0400 (Thu, 11 Sep 2025).
| Hostname | OS | Arch (*) | R version | Installed pkgs |
|---|---|---|---|---|
| nebbiolo2 | Linux (Ubuntu 24.04.3 LTS) | x86_64 | 4.5.1 Patched (2025-08-23 r88802) -- "Great Square Root" | 4539 |
| lconway | macOS 12.7.1 Monterey | x86_64 | 4.5.1 Patched (2025-09-10 r88807) -- "Great Square Root" | 4474 |
| kjohnson3 | macOS 13.7.7 Ventura | arm64 | 4.5.1 Patched (2025-09-10 r88807) -- "Great Square Root" | 4519 |
| taishan | Linux (openEuler 24.03 LTS) | aarch64 | 4.5.0 (2025-04-11) -- "How About a Twenty-Six" | 4544 |
| Click on any hostname to see more info about the system (e.g. compilers) (*) as reported by 'uname -p', except on Windows and Mac OS X | ||||
| Package 1787/2322 | Hostname | OS / Arch | INSTALL | BUILD | CHECK | BUILD BIN | ||||||||
| RNAdecay 1.29.0 (landing page) Reed Sorenson
| nebbiolo2 | Linux (Ubuntu 24.04.3 LTS) / x86_64 | OK | OK | OK | |||||||||
| lconway | macOS 12.7.1 Monterey / x86_64 | OK | OK | OK | OK | |||||||||
| kjohnson3 | macOS 13.7.7 Ventura / arm64 | OK | OK | OK | OK | |||||||||
| taishan | Linux (openEuler 24.03 LTS) / aarch64 | OK | OK | WARNINGS | ||||||||||
|
To the developers/maintainers of the RNAdecay package: - Allow up to 24 hours (and sometimes 48 hours) for your latest push to git@git.bioconductor.org:packages/RNAdecay.git to reflect on this report. See Troubleshooting Build Report for more information. - Use the following Renviron settings to reproduce errors and warnings. - If 'R CMD check' started to fail recently on the Linux builder(s) over a missing dependency, add the missing dependency to 'Suggests:' in your DESCRIPTION file. See Renviron.bioc for more information. |
| Package: RNAdecay |
| Version: 1.29.0 |
| Command: /home/biocbuild/bbs-3.22-bioc/R/bin/R CMD check --install=check:RNAdecay.install-out.txt --library=/home/biocbuild/bbs-3.22-bioc/R/site-library --timings RNAdecay_1.29.0.tar.gz |
| StartedAt: 2025-09-11 04:24:54 -0400 (Thu, 11 Sep 2025) |
| EndedAt: 2025-09-11 04:27:43 -0400 (Thu, 11 Sep 2025) |
| EllapsedTime: 169.2 seconds |
| RetCode: 0 |
| Status: OK |
| CheckDir: RNAdecay.Rcheck |
| Warnings: 0 |
##############################################################################
##############################################################################
###
### Running command:
###
### /home/biocbuild/bbs-3.22-bioc/R/bin/R CMD check --install=check:RNAdecay.install-out.txt --library=/home/biocbuild/bbs-3.22-bioc/R/site-library --timings RNAdecay_1.29.0.tar.gz
###
##############################################################################
##############################################################################
* using log directory ‘/home/biocbuild/bbs-3.22-bioc/meat/RNAdecay.Rcheck’
* using R version 4.5.1 Patched (2025-08-23 r88802)
* using platform: x86_64-pc-linux-gnu
* R was compiled by
gcc (Ubuntu 13.3.0-6ubuntu2~24.04) 13.3.0
GNU Fortran (Ubuntu 13.3.0-6ubuntu2~24.04) 13.3.0
* running under: Ubuntu 24.04.3 LTS
* using session charset: UTF-8
* checking for file ‘RNAdecay/DESCRIPTION’ ... OK
* this is package ‘RNAdecay’ version ‘1.29.0’
* package encoding: UTF-8
* checking package namespace information ... OK
* checking package dependencies ... OK
* checking if this is a source package ... OK
* checking if there is a namespace ... OK
* checking for hidden files and directories ... OK
* checking for portable file names ... OK
* checking for sufficient/correct file permissions ... OK
* checking whether package ‘RNAdecay’ can be installed ... OK
* used C++ compiler: ‘g++ (Ubuntu 13.3.0-6ubuntu2~24.04) 13.3.0’
* checking installed package size ... INFO
installed size is 233.9Mb
sub-directories of 1Mb or more:
data 2.7Mb
libs 231.0Mb
* checking package directory ... OK
* checking ‘build’ directory ... OK
* checking DESCRIPTION meta-information ... OK
* checking top-level files ... OK
* checking for left-over files ... OK
* checking index information ... OK
* checking package subdirectories ... OK
* checking code files for non-ASCII characters ... OK
* checking R files for syntax errors ... OK
* checking whether the package can be loaded ... OK
* checking whether the package can be loaded with stated dependencies ... OK
* checking whether the package can be unloaded cleanly ... OK
* checking whether the namespace can be loaded with stated dependencies ... OK
* checking whether the namespace can be unloaded cleanly ... OK
* checking loading without being on the library search path ... OK
* checking dependencies in R code ... OK
* checking S3 generic/method consistency ... OK
* checking replacement functions ... OK
* checking foreign function calls ... OK
* checking R code for possible problems ... NOTE
decay_plot: no visible binding for global variable ‘text’
decay_plot: no visible binding for global variable ‘x’
decay_plot: no visible binding for global variable ‘y’
decay_plot: no visible binding for global variable ‘treatment’
decay_plot: no visible binding for global variable ‘t.decay’
decay_plot: no visible binding for global variable ‘value’
hl_plot: no visible binding for global variable ‘x’
hl_plot: no visible binding for global variable ‘y’
Undefined global functions or variables:
t.decay text treatment value x y
Consider adding
importFrom("graphics", "text")
to your NAMESPACE file.
* checking Rd files ... OK
* checking Rd metadata ... OK
* checking Rd cross-references ... OK
* checking for missing documentation entries ... OK
* checking for code/documentation mismatches ... OK
* checking Rd \usage sections ... OK
* checking Rd contents ... OK
* checking for unstated dependencies in examples ... OK
* checking contents of ‘data’ directory ... OK
* checking data for non-ASCII characters ... OK
* checking LazyData ... OK
* checking data for ASCII and uncompressed saves ... OK
* checking line endings in C/C++/Fortran sources/headers ... OK
* checking line endings in Makefiles ... OK
* checking for GNU extensions in Makefiles ... OK
* checking for portable use of $(BLAS_LIBS) and $(LAPACK_LIBS) ... OK
* checking use of PKG_*FLAGS in Makefiles ... OK
* checking include directives in Makefiles ... OK
* checking compiled code ... NOTE
Note: information on .o files is not available
* checking files in ‘vignettes’ ... OK
* checking examples ... OK
* checking for unstated dependencies in vignettes ... OK
* checking package vignettes ... OK
* checking re-building of vignette outputs ... OK
* checking PDF version of manual ... OK
* DONE
Status: 2 NOTEs
See
‘/home/biocbuild/bbs-3.22-bioc/meat/RNAdecay.Rcheck/00check.log’
for details.
RNAdecay.Rcheck/00install.out
##############################################################################
##############################################################################
###
### Running command:
###
### /home/biocbuild/bbs-3.22-bioc/R/bin/R CMD INSTALL RNAdecay
###
##############################################################################
##############################################################################
* installing to library ‘/home/biocbuild/bbs-3.22-bioc/R/site-library’
* installing *source* package ‘RNAdecay’ ...
** this is package ‘RNAdecay’ version ‘1.29.0’
** using staged installation
** libs
/home/biocbuild/bbs-3.22-bioc/R/bin/Rscript --vanilla -e "TMB::compile('general_dExp_1sse.cpp',safebounds=FALSE,safeunload=FALSE)"
using C++ compiler: ‘g++ (Ubuntu 13.3.0-6ubuntu2~24.04) 13.3.0’
make[1]: Entering directory '/home/biocbuild/bbs-3.22-bioc/meat/RNAdecay/src'
g++ -std=gnu++17 -I"/home/biocbuild/bbs-3.22-bioc/R/include" -DNDEBUG -I"/home/biocbuild/bbs-3.22-bioc/R/site-library/TMB/include" -I"/home/biocbuild/bbs-3.22-bioc/R/site-library/RcppEigen/include" -DTMB_EIGEN_DISABLE_WARNINGS -DTMB_LIB_INIT=R_init_general_dExp_1sse -DCPPAD_FRAMEWORK -I/usr/local/include -fpic -g -O2 -Wall -Werror=format-security -c general_dExp_1sse.cpp -o general_dExp_1sse.o
g++ -std=gnu++17 -shared -L/home/biocbuild/bbs-3.22-bioc/R/lib -L/usr/local/lib -o general_dExp_1sse.so general_dExp_1sse.o -L/home/biocbuild/bbs-3.22-bioc/R/lib -lR
make[1]: Leaving directory '/home/biocbuild/bbs-3.22-bioc/meat/RNAdecay/src'
[1] 0
/home/biocbuild/bbs-3.22-bioc/R/bin/Rscript --vanilla -e "TMB::compile('general_Exp_1sse.cpp',safebounds=FALSE,safeunload=FALSE)"
using C++ compiler: ‘g++ (Ubuntu 13.3.0-6ubuntu2~24.04) 13.3.0’
make[1]: Entering directory '/home/biocbuild/bbs-3.22-bioc/meat/RNAdecay/src'
g++ -std=gnu++17 -I"/home/biocbuild/bbs-3.22-bioc/R/include" -DNDEBUG -I"/home/biocbuild/bbs-3.22-bioc/R/site-library/TMB/include" -I"/home/biocbuild/bbs-3.22-bioc/R/site-library/RcppEigen/include" -DTMB_EIGEN_DISABLE_WARNINGS -DTMB_LIB_INIT=R_init_general_Exp_1sse -DCPPAD_FRAMEWORK -I/usr/local/include -fpic -g -O2 -Wall -Werror=format-security -c general_Exp_1sse.cpp -o general_Exp_1sse.o
g++ -std=gnu++17 -shared -L/home/biocbuild/bbs-3.22-bioc/R/lib -L/usr/local/lib -o general_Exp_1sse.so general_Exp_1sse.o -L/home/biocbuild/bbs-3.22-bioc/R/lib -lR
make[1]: Leaving directory '/home/biocbuild/bbs-3.22-bioc/meat/RNAdecay/src'
[1] 0
/home/biocbuild/bbs-3.22-bioc/R/bin/Rscript --vanilla -e "TMB::compile('general_dExp_2sse.cpp',safebounds=FALSE,safeunload=FALSE)"
using C++ compiler: ‘g++ (Ubuntu 13.3.0-6ubuntu2~24.04) 13.3.0’
make[1]: Entering directory '/home/biocbuild/bbs-3.22-bioc/meat/RNAdecay/src'
g++ -std=gnu++17 -I"/home/biocbuild/bbs-3.22-bioc/R/include" -DNDEBUG -I"/home/biocbuild/bbs-3.22-bioc/R/site-library/TMB/include" -I"/home/biocbuild/bbs-3.22-bioc/R/site-library/RcppEigen/include" -DTMB_EIGEN_DISABLE_WARNINGS -DTMB_LIB_INIT=R_init_general_dExp_2sse -DCPPAD_FRAMEWORK -I/usr/local/include -fpic -g -O2 -Wall -Werror=format-security -c general_dExp_2sse.cpp -o general_dExp_2sse.o
g++ -std=gnu++17 -shared -L/home/biocbuild/bbs-3.22-bioc/R/lib -L/usr/local/lib -o general_dExp_2sse.so general_dExp_2sse.o -L/home/biocbuild/bbs-3.22-bioc/R/lib -lR
make[1]: Leaving directory '/home/biocbuild/bbs-3.22-bioc/meat/RNAdecay/src'
[1] 0
/home/biocbuild/bbs-3.22-bioc/R/bin/Rscript --vanilla -e "TMB::compile('general_Exp_2sse.cpp',safebounds=FALSE,safeunload=FALSE)"
using C++ compiler: ‘g++ (Ubuntu 13.3.0-6ubuntu2~24.04) 13.3.0’
make[1]: Entering directory '/home/biocbuild/bbs-3.22-bioc/meat/RNAdecay/src'
g++ -std=gnu++17 -I"/home/biocbuild/bbs-3.22-bioc/R/include" -DNDEBUG -I"/home/biocbuild/bbs-3.22-bioc/R/site-library/TMB/include" -I"/home/biocbuild/bbs-3.22-bioc/R/site-library/RcppEigen/include" -DTMB_EIGEN_DISABLE_WARNINGS -DTMB_LIB_INIT=R_init_general_Exp_2sse -DCPPAD_FRAMEWORK -I/usr/local/include -fpic -g -O2 -Wall -Werror=format-security -c general_Exp_2sse.cpp -o general_Exp_2sse.o
g++ -std=gnu++17 -shared -L/home/biocbuild/bbs-3.22-bioc/R/lib -L/usr/local/lib -o general_Exp_2sse.so general_Exp_2sse.o -L/home/biocbuild/bbs-3.22-bioc/R/lib -lR
make[1]: Leaving directory '/home/biocbuild/bbs-3.22-bioc/meat/RNAdecay/src'
[1] 0
/home/biocbuild/bbs-3.22-bioc/R/bin/Rscript --vanilla -e "TMB::compile('general_dExp_3sse.cpp',safebounds=FALSE,safeunload=FALSE)"
using C++ compiler: ‘g++ (Ubuntu 13.3.0-6ubuntu2~24.04) 13.3.0’
make[1]: Entering directory '/home/biocbuild/bbs-3.22-bioc/meat/RNAdecay/src'
g++ -std=gnu++17 -I"/home/biocbuild/bbs-3.22-bioc/R/include" -DNDEBUG -I"/home/biocbuild/bbs-3.22-bioc/R/site-library/TMB/include" -I"/home/biocbuild/bbs-3.22-bioc/R/site-library/RcppEigen/include" -DTMB_EIGEN_DISABLE_WARNINGS -DTMB_LIB_INIT=R_init_general_dExp_3sse -DCPPAD_FRAMEWORK -I/usr/local/include -fpic -g -O2 -Wall -Werror=format-security -c general_dExp_3sse.cpp -o general_dExp_3sse.o
g++ -std=gnu++17 -shared -L/home/biocbuild/bbs-3.22-bioc/R/lib -L/usr/local/lib -o general_dExp_3sse.so general_dExp_3sse.o -L/home/biocbuild/bbs-3.22-bioc/R/lib -lR
make[1]: Leaving directory '/home/biocbuild/bbs-3.22-bioc/meat/RNAdecay/src'
[1] 0
/home/biocbuild/bbs-3.22-bioc/R/bin/Rscript --vanilla -e "TMB::compile('general_Exp_3sse.cpp',safebounds=FALSE,safeunload=FALSE)"
using C++ compiler: ‘g++ (Ubuntu 13.3.0-6ubuntu2~24.04) 13.3.0’
make[1]: Entering directory '/home/biocbuild/bbs-3.22-bioc/meat/RNAdecay/src'
g++ -std=gnu++17 -I"/home/biocbuild/bbs-3.22-bioc/R/include" -DNDEBUG -I"/home/biocbuild/bbs-3.22-bioc/R/site-library/TMB/include" -I"/home/biocbuild/bbs-3.22-bioc/R/site-library/RcppEigen/include" -DTMB_EIGEN_DISABLE_WARNINGS -DTMB_LIB_INIT=R_init_general_Exp_3sse -DCPPAD_FRAMEWORK -I/usr/local/include -fpic -g -O2 -Wall -Werror=format-security -c general_Exp_3sse.cpp -o general_Exp_3sse.o
g++ -std=gnu++17 -shared -L/home/biocbuild/bbs-3.22-bioc/R/lib -L/usr/local/lib -o general_Exp_3sse.so general_Exp_3sse.o -L/home/biocbuild/bbs-3.22-bioc/R/lib -lR
make[1]: Leaving directory '/home/biocbuild/bbs-3.22-bioc/meat/RNAdecay/src'
[1] 0
/home/biocbuild/bbs-3.22-bioc/R/bin/Rscript --vanilla -e "TMB::compile('general_dExp_4sse.cpp',safebounds=FALSE,safeunload=FALSE)"
using C++ compiler: ‘g++ (Ubuntu 13.3.0-6ubuntu2~24.04) 13.3.0’
make[1]: Entering directory '/home/biocbuild/bbs-3.22-bioc/meat/RNAdecay/src'
g++ -std=gnu++17 -I"/home/biocbuild/bbs-3.22-bioc/R/include" -DNDEBUG -I"/home/biocbuild/bbs-3.22-bioc/R/site-library/TMB/include" -I"/home/biocbuild/bbs-3.22-bioc/R/site-library/RcppEigen/include" -DTMB_EIGEN_DISABLE_WARNINGS -DTMB_LIB_INIT=R_init_general_dExp_4sse -DCPPAD_FRAMEWORK -I/usr/local/include -fpic -g -O2 -Wall -Werror=format-security -c general_dExp_4sse.cpp -o general_dExp_4sse.o
g++ -std=gnu++17 -shared -L/home/biocbuild/bbs-3.22-bioc/R/lib -L/usr/local/lib -o general_dExp_4sse.so general_dExp_4sse.o -L/home/biocbuild/bbs-3.22-bioc/R/lib -lR
make[1]: Leaving directory '/home/biocbuild/bbs-3.22-bioc/meat/RNAdecay/src'
[1] 0
/home/biocbuild/bbs-3.22-bioc/R/bin/Rscript --vanilla -e "TMB::compile('general_Exp_4sse.cpp',safebounds=FALSE,safeunload=FALSE)"
using C++ compiler: ‘g++ (Ubuntu 13.3.0-6ubuntu2~24.04) 13.3.0’
make[1]: Entering directory '/home/biocbuild/bbs-3.22-bioc/meat/RNAdecay/src'
g++ -std=gnu++17 -I"/home/biocbuild/bbs-3.22-bioc/R/include" -DNDEBUG -I"/home/biocbuild/bbs-3.22-bioc/R/site-library/TMB/include" -I"/home/biocbuild/bbs-3.22-bioc/R/site-library/RcppEigen/include" -DTMB_EIGEN_DISABLE_WARNINGS -DTMB_LIB_INIT=R_init_general_Exp_4sse -DCPPAD_FRAMEWORK -I/usr/local/include -fpic -g -O2 -Wall -Werror=format-security -c general_Exp_4sse.cpp -o general_Exp_4sse.o
g++ -std=gnu++17 -shared -L/home/biocbuild/bbs-3.22-bioc/R/lib -L/usr/local/lib -o general_Exp_4sse.so general_Exp_4sse.o -L/home/biocbuild/bbs-3.22-bioc/R/lib -lR
make[1]: Leaving directory '/home/biocbuild/bbs-3.22-bioc/meat/RNAdecay/src'
[1] 0
installing to /home/biocbuild/bbs-3.22-bioc/R/site-library/00LOCK-RNAdecay/00new/RNAdecay/libs
** R
** data
*** moving datasets to lazyload DB
** inst
** byte-compile and prepare package for lazy loading
** help
*** installing help indices
** building package indices
** installing vignettes
** testing if installed package can be loaded from temporary location
** checking absolute paths in shared objects and dynamic libraries
** testing if installed package can be loaded from final location
** testing if installed package keeps a record of temporary installation path
* DONE (RNAdecay)
RNAdecay.Rcheck/RNAdecay-Ex.timings
| name | user | system | elapsed | |
| a_high | 0 | 0 | 0 | |
| aic | 0 | 0 | 0 | |
| cols | 0.002 | 0.000 | 0.002 | |
| comb_cv | 0.001 | 0.000 | 0.001 | |
| const_decay | 0 | 0 | 0 | |
| constraint_fun_list_maker | 0.002 | 0.000 | 0.001 | |
| decay_plot | 0.988 | 0.025 | 1.013 | |
| fit_var | 0 | 0 | 0 | |
| group_map | 0.038 | 0.001 | 0.038 | |
| groupings | 0.001 | 0.000 | 0.001 | |
| hl_plot | 1.150 | 0.021 | 1.172 | |
| log_lik | 0.001 | 0.000 | 0.001 | |
| mod_optimization | 1.301 | 0.043 | 1.346 | |
| n_par | 0 | 0 | 0 | |
| plain_theme | 0.238 | 0.002 | 0.240 | |
| sse_null_decaying_decay | 0.001 | 0.000 | 0.000 | |