Back to Multiple platform build/check report for BioC 3.22:   simplified   long
ABCDEFGHIJKLMNOPQ[R]STUVWXYZ

This page was generated on 2025-11-20 12:05 -0500 (Thu, 20 Nov 2025).

HostnameOSArch (*)R versionInstalled pkgs
nebbiolo2Linux (Ubuntu 24.04.3 LTS)x86_644.5.2 (2025-10-31) -- "[Not] Part in a Rumble" 4615
merida1macOS 12.7.6 Montereyx86_644.5.2 Patched (2025-11-05 r88990) -- "[Not] Part in a Rumble" 4610
kjohnson1macOS 13.7.5 Venturaarm644.5.2 Patched (2025-11-04 r88984) -- "[Not] Part in a Rumble" 4598
taishanLinux (openEuler 24.03 LTS)aarch644.5.0 (2025-04-11) -- "How About a Twenty-Six" 4668
Click on any hostname to see more info about the system (e.g. compilers)      (*) as reported by 'uname -p', except on Windows and Mac OS X

Package 1738/2361HostnameOS / ArchINSTALLBUILDCHECKBUILD BIN
RCy3 2.30.0  (landing page)
Alex Pico
Snapshot Date: 2025-11-17 13:45 -0500 (Mon, 17 Nov 2025)
git_url: https://git.bioconductor.org/packages/RCy3
git_branch: RELEASE_3_22
git_last_commit: 0677632
git_last_commit_date: 2025-10-29 10:28:27 -0500 (Wed, 29 Oct 2025)
nebbiolo2Linux (Ubuntu 24.04.3 LTS) / x86_64  OK    OK    OK  UNNEEDED, same version is already published
merida1macOS 12.7.6 Monterey / x86_64  OK    OK    OK    OK  UNNEEDED, same version is already published
kjohnson1macOS 13.7.5 Ventura / arm64  OK    OK    OK    OK  UNNEEDED, same version is already published
taishanLinux (openEuler 24.03 LTS) / aarch64  OK    OK    OK  


CHECK results for RCy3 on merida1

To the developers/maintainers of the RCy3 package:
- Allow up to 24 hours (and sometimes 48 hours) for your latest push to git@git.bioconductor.org:packages/RCy3.git to reflect on this report. See Troubleshooting Build Report for more information.
- Use the following Renviron settings to reproduce errors and warnings.
- If 'R CMD check' started to fail recently on the Linux builder(s) over a missing dependency, add the missing dependency to 'Suggests:' in your DESCRIPTION file. See Renviron.bioc for more information.

raw results


Summary

Package: RCy3
Version: 2.30.0
Command: /Library/Frameworks/R.framework/Resources/bin/R CMD check --install=check:RCy3.install-out.txt --library=/Library/Frameworks/R.framework/Resources/library --no-vignettes --timings RCy3_2.30.0.tar.gz
StartedAt: 2025-11-18 12:42:29 -0500 (Tue, 18 Nov 2025)
EndedAt: 2025-11-18 12:45:29 -0500 (Tue, 18 Nov 2025)
EllapsedTime: 179.4 seconds
RetCode: 0
Status:   OK  
CheckDir: RCy3.Rcheck
Warnings: 0

Command output

##############################################################################
##############################################################################
###
### Running command:
###
###   /Library/Frameworks/R.framework/Resources/bin/R CMD check --install=check:RCy3.install-out.txt --library=/Library/Frameworks/R.framework/Resources/library --no-vignettes --timings RCy3_2.30.0.tar.gz
###
##############################################################################
##############################################################################


* using log directory ‘/Users/biocbuild/bbs-3.22-bioc/meat/RCy3.Rcheck’
* using R version 4.5.2 Patched (2025-11-05 r88990)
* using platform: x86_64-apple-darwin20
* R was compiled by
    Apple clang version 14.0.0 (clang-1400.0.29.202)
    GNU Fortran (GCC) 14.2.0
* running under: macOS Monterey 12.7.6
* using session charset: UTF-8
* using option ‘--no-vignettes’
* checking for file ‘RCy3/DESCRIPTION’ ... OK
* checking extension type ... Package
* this is package ‘RCy3’ version ‘2.30.0’
* package encoding: UTF-8
* checking package namespace information ... OK
* checking package dependencies ... OK
* checking if this is a source package ... OK
* checking if there is a namespace ... OK
* checking for hidden files and directories ... NOTE
Found the following hidden files and directories:
  .travis.yml
These were most likely included in error. See section ‘Package
structure’ in the ‘Writing R Extensions’ manual.
* checking for portable file names ... OK
* checking for sufficient/correct file permissions ... OK
* checking whether package ‘RCy3’ can be installed ... OK
* checking installed package size ... OK
* checking package directory ... OK
* checking ‘build’ directory ... OK
* checking DESCRIPTION meta-information ... NOTE
License stub is invalid DCF.
* checking top-level files ... OK
* checking for left-over files ... OK
* checking index information ... OK
* checking package subdirectories ... OK
* checking code files for non-ASCII characters ... OK
* checking R files for syntax errors ... OK
* checking whether the package can be loaded ... OK
* checking whether the package can be loaded with stated dependencies ... OK
* checking whether the package can be unloaded cleanly ... OK
* checking whether the namespace can be loaded with stated dependencies ... OK
* checking whether the namespace can be unloaded cleanly ... OK
* checking dependencies in R code ... OK
* checking S3 generic/method consistency ... OK
* checking replacement functions ... OK
* checking foreign function calls ... OK
* checking R code for possible problems ... NOTE
.checkHexColor: no visible global function definition for ‘colors’
.edgeNameToEdgeSUID: no visible binding for global variable ‘SUID’
.nodeNameToNodeSUID: no visible binding for global variable ‘SUID’
createNetworkFromDataFrames: no visible binding for global variable
  ‘SUID’
Undefined global functions or variables:
  SUID colors
Consider adding
  importFrom("grDevices", "colors")
to your NAMESPACE file.
* checking Rd files ... NOTE
checkRd: (-1) importFileFromUrl.Rd:24: Lost braces; missing escapes or markup?
    24 | dict: {'filePath': <new file's absolute path in Cytoscape workstation>, 'fileByteCount': number of bytes read}
       |       ^
checkRd: (-1) sandboxGetFileInfo.Rd:17: Lost braces; missing escapes or markup?
    17 | dict: {'filePath': <full path on Cytoscape workstation>, 'modifiedTime': <last changed time, '' if file doesn't exist>, 'isFile': <True if file, False if directory>}
       |       ^
checkRd: (-1) sandboxRemove.Rd:15: Lost braces; missing escapes or markup?
    15 | dict: {'sandboxPath': <directory on Cytoscape workstation>, 'existed': <True if sandbox existed>}
       |       ^
checkRd: (-1) sandboxRemoveFile.Rd:17: Lost braces; missing escapes or markup?
    17 | dict: {'filePath': <file's absolute path in Cytoscape workstation>, 'existed': True if file existed before being deleted}
       |       ^
checkRd: (-1) sandboxUrlTo.Rd:27: Lost braces; missing escapes or markup?
    27 | dict: {'filePath': <new file's absolute path in Cytoscape workstation>, 'fileByteCount': number of bytes read}
       |       ^
* checking Rd metadata ... OK
* checking Rd cross-references ... OK
* checking for missing documentation entries ... OK
* checking for code/documentation mismatches ... OK
* checking Rd \usage sections ... OK
* checking Rd contents ... OK
* checking for unstated dependencies in examples ... OK
* checking files in ‘vignettes’ ... OK
* checking examples ... OK
* checking for unstated dependencies in ‘tests’ ... OK
* checking tests ...
  Running ‘runTests.R’
 OK
* checking for unstated dependencies in vignettes ... OK
* checking package vignettes ... OK
* checking running R code from vignettes ... SKIPPED
* checking re-building of vignette outputs ... SKIPPED
* checking PDF version of manual ... OK
* DONE

Status: 4 NOTEs
See
  ‘/Users/biocbuild/bbs-3.22-bioc/meat/RCy3.Rcheck/00check.log’
for details.


Installation output

RCy3.Rcheck/00install.out

##############################################################################
##############################################################################
###
### Running command:
###
###   /Library/Frameworks/R.framework/Resources/bin/R CMD INSTALL RCy3
###
##############################################################################
##############################################################################


* installing to library ‘/Library/Frameworks/R.framework/Versions/4.5-x86_64/Resources/library’
* installing *source* package ‘RCy3’ ...
** this is package ‘RCy3’ version ‘2.30.0’
** using staged installation
** R
** inst
** byte-compile and prepare package for lazy loading
** help
*** installing help indices
** building package indices
** installing vignettes
** testing if installed package can be loaded from temporary location
** testing if installed package can be loaded from final location
** testing if installed package keeps a record of temporary installation path
* DONE (RCy3)

Tests output

RCy3.Rcheck/tests/runTests.Rout


R version 4.5.2 Patched (2025-11-05 r88990) -- "[Not] Part in a Rumble"
Copyright (C) 2025 The R Foundation for Statistical Computing
Platform: x86_64-apple-darwin20

R is free software and comes with ABSOLUTELY NO WARRANTY.
You are welcome to redistribute it under certain conditions.
Type 'license()' or 'licence()' for distribution details.

R is a collaborative project with many contributors.
Type 'contributors()' for more information and
'citation()' on how to cite R or R packages in publications.

Type 'demo()' for some demos, 'help()' for on-line help, or
'help.start()' for an HTML browser interface to help.
Type 'q()' to quit R.

> # tests disabled as the Bioconductor build system no longer supports interactive sessions
> #require(RCy3) || stop("unable to load RCy3")
> #BiocGenerics:::testPackage('RCy3')
> 
> proc.time()
   user  system elapsed 
  0.345   0.117   0.427 

Example timings

RCy3.Rcheck/RCy3-Ex.timings

nameusersystemelapsed
AddToGroup0.0000.0000.001
RemoveFromGroup000
UpdateAnnotationBoundedText000
addAnnotationBoundedText000
addAnnotationImage000
addAnnotationShape000
addAnnotationText0.0000.0000.001
addCyEdges0.0000.0000.001
addCyNodes0.0000.0010.000
analyzeNetwork0.0010.0000.000
applyFilter0.0000.0000.001
bundleEdges000
checkNotebookIsRunning0.0000.0000.001
checkRunningRemote0.0000.0010.000
clearEdgeBends000
clearEdgePropertyBypass0.0000.0000.001
clearNetworkCenterBypass0.0000.0000.001
clearNetworkPropertyBypass0.0000.0000.001
clearNetworkZoomBypass0.0000.0000.001
clearNodeOpacityBypass0.0000.0000.001
clearNodePropertyBypass0.0000.0000.001
clearSelection000
cloneNetwork000
closeSession000
collapseGroup000
commandEcho000
commandOpenDialog000
commandPause0.0000.0000.001
commandQuit000
commandRunFile000
commandSleep0.0000.0000.001
commandsAPI0.0000.0000.001
commandsGET0.0000.0000.001
commandsHelp0.0010.0000.001
commandsPOST0.0010.0000.000
commandsRun0.0010.0000.000
copyVisualStyle0.0010.0000.000
createColumnFilter000
createCompositeFilter000
createCytoscapejsFromNetwork0.0000.0010.000
createDegreeFilter000
createGraphFromNetwork0.0010.0010.000
createGroup0.0010.0010.000
createGroupByColumn0.0010.0010.000
createIgraphFromNetwork0.0010.0010.000
createNetworkFromCytoscapejs0.0010.0010.000
createNetworkFromDataFrames0.0010.0010.000
createNetworkFromGraph0.0010.0010.000
createNetworkFromIgraph0.0010.0010.000
createSubnetwork0.0010.0010.000
createView0.0010.0010.000
createVisualStyle0.0010.0000.000
cybrowserClose000
cybrowserDialog000
cybrowserHide000
cybrowserList0.0000.0000.001
cybrowserSend000
cybrowserShow000
cybrowserVersion0.0000.0010.000
cyrestAPI0.0000.0010.001
cyrestDELETE0.0000.0010.001
cyrestGET0.0000.0000.001
cyrestPOST000
cyrestPUT000
cytoscapeApiVersions000
cytoscapeFreeMemory000
cytoscapeMemoryStatus000
cytoscapeNumberOfCores0.0000.0000.001
cytoscapePing0.0000.0000.001
cytoscapeVersionInfo0.0000.0010.000
deleteAllNetworks0.0010.0010.000
deleteAllVisualStyle0.0010.0000.000
deleteAnnotation000
deleteDuplicateEdges000
deleteGroup000
deleteNetwork000
deleteSelectedEdges0.0000.0000.001
deleteSelectedNodes0.0000.0000.001
deleteSelfLoops0.0000.0000.001
deleteStyleMapping0.0000.0000.001
deleteTableColumn0.0000.0000.001
deleteVisualStyle000
diffusionAdvanced0.0000.0010.000
diffusionBasic000
disableApp0.0000.0000.001
doInitializeSandbox000
doRequestRemote000
doSetSandbox000
dockPanel000
dot-exportShowImage000
dot-getDefaultSandbox0.0000.0010.000
dot-getRequester0.0000.0010.001
enableApp0.0000.0010.001
expandGroup0.0000.0010.001
exportFilters0.0000.0000.001
exportImage0.0000.0000.001
exportJPG0.0000.0010.001
exportNetwork0.0000.0010.001
exportNetworkToNDEx0.0000.0010.001
exportPDF0.0000.0010.001
exportPNG0.0000.0000.001
exportPS0.0000.0000.001
exportSVG0.0010.0000.000
exportVisualStyles0.0010.0000.000
findRemoteCytoscape0.0010.0000.000
fitContent0.0010.0000.000
floatPanel0.0010.0000.000
getAbsSandboxPath0.0010.0000.000
getAllEdges0.0010.0000.000
getAllNodes0.0000.0000.001
getAllStyleMappings0.0000.0010.000
getAnnotationList000
getAppInformation0.0000.0000.001
getAppStatus000
getAppUpdates000
getArrowShapes0.0010.0010.001
getAvailableApps000
getBackgroundColorDefault000
getBrowserClientChannel000
getBrowserClientJs000
getCollectionList0.0000.0010.000
getCollectionName0.0000.0010.000
getCollectionNetworks000
getCollectionSuid000
getCurrentSandbox000
getCurrentSandboxName000
getCurrentSandboxPath000
getCurrentStyle000
getDefaultSandbox000
getDefaultSandboxPath000
getDisabledApps000
getEdgeColor000
getEdgeCount000
getEdgeInfo0.0000.0000.001
getEdgeLineStyle0.0000.0000.001
getEdgeLineWidth0.0000.0000.001
getEdgeProperty000
getEdgeSelectionColorDefault000
getEdgeTargetArrowShape000
getFilterList000
getFirstNeighbors000
getGroupInfo000
getInstalledApps000
getJupyterBridgeURL0.0010.0000.001
getLayoutNameMapping0.0010.0010.001
getLayoutNames0.0010.0010.001
getLayoutPropertyNames0.0010.0010.001
getLayoutPropertyType0.0010.0010.001
getLayoutPropertyValue0.0000.0010.001
getLineStyles0.0000.0010.000
getNetworkCenter0.0000.0010.000
getNetworkCount0.0000.0010.000
getNetworkList000
getNetworkNDExId000
getNetworkName000
getNetworkProperty000
getNetworkSuid000
getNetworkViewSuid000
getNetworkViews0.0000.0000.001
getNetworkZoom0.0000.0000.001
getNodeColor0.0000.0000.001
getNodeCount0.0000.0000.001
getNodeHeight0.0000.0000.001
getNodeLabelPosition0.0000.0000.001
getNodeLabelPositionDefault0.0000.0000.001
getNodePosition000
getNodeProperty000
getNodeSelectionColorDefault000
getNodeShapes0.0000.0010.000
getNodeSize0.0000.0010.000
getNodeWidth0.0000.0010.000
getNotebookIsRunning0.0000.0000.001
getSandboxReinitialize000
getSelectedEdgeCount0.0010.0000.000
getSelectedEdges0.0010.0000.000
getSelectedNodeCount0.0010.0000.000
getSelectedNodes0.0010.0000.000
getStyleDependencies0.0010.0000.000
getStyleMapping0.0010.0000.000
getTableColumnNames000
getTableColumnTypes000
getTableColumns000
getTableValue0.0000.0000.001
getUninstalledApps000
getVisualPropertyDefault000
getVisualPropertyNames000
getVisualStyleJSON000
getVisualStyleNames000
groupAnnotation000
hideAllPanels000
hideEdges000
hideNodes000
hidePanel000
hideSelectedEdges000
hideSelectedNodes000
importFileFromUrl000
importFilters0.0000.0000.001
importNetworkFromFile000
importNetworkFromNDEx000
importVisualStyles000
installApp000
invertEdgeSelection000
invertNodeSelection000
layoutCopycat0.0000.0010.000
layoutNetwork0.0000.0010.000
listGroups000
lockNodeDimensions000
makeSimpleGraph0.1390.0010.140
makeSimpleIgraph0.1380.0100.149
mapTableColumn0.0000.0010.001
mapVisualProperty0.0000.0010.001
matchArrowColorToEdge0.0000.0010.001
mergeNetworks0.0000.0010.001
notebookExportShowImage0.0000.0010.001
notebookShowImage0.0000.0010.001
openAppStore0.0000.0010.001
openSession0.0000.0010.001
paletteColorBrewerAccent0.0070.0020.009
paletteColorBrewerBlues0.0010.0010.001
paletteColorBrewerBrBG0.0000.0000.001
paletteColorBrewerBuGn000
paletteColorBrewerBuPu0.0000.0000.001
paletteColorBrewerDark20.0010.0010.000
paletteColorBrewerGnBu0.0000.0010.001
paletteColorBrewerGreens0.0000.0010.001
paletteColorBrewerGreys000
paletteColorBrewerOrRd0.0000.0000.001
paletteColorBrewerOranges0.0010.0000.001
paletteColorBrewerPRGn0.0000.0000.001
paletteColorBrewerPaired000
paletteColorBrewerPastel1000
paletteColorBrewerPastel20.0000.0000.001
paletteColorBrewerPiYG0.0010.0000.001
paletteColorBrewerPuBu0.0010.0000.001
paletteColorBrewerPuBuGn0.0000.0000.001
paletteColorBrewerPuOr0.0000.0000.001
paletteColorBrewerPuRd0.0010.0000.001
paletteColorBrewerPurples0.0000.0010.001
paletteColorBrewerRdBu0.0000.0010.001
paletteColorBrewerRdPu0.0000.0010.000
paletteColorBrewerRdYlBu0.0010.0010.001
paletteColorBrewerReds000
paletteColorBrewerSet10.0000.0000.001
paletteColorBrewerSet20.0000.0000.001
paletteColorBrewerSet30.0010.0000.000
paletteColorBrewerYlGn0.0010.0000.001
paletteColorBrewerYlGnBu0.0000.0010.001
paletteColorBrewerYlOrBr0.0000.0010.000
paletteColorBrewerYlOrRd0.0000.0010.000
paletteColorRandom0.0010.0000.001
paletteColorVirdis0.0000.0000.001
removeNodeCustomGraphics0.0000.0000.001
renameNetwork0.0000.0000.001
renameTableColumn000
resetDefaultSandbox000
rotateLayout000
runningRemoteCheck0.0000.0000.001
sandboxGetFileInfo0.0000.0010.001
sandboxGetFrom0.0000.0010.001
sandboxInitializer0.0000.0000.001
sandboxRemove0.0000.0010.001
sandboxRemoveFile0.0010.0010.000
sandboxSendTo0.0000.0010.000
sandboxSet0.0000.0010.000
sandboxUrlTo0.0000.0010.000
saveSession0.0000.0010.000
scaleLayout0.0000.0010.000
selectAll0.0000.0010.000
selectAllEdges0.0000.0010.000
selectAllNodes000
selectEdges0.0000.0000.001
selectEdgesAdjacentToNodes000
selectEdgesAdjacentToSelectedNodes0.0000.0000.001
selectEdgesConnectingSelectedNodes0.0000.0010.001
selectFirstNeighbors0.0000.0010.001
selectNodes0.0000.0000.001
selectNodesConnectedBySelectedEdges0.0000.0000.001
setBackgroundColorDefault0.0000.0000.001
setCatchupFilterSecs0.0010.0000.001
setCatchupNetworkSecs0.0000.0010.001
setCollectionName0.0000.0000.001
setCurrentNetwork0.0000.0000.001
setCurrentSandbox000
setCurrentView0.0000.0000.001
setDefaultSandbox0.0000.0000.001
setDefaultSandboxPath0.0000.0000.001
setEdgeColorBypass000
setEdgeColorDefault000
setEdgeColorMapping000
setEdgeFontFaceBypass000
setEdgeFontFaceDefault0.0000.0010.001
setEdgeFontFaceMapping0.0000.0010.001
setEdgeFontSizeBypass0.0010.0000.001
setEdgeFontSizeDefault0.0010.0000.001
setEdgeFontSizeMapping000
setEdgeLabelBypass000
setEdgeLabelColorBypass000
setEdgeLabelColorDefault000
setEdgeLabelColorMapping0.0000.0000.001
setEdgeLabelDefault0.0000.0000.001
setEdgeLabelMapping0.0000.0000.001
setEdgeLabelOpacityBypass0.0000.0000.001
setEdgeLabelOpacityDefault0.0000.0000.001
setEdgeLabelOpacityMapping000
setEdgeLineStyleBypass000
setEdgeLineStyleDefault0.0000.0000.001
setEdgeLineStyleMapping0.0000.0000.001
setEdgeLineWidthBypass0.0000.0000.001
setEdgeLineWidthDefault000
setEdgeLineWidthMapping000
setEdgeOpacityBypass000
setEdgeOpacityDefault000
setEdgeOpacityMapping000
setEdgePropertyBypass000
setEdgeSelectionColorDefault000
setEdgeSourceArrowColorBypass000
setEdgeSourceArrowColorDefault0.0000.0000.001
setEdgeSourceArrowColorMapping0.0000.0000.001
setEdgeSourceArrowMapping0.0000.0000.001
setEdgeSourceArrowShapeBypass0.0000.0000.001
setEdgeSourceArrowShapeDefault0.0000.0000.001
setEdgeSourceArrowShapeMapping0.0000.0000.001
setEdgeTargetArrowColorBypass0.0010.0000.000
setEdgeTargetArrowColorDefault000
setEdgeTargetArrowColorMapping000
setEdgeTargetArrowMapping000
setEdgeTargetArrowShapeBypass0.0000.0010.001
setEdgeTargetArrowShapeDefault0.0000.0010.001
setEdgeTargetArrowShapeMapping0.0000.0010.000
setEdgeTooltipBypass0.0010.0010.000
setEdgeTooltipDefault0.0010.0010.001
setEdgeTooltipMapping0.0000.0000.001
setLayoutProperties000
setModelPropagationSecs0.0000.0000.001
setNetworkCenterBypass0.0000.0000.001
setNetworkPropertyBypass0.0000.0000.001
setNetworkZoomBypass0.0000.0000.001
setNodeBorderColorBypass000
setNodeBorderColorDefault000
setNodeBorderColorMapping000
setNodeBorderOpacityBypass0.0000.0000.001
setNodeBorderOpacityDefault0.0000.0000.001
setNodeBorderOpacityMapping0.0000.0000.001
setNodeBorderWidthBypass0.0000.0000.001
setNodeBorderWidthDefault000
setNodeBorderWidthMapping000
setNodeColorBypass000
setNodeColorDefault0.0000.0010.000
setNodeColorMapping0.0000.0010.000
setNodeComboOpacityMapping0.0000.0010.000
setNodeCustomBarChart0.0000.0010.000
setNodeCustomBoxChart0.0000.0000.001
setNodeCustomHeatMapChart0.0000.0000.001
setNodeCustomLineChart000
setNodeCustomLinearGradient000
setNodeCustomPieChart000
setNodeCustomPosition0.0010.0010.000
setNodeCustomRadialGradient0.0010.0010.001
setNodeCustomRingChart0.0010.0000.001
setNodeFillOpacityBypass0.0010.0010.000
setNodeFillOpacityDefault0.0010.0010.001
setNodeFillOpacityMapping0.0000.0000.001
setNodeFontFaceBypass0.0010.0000.000
setNodeFontFaceDefault000
setNodeFontFaceMapping000
setNodeFontSizeBypass000
setNodeFontSizeDefault000
setNodeFontSizeMapping000
setNodeHeightBypass0.0010.0000.000
setNodeHeightDefault0.0010.0000.000
setNodeHeightMapping000
setNodeLabelBypass000
setNodeLabelColorBypass000
setNodeLabelColorDefault000
setNodeLabelColorMapping000
setNodeLabelDefault0.0000.0010.000
setNodeLabelMapping0.0000.0010.000
setNodeLabelOpacityBypass0.0000.0010.000
setNodeLabelOpacityDefault0.0000.0000.001
setNodeLabelOpacityMapping0.0010.0000.000
setNodeLabelPositionBypass0.0010.0000.000
setNodeLabelPositionDefault000
setNodeOpacityBypass0.0000.0010.000
setNodePositionBypass0.0010.0010.000
setNodePropertyBypass0.0010.0010.000
setNodeSelectionColorDefault0.0010.0010.000
setNodeShapeBypass0.0000.0010.000
setNodeShapeDefault0.0000.0010.000
setNodeShapeMapping0.0000.0010.001
setNodeSizeBypass0.0000.0010.001
setNodeSizeDefault0.0000.0010.001
setNodeSizeMapping0.0000.0000.001
setNodeTooltipBypass000
setNodeTooltipDefault000
setNodeTooltipMapping000
setNodeWidthBypass0.0000.0000.001
setNodeWidthDefault0.0000.0010.001
setNodeWidthMapping0.0000.0010.001
setNotebookIsRunning000
setSandboxReinitialize000
setStyleDependencies000
setVisualPropertyDefault0.0000.0010.001
setVisualStyle0.0000.0000.001
syncNodeCustomGraphicsSize000
toggleGraphicsDetails000
ungroupAnnotation0.0010.0000.000
unhideAll0.0010.0010.001
unhideEdges0.0010.0010.001
unhideNodes0.0010.0000.000
uninstallApp000
updateAnnotationImage000
updateAnnotationShape000
updateAnnotationText000
updateApp0.0010.0000.000
updateGroupAnnotation0.0010.0000.000
updateNetworkInNDEx000
updateStyleDefaults0.0000.0000.001
updateStyleMapping0.0000.0000.001