| Back to Multiple platform build/check report for BioC 3.22: simplified long |
|
This page was generated on 2025-10-25 12:04 -0400 (Sat, 25 Oct 2025).
| Hostname | OS | Arch (*) | R version | Installed pkgs |
|---|---|---|---|---|
| nebbiolo2 | Linux (Ubuntu 24.04.3 LTS) | x86_64 | 4.5.1 Patched (2025-08-23 r88802) -- "Great Square Root" | 4901 |
| lconway | macOS 12.7.6 Monterey | x86_64 | 4.5.1 Patched (2025-09-10 r88807) -- "Great Square Root" | 4691 |
| kjohnson3 | macOS 13.7.7 Ventura | arm64 | 4.5.1 Patched (2025-09-10 r88807) -- "Great Square Root" | 4637 |
| taishan | Linux (openEuler 24.03 LTS) | aarch64 | 4.5.0 (2025-04-11) -- "How About a Twenty-Six" | 4658 |
| Click on any hostname to see more info about the system (e.g. compilers) (*) as reported by 'uname -p', except on Windows and Mac OS X | ||||
| Package 1737/2361 | Hostname | OS / Arch | INSTALL | BUILD | CHECK | BUILD BIN | ||||||||
| RCX 1.13.1 (landing page) Florian Auer
| nebbiolo2 | Linux (Ubuntu 24.04.3 LTS) / x86_64 | OK | OK | OK | |||||||||
| lconway | macOS 12.7.6 Monterey / x86_64 | OK | OK | OK | OK | |||||||||
| kjohnson3 | macOS 13.7.7 Ventura / arm64 | OK | OK | OK | OK | |||||||||
| taishan | Linux (openEuler 24.03 LTS) / aarch64 | OK | NA | NA | ||||||||||
|
To the developers/maintainers of the RCX package: - Allow up to 24 hours (and sometimes 48 hours) for your latest push to git@git.bioconductor.org:packages/RCX.git to reflect on this report. See Troubleshooting Build Report for more information. - Use the following Renviron settings to reproduce errors and warnings. - If 'R CMD check' started to fail recently on the Linux builder(s) over a missing dependency, add the missing dependency to 'Suggests:' in your DESCRIPTION file. See Renviron.bioc for more information. |
| Package: RCX |
| Version: 1.13.1 |
| Command: /home/biocbuild/bbs-3.22-bioc/R/bin/R CMD check --install=check:RCX.install-out.txt --library=/home/biocbuild/bbs-3.22-bioc/R/site-library --timings RCX_1.13.1.tar.gz |
| StartedAt: 2025-10-25 03:12:44 -0400 (Sat, 25 Oct 2025) |
| EndedAt: 2025-10-25 03:13:43 -0400 (Sat, 25 Oct 2025) |
| EllapsedTime: 59.1 seconds |
| RetCode: 0 |
| Status: OK |
| CheckDir: RCX.Rcheck |
| Warnings: 0 |
##############################################################################
##############################################################################
###
### Running command:
###
### /home/biocbuild/bbs-3.22-bioc/R/bin/R CMD check --install=check:RCX.install-out.txt --library=/home/biocbuild/bbs-3.22-bioc/R/site-library --timings RCX_1.13.1.tar.gz
###
##############################################################################
##############################################################################
* using log directory ‘/home/biocbuild/bbs-3.22-bioc/meat/RCX.Rcheck’
* using R version 4.5.1 Patched (2025-08-23 r88802)
* using platform: x86_64-pc-linux-gnu
* R was compiled by
gcc (Ubuntu 13.3.0-6ubuntu2~24.04) 13.3.0
GNU Fortran (Ubuntu 13.3.0-6ubuntu2~24.04) 13.3.0
* running under: Ubuntu 24.04.3 LTS
* using session charset: UTF-8
* checking for file ‘RCX/DESCRIPTION’ ... OK
* checking extension type ... Package
* this is package ‘RCX’ version ‘1.13.1’
* package encoding: UTF-8
* checking package namespace information ... OK
* checking package dependencies ... OK
* checking if this is a source package ... OK
* checking if there is a namespace ... OK
* checking for hidden files and directories ... OK
* checking for portable file names ... OK
* checking for sufficient/correct file permissions ... OK
* checking whether package ‘RCX’ can be installed ... OK
* checking installed package size ... OK
* checking package directory ... OK
* checking ‘build’ directory ... OK
* checking DESCRIPTION meta-information ... NOTE
License stub is invalid DCF.
* checking top-level files ... OK
* checking for left-over files ... OK
* checking index information ... OK
* checking package subdirectories ... NOTE
Problems with news in ‘NEWS.md’:
No news entries found.
* checking code files for non-ASCII characters ... OK
* checking R files for syntax errors ... OK
* checking whether the package can be loaded ... OK
* checking whether the package can be loaded with stated dependencies ... OK
* checking whether the package can be unloaded cleanly ... OK
* checking whether the namespace can be loaded with stated dependencies ... OK
* checking whether the namespace can be unloaded cleanly ... OK
* checking loading without being on the library search path ... OK
* checking whether startup messages can be suppressed ... OK
* checking dependencies in R code ... OK
* checking S3 generic/method consistency ... OK
* checking replacement functions ... OK
* checking foreign function calls ... OK
* checking R code for possible problems ... OK
* checking Rd files ... OK
* checking Rd metadata ... OK
* checking Rd cross-references ... NOTE
Non-topic package-anchored link(s) in Rd file 'Igraph.Rd':
‘[igraph:aaa-igraph-package]{igraph}’
See section 'Cross-references' in the 'Writing R Extensions' manual.
Found the following Rd file(s) with Rd \link{} targets missing package
anchors:
jsonToRCX.Rd: jsonlite
readCX.Rd: jsonlite
Please provide package anchors for all Rd \link{} targets not in the
package itself and the base packages.
* checking for missing documentation entries ... OK
* checking for code/documentation mismatches ... OK
* checking Rd \usage sections ... NOTE
Documented arguments not in \usage in Rd file 'dot-format.Rd':
‘.log’
Functions with \usage entries need to have the appropriate \alias
entries, and all their arguments documented.
The \usage entries must correspond to syntactically valid R code.
See chapter ‘Writing R documentation files’ in the ‘Writing R
Extensions’ manual.
* checking Rd contents ... OK
* checking for unstated dependencies in examples ... OK
* checking R/sysdata.rda ... OK
* checking files in ‘vignettes’ ... OK
* checking examples ... OK
* checking for unstated dependencies in ‘tests’ ... OK
* checking tests ...
Running ‘testthat.R’
OK
* checking for unstated dependencies in vignettes ... OK
* checking package vignettes ... OK
* checking re-building of vignette outputs ... OK
* checking PDF version of manual ... OK
* DONE
Status: 4 NOTEs
See
‘/home/biocbuild/bbs-3.22-bioc/meat/RCX.Rcheck/00check.log’
for details.
RCX.Rcheck/00install.out
############################################################################## ############################################################################## ### ### Running command: ### ### /home/biocbuild/bbs-3.22-bioc/R/bin/R CMD INSTALL RCX ### ############################################################################## ############################################################################## * installing to library ‘/home/biocbuild/bbs-3.22-bioc/R/site-library’ * installing *source* package ‘RCX’ ... ** this is package ‘RCX’ version ‘1.13.1’ ** using staged installation ** R ** inst ** byte-compile and prepare package for lazy loading ** help *** installing help indices ** building package indices ** installing vignettes ** testing if installed package can be loaded from temporary location ** testing if installed package can be loaded from final location ** testing if installed package keeps a record of temporary installation path * DONE (RCX)
RCX.Rcheck/tests/testthat.Rout
R version 4.5.1 Patched (2025-08-23 r88802) -- "Great Square Root"
Copyright (C) 2025 The R Foundation for Statistical Computing
Platform: x86_64-pc-linux-gnu
R is free software and comes with ABSOLUTELY NO WARRANTY.
You are welcome to redistribute it under certain conditions.
Type 'license()' or 'licence()' for distribution details.
R is a collaborative project with many contributors.
Type 'contributors()' for more information and
'citation()' on how to cite R or R packages in publications.
Type 'demo()' for some demos, 'help()' for on-line help, or
'help.start()' for an HTML browser interface to help.
Type 'q()' to quit R.
> library(testthat)
> library(RCX)
>
> test_check("RCX")
[ FAIL 0 | WARN 0 | SKIP 0 | PASS 60 ]
>
> proc.time()
user system elapsed
2.348 0.094 2.433
RCX.Rcheck/RCX-Ex.timings
| name | user | system | elapsed | |
| CartesianLayout | 0.002 | 0.002 | 0.004 | |
| Convert-Names-and-Classes | 0 | 0 | 0 | |
| CyGroups | 0.004 | 0.000 | 0.004 | |
| CyHiddenAttributes | 0.109 | 0.001 | 0.110 | |
| CyNetworkRelations | 0.001 | 0.000 | 0.001 | |
| CySubNetworks | 0.002 | 0.000 | 0.002 | |
| CyTableColumn | 0.004 | 0.000 | 0.004 | |
| CyVisualProperties | 0.013 | 0.000 | 0.014 | |
| CyVisualProperty | 0.01 | 0.00 | 0.01 | |
| CyVisualPropertyDependencies | 0.002 | 0.000 | 0.003 | |
| CyVisualPropertyMappings | 0.004 | 0.001 | 0.004 | |
| CyVisualPropertyProperties | 0.005 | 0.000 | 0.005 | |
| EdgeAttributes | 0.012 | 0.000 | 0.012 | |
| Edges | 0.001 | 0.000 | 0.001 | |
| Igraph | 2.215 | 0.043 | 2.260 | |
| Meta-data | 0.022 | 0.001 | 0.023 | |
| NetworkAttributes | 0.009 | 0.000 | 0.009 | |
| NodeAttributes | 0.012 | 0.000 | 0.013 | |
| Nodes | 0.000 | 0.001 | 0.002 | |
| RCX-object | 0.209 | 0.000 | 0.210 | |
| aspectClasses | 0.000 | 0.000 | 0.001 | |
| checks | 0 | 0 | 0 | |
| convert-data-types-and-values | 0.001 | 0.000 | 0.001 | |
| convert2json | 0 | 0 | 0 | |
| countElements | 0.007 | 0.000 | 0.008 | |
| custom-print | 0.004 | 0.001 | 0.005 | |
| dot-addAspectNameToJson | 0 | 0 | 0 | |
| dot-addAttributeData | 0 | 0 | 0 | |
| dot-aspectClass | 0 | 0 | 0 | |
| dot-convertRawList | 0 | 0 | 0 | |
| dot-createAttributeAspect | 0.001 | 0.000 | 0.000 | |
| dot-createCyVpPorD | 0 | 0 | 0 | |
| dot-filterBy | 0.001 | 0.000 | 0.001 | |
| dot-format | 0 | 0 | 0 | |
| dot-infer | 0.000 | 0.000 | 0.001 | |
| dot-json2RDataType | 0 | 0 | 0 | |
| dot-jsonL | 0.000 | 0.000 | 0.001 | |
| dot-jsonV | 0 | 0 | 0 | |
| dot-log | 0 | 0 | 0 | |
| dot-mergeAttributesAspect | 0 | 0 | 0 | |
| dot-mergeIdAspect | 0 | 0 | 0 | |
| dot-modClass | 0 | 0 | 0 | |
| dot-pasteC | 0 | 0 | 0 | |
| dot-renameDF | 0.002 | 0.000 | 0.001 | |
| dot-stop | 0 | 0 | 0 | |
| dot-summaryAspect | 0.002 | 0.000 | 0.001 | |
| dot-transformListLength-set | 0.002 | 0.000 | 0.002 | |
| dot-transformVLD | 0.004 | 0.000 | 0.004 | |
| getCyVisualProperty | 0.008 | 0.000 | 0.008 | |
| graphNEL | 2.436 | 0.010 | 2.446 | |
| hasIds | 0.001 | 0.000 | 0.001 | |
| idProperty | 0.001 | 0.000 | 0.001 | |
| jsonToRCX | 0.003 | 0.000 | 0.002 | |
| markAttributeColumn | 0.001 | 0.000 | 0.001 | |
| markRefColumn | 0.000 | 0.000 | 0.001 | |
| maxId | 0.000 | 0.000 | 0.001 | |
| rcxToJson | 0.001 | 0.000 | 0.002 | |
| readCX | 0.607 | 0.013 | 0.620 | |
| referredBy | 0.006 | 0.003 | 0.009 | |
| refersTo | 0.001 | 0.000 | 0.001 | |
| setExtension | 0 | 0 | 0 | |
| summary | 0.011 | 0.001 | 0.012 | |
| toCX | 0.010 | 0.001 | 0.011 | |
| updateCartesianLayout | 0.045 | 0.000 | 0.045 | |
| updateCyGroups | 0.026 | 0.004 | 0.029 | |
| updateCyHiddenAttributes | 0.046 | 0.006 | 0.051 | |
| updateCyNetworkRelations | 0.031 | 0.001 | 0.032 | |
| updateCySubNetworks | 0.024 | 0.000 | 0.025 | |
| updateCyTableColumn | 0.042 | 0.000 | 0.042 | |
| updateCyVisualProperties | 0.213 | 0.001 | 0.214 | |
| updateCyVisualProperty | 0.054 | 0.000 | 0.055 | |
| updateEdgeAttributes | 0.045 | 0.000 | 0.045 | |
| updateEdges | 0.018 | 0.000 | 0.018 | |
| updateMetaDataProperties | 0.017 | 0.000 | 0.018 | |
| updateNetworkAttributes | 0.039 | 0.001 | 0.041 | |
| updateNodeAttributes | 0.055 | 0.000 | 0.055 | |
| updateNodes | 0.013 | 0.000 | 0.014 | |
| validate | 0.243 | 0.005 | 0.248 | |
| visualize | 0.008 | 0.000 | 0.008 | |
| writeCX | 0 | 0 | 0 | |
| writeHTML | 0.053 | 0.006 | 0.072 | |