Back to Multiple platform build/check report for BioC 3.22:   simplified   long
ABCDEFGHIJKLMNO[P]QRSTUVWXYZ

This page was generated on 2025-11-20 12:06 -0500 (Thu, 20 Nov 2025).

HostnameOSArch (*)R versionInstalled pkgs
nebbiolo2Linux (Ubuntu 24.04.3 LTS)x86_644.5.2 (2025-10-31) -- "[Not] Part in a Rumble" 4615
merida1macOS 12.7.6 Montereyx86_644.5.2 Patched (2025-11-05 r88990) -- "[Not] Part in a Rumble" 4610
kjohnson1macOS 13.7.5 Venturaarm644.5.2 Patched (2025-11-04 r88984) -- "[Not] Part in a Rumble" 4598
taishanLinux (openEuler 24.03 LTS)aarch644.5.0 (2025-04-11) -- "How About a Twenty-Six" 4668
Click on any hostname to see more info about the system (e.g. compilers)      (*) as reported by 'uname -p', except on Windows and Mac OS X

Package 1596/2361HostnameOS / ArchINSTALLBUILDCHECKBUILD BIN
PhyloProfile 2.2.1  (landing page)
Vinh Tran
Snapshot Date: 2025-11-17 13:45 -0500 (Mon, 17 Nov 2025)
git_url: https://git.bioconductor.org/packages/PhyloProfile
git_branch: RELEASE_3_22
git_last_commit: 0e73eed
git_last_commit_date: 2025-11-03 17:20:22 -0500 (Mon, 03 Nov 2025)
nebbiolo2Linux (Ubuntu 24.04.3 LTS) / x86_64  OK    OK    OK  UNNEEDED, same version is already published
merida1macOS 12.7.6 Monterey / x86_64  OK    OK    OK    OK  YES
kjohnson1macOS 13.7.5 Ventura / arm64  OK    OK    OK    OK  UNNEEDED, same version is already published
taishanLinux (openEuler 24.03 LTS) / aarch64  OK    OK    OK  


CHECK results for PhyloProfile on kjohnson1

To the developers/maintainers of the PhyloProfile package:
- Allow up to 24 hours (and sometimes 48 hours) for your latest push to git@git.bioconductor.org:packages/PhyloProfile.git to reflect on this report. See Troubleshooting Build Report for more information.
- Use the following Renviron settings to reproduce errors and warnings.
- If 'R CMD check' started to fail recently on the Linux builder(s) over a missing dependency, add the missing dependency to 'Suggests:' in your DESCRIPTION file. See Renviron.bioc for more information.

raw results


Summary

Package: PhyloProfile
Version: 2.2.1
Command: /Library/Frameworks/R.framework/Resources/bin/R CMD check --install=check:PhyloProfile.install-out.txt --library=/Library/Frameworks/R.framework/Resources/library --no-vignettes --timings PhyloProfile_2.2.1.tar.gz
StartedAt: 2025-11-18 10:54:39 -0500 (Tue, 18 Nov 2025)
EndedAt: 2025-11-18 10:56:01 -0500 (Tue, 18 Nov 2025)
EllapsedTime: 81.8 seconds
RetCode: 0
Status:   OK  
CheckDir: PhyloProfile.Rcheck
Warnings: 0

Command output

##############################################################################
##############################################################################
###
### Running command:
###
###   /Library/Frameworks/R.framework/Resources/bin/R CMD check --install=check:PhyloProfile.install-out.txt --library=/Library/Frameworks/R.framework/Resources/library --no-vignettes --timings PhyloProfile_2.2.1.tar.gz
###
##############################################################################
##############################################################################


* using log directory ‘/Users/biocbuild/bbs-3.22-bioc/meat/PhyloProfile.Rcheck’
* using R version 4.5.2 Patched (2025-11-04 r88984)
* using platform: aarch64-apple-darwin20
* R was compiled by
    Apple clang version 16.0.0 (clang-1600.0.26.6)
    GNU Fortran (GCC) 14.2.0
* running under: macOS Ventura 13.7.8
* using session charset: UTF-8
* using option ‘--no-vignettes’
* checking for file ‘PhyloProfile/DESCRIPTION’ ... OK
* this is package ‘PhyloProfile’ version ‘2.2.1’
* package encoding: UTF-8
* checking package namespace information ... OK
* checking package dependencies ... INFO
Imports includes 31 non-default packages.
Importing from so many packages makes the package vulnerable to any of
them becoming unavailable.  Move as many as possible to Suggests and
use conditionally.
* checking if this is a source package ... OK
* checking if there is a namespace ... OK
* checking for hidden files and directories ... OK
* checking for portable file names ... OK
* checking for sufficient/correct file permissions ... OK
* checking whether package ‘PhyloProfile’ can be installed ... OK
* checking installed package size ... OK
* checking package directory ... OK
* checking ‘build’ directory ... OK
* checking DESCRIPTION meta-information ... OK
* checking top-level files ... OK
* checking for left-over files ... OK
* checking index information ... OK
* checking package subdirectories ... OK
* checking code files for non-ASCII characters ... OK
* checking R files for syntax errors ... OK
* checking whether the package can be loaded ... OK
* checking whether the package can be loaded with stated dependencies ... OK
* checking whether the package can be unloaded cleanly ... OK
* checking whether the namespace can be loaded with stated dependencies ... OK
* checking whether the namespace can be unloaded cleanly ... OK
* checking dependencies in R code ... OK
* checking S3 generic/method consistency ... OK
* checking replacement functions ... OK
* checking foreign function calls ... OK
* checking R code for possible problems ... OK
* checking Rd files ... OK
* checking Rd metadata ... OK
* checking Rd cross-references ... OK
* checking for missing documentation entries ... OK
* checking for code/documentation mismatches ... OK
* checking Rd \usage sections ... OK
* checking Rd contents ... OK
* checking for unstated dependencies in examples ... OK
* checking contents of ‘data’ directory ... OK
* checking data for non-ASCII characters ... OK
* checking data for ASCII and uncompressed saves ... OK
* checking files in ‘vignettes’ ... OK
* checking examples ... OK
* checking for unstated dependencies in ‘tests’ ... OK
* checking tests ...
  Running ‘testthat.R’
 OK
* checking for unstated dependencies in vignettes ... OK
* checking package vignettes ... OK
* checking running R code from vignettes ... SKIPPED
* checking re-building of vignette outputs ... SKIPPED
* checking PDF version of manual ... OK
* DONE

Status: OK


Installation output

PhyloProfile.Rcheck/00install.out

##############################################################################
##############################################################################
###
### Running command:
###
###   /Library/Frameworks/R.framework/Resources/bin/R CMD INSTALL PhyloProfile
###
##############################################################################
##############################################################################


* installing to library ‘/Library/Frameworks/R.framework/Versions/4.5-arm64/Resources/library’
* installing *source* package ‘PhyloProfile’ ...
** this is package ‘PhyloProfile’ version ‘2.2.1’
** using staged installation
** R
** data
** inst
** byte-compile and prepare package for lazy loading
** help
*** installing help indices
** building package indices
** installing vignettes
** testing if installed package can be loaded from temporary location
** testing if installed package can be loaded from final location
** testing if installed package keeps a record of temporary installation path
* DONE (PhyloProfile)

Tests output

PhyloProfile.Rcheck/tests/testthat.Rout


R version 4.5.2 Patched (2025-11-04 r88984) -- "[Not] Part in a Rumble"
Copyright (C) 2025 The R Foundation for Statistical Computing
Platform: aarch64-apple-darwin20

R is free software and comes with ABSOLUTELY NO WARRANTY.
You are welcome to redistribute it under certain conditions.
Type 'license()' or 'licence()' for distribution details.

R is a collaborative project with many contributors.
Type 'contributors()' for more information and
'citation()' on how to cite R or R packages in publications.

Type 'demo()' for some demos, 'help()' for on-line help, or
'help.start()' for an HTML browser interface to help.
Type 'q()' to quit R.

> library(testthat)
> library(PhyloProfile)
> 
> test_check("PhyloProfile")
[ FAIL 0 | WARN 0 | SKIP 1 | PASS 22 ]

══ Skipped tests (1) ═══════════════════════════════════════════════════════════
• empty test (1):

[ FAIL 0 | WARN 0 | SKIP 1 | PASS 22 ]
> 
> proc.time()
   user  system elapsed 
  3.182   0.185   3.791 

Example timings

PhyloProfile.Rcheck/PhyloProfile-Ex.timings

nameusersystemelapsed
addDimRedTaxaColors0.3160.0080.352
addFeatureColors0.0160.0020.018
addRankDivisionPlot0.4050.0080.425
calcPresSpec0.0150.0010.016
checkColorPalette0.0000.0000.001
checkInputValidity0.0020.0010.002
checkNewick0.0010.0000.001
checkOmaID000
checkOverlapDomains0.0120.0010.014
clusterDataDend0.2380.0020.264
compareMedianTaxonGroups0.0090.0010.010
compareTaxonGroups0.0110.0010.013
createArchiPlot0.7430.0080.796
createDimRedPlotData0.2430.0060.279
createGeneAgePlot0.1210.0010.131
createLongMatrix0.0060.0030.009
createPercentageDistributionData0.0290.0050.037
createProfileFromOma000
createUnrootedTree0.0050.0000.005
createVarDistPlot0.1060.0020.125
createVariableDistributionData0.0030.0020.004
createVariableDistributionDataSubset0.0030.0000.004
dataCustomizedPlot0.0120.0000.016
dataFeatureTaxGroup0.0050.0010.006
dataMainPlot0.0160.0030.021
dataVarDistTaxGroup0.0020.0020.004
dimReduction0.2790.0060.319
estimateGeneAge0.0510.0050.059
fastaParser0.0130.0010.016
featureDistTaxPlot0.1490.0040.180
filterProfileData0.0440.0150.063
fromInputToProfile0.0710.0040.076
geneAgePlotDf0.0030.0000.003
generateSinglePlot0.2040.0010.222
getAllDomainsOma000
getAllFastaOma000
getCommonAncestor0.0110.0020.013
getCoreGene0.0380.0050.043
getDataClustering0.0060.0010.008
getDataForOneOma000
getDendrogram0.0170.0010.021
getDistanceMatrix0.0060.0000.007
getDomainFolder000
getFastaFromFasInput0.0050.0010.005
getFastaFromFile0.0040.0000.004
getFastaFromFolder0.0030.0010.004
getIDsRank0.0070.0010.007
getInputTaxaID0.0010.0000.001
getInputTaxaName0.0040.0020.005
getNameList0.0080.0070.015
getOmaDataForOneOrtholog000
getOmaDomainFromURL000
getOmaMembers000
getQualColForVector0.0000.0000.001
getSelectedFastaOma000
getSelectedTaxonNames0.0070.0020.009
getTaxHierarchy0.0050.0010.006
getTaxonomyInfo0.0040.0010.005
getTaxonomyMatrix0.0350.0300.069
getTaxonomyRanks0.0010.0010.000
gridArrangeSharedLegend0.0000.0000.001
groupLabelDimRedData0.0260.0030.028
heatmapPlotting0.1480.0010.160
heatmapPlottingFast2.0850.0482.127
highlightProfilePlot0.1850.0060.192
id2name0.0020.0000.002
joinPlotMergeLegends0.2610.0030.264
linearizeArchitecture0.0030.0000.003
mainTaxonomyRank000
modifyFeatureName0.0080.0050.012
pairDomainPlotting0.2030.0020.220
parseDomainInput0.0070.0060.013
parseInfoProfile0.0430.0040.051
plotDimRed0.4050.0050.446
plotDimRed3D0.3680.0120.443
prepareDimRedData0.0220.0030.025
processNcbiTaxonomy000
processOrthoID0.0560.0270.116
qualitativeColours000
rankIndexing0.0190.0010.022
reduceProfile0.0160.0010.016
resolveOverlapFeatures0.0060.0000.007
runPhyloProfile0.0310.0150.052
singleDomainPlotting0.1030.0010.120
sortDomains0.0030.0000.004
sortDomainsByList0.0040.0010.005
sortInputTaxa0.0120.0030.016
sortTaxaFromTree0.0040.0000.005
taxonomyTableCreator0.0310.0010.033
varDistTaxPlot0.4180.0060.441
wideToLong0.0050.0020.008
xmlParser0.0060.0010.008