Back to Multiple platform build/check report for BioC 3.22:   simplified   long
ABCDEFGHIJKLMNO[P]QRSTUVWXYZ

This page was generated on 2025-11-20 12:05 -0500 (Thu, 20 Nov 2025).

HostnameOSArch (*)R versionInstalled pkgs
nebbiolo2Linux (Ubuntu 24.04.3 LTS)x86_644.5.2 (2025-10-31) -- "[Not] Part in a Rumble" 4615
merida1macOS 12.7.6 Montereyx86_644.5.2 Patched (2025-11-05 r88990) -- "[Not] Part in a Rumble" 4610
kjohnson1macOS 13.7.5 Venturaarm644.5.2 Patched (2025-11-04 r88984) -- "[Not] Part in a Rumble" 4598
taishanLinux (openEuler 24.03 LTS)aarch644.5.0 (2025-04-11) -- "How About a Twenty-Six" 4668
Click on any hostname to see more info about the system (e.g. compilers)      (*) as reported by 'uname -p', except on Windows and Mac OS X

Package 1595/2361HostnameOS / ArchINSTALLBUILDCHECKBUILD BIN
PhosR 1.20.0  (landing page)
Di Xiao
Snapshot Date: 2025-11-17 13:45 -0500 (Mon, 17 Nov 2025)
git_url: https://git.bioconductor.org/packages/PhosR
git_branch: RELEASE_3_22
git_last_commit: d795fca
git_last_commit_date: 2025-10-29 11:02:33 -0500 (Wed, 29 Oct 2025)
nebbiolo2Linux (Ubuntu 24.04.3 LTS) / x86_64  OK    OK    OK  UNNEEDED, same version is already published
merida1macOS 12.7.6 Monterey / x86_64  OK    OK    OK    OK  UNNEEDED, same version is already published
kjohnson1macOS 13.7.5 Ventura / arm64  OK    OK    OK    OK  UNNEEDED, same version is already published
taishanLinux (openEuler 24.03 LTS) / aarch64  OK    OK    OK  


CHECK results for PhosR on merida1

To the developers/maintainers of the PhosR package:
- Allow up to 24 hours (and sometimes 48 hours) for your latest push to git@git.bioconductor.org:packages/PhosR.git to reflect on this report. See Troubleshooting Build Report for more information.
- Use the following Renviron settings to reproduce errors and warnings.
- If 'R CMD check' started to fail recently on the Linux builder(s) over a missing dependency, add the missing dependency to 'Suggests:' in your DESCRIPTION file. See Renviron.bioc for more information.

raw results


Summary

Package: PhosR
Version: 1.20.0
Command: /Library/Frameworks/R.framework/Resources/bin/R CMD check --install=check:PhosR.install-out.txt --library=/Library/Frameworks/R.framework/Resources/library --no-vignettes --timings PhosR_1.20.0.tar.gz
StartedAt: 2025-11-18 12:00:52 -0500 (Tue, 18 Nov 2025)
EndedAt: 2025-11-18 12:14:47 -0500 (Tue, 18 Nov 2025)
EllapsedTime: 834.9 seconds
RetCode: 0
Status:   OK  
CheckDir: PhosR.Rcheck
Warnings: 0

Command output

##############################################################################
##############################################################################
###
### Running command:
###
###   /Library/Frameworks/R.framework/Resources/bin/R CMD check --install=check:PhosR.install-out.txt --library=/Library/Frameworks/R.framework/Resources/library --no-vignettes --timings PhosR_1.20.0.tar.gz
###
##############################################################################
##############################################################################


* using log directory ‘/Users/biocbuild/bbs-3.22-bioc/meat/PhosR.Rcheck’
* using R version 4.5.2 Patched (2025-11-05 r88990)
* using platform: x86_64-apple-darwin20
* R was compiled by
    Apple clang version 14.0.0 (clang-1400.0.29.202)
    GNU Fortran (GCC) 14.2.0
* running under: macOS Monterey 12.7.6
* using session charset: UTF-8
* using option ‘--no-vignettes’
* checking for file ‘PhosR/DESCRIPTION’ ... OK
* checking extension type ... Package
* this is package ‘PhosR’ version ‘1.20.0’
* package encoding: UTF-8
* checking package namespace information ... OK
* checking package dependencies ... INFO
Imports includes 24 non-default packages.
Importing from so many packages makes the package vulnerable to any of
them becoming unavailable.  Move as many as possible to Suggests and
use conditionally.
* checking if this is a source package ... OK
* checking if there is a namespace ... OK
* checking for hidden files and directories ... NOTE
Found the following hidden files and directories:
  .travis.yml
These were most likely included in error. See section ‘Package
structure’ in the ‘Writing R Extensions’ manual.
* checking for portable file names ... OK
* checking for sufficient/correct file permissions ... OK
* checking whether package ‘PhosR’ can be installed ... OK
* checking installed package size ... OK
* checking package directory ... OK
* checking ‘build’ directory ... OK
* checking DESCRIPTION meta-information ... OK
* checking top-level files ... OK
* checking for left-over files ... OK
* checking index information ... OK
* checking package subdirectories ... OK
* checking code files for non-ASCII characters ... OK
* checking R files for syntax errors ... OK
* checking whether the package can be loaded ... OK
* checking whether the package can be loaded with stated dependencies ... OK
* checking whether the package can be unloaded cleanly ... OK
* checking whether the namespace can be loaded with stated dependencies ... OK
* checking whether the namespace can be unloaded cleanly ... OK
* checking whether startup messages can be suppressed ... OK
* checking dependencies in R code ... NOTE
Namespace in Imports field not imported from: ‘stringi’
  All declared Imports should be used.
Unexported objects imported by ':::' calls:
  ‘BiocGenerics:::replaceSlots’ ‘S4Vectors:::disableValidity’
  ‘SummarizedExperiment:::.SummarizedExperiment.charbound’
  See the note in ?`:::` about the use of this operator.
* checking S3 generic/method consistency ... OK
* checking replacement functions ... OK
* checking foreign function calls ... OK
* checking R code for possible problems ... NOTE
abundPlot: no visible binding for global variable ‘.’
Undefined global functions or variables:
  .
* checking Rd files ... OK
* checking Rd metadata ... OK
* checking Rd cross-references ... NOTE
Found the following Rd file(s) with Rd \link{} targets missing package
anchors:
  PhosphoExperiment-operate.Rd: SummarizedExperiment-class
  PhosphoExperiment.Rd: SummarizedExperiment-class
Please provide package anchors for all Rd \link{} targets not in the
package itself and the base packages.
* checking for missing documentation entries ... OK
* checking for code/documentation mismatches ... OK
* checking Rd \usage sections ... OK
* checking Rd contents ... OK
* checking for unstated dependencies in examples ... OK
* checking contents of ‘data’ directory ... OK
* checking data for non-ASCII characters ... OK
* checking data for ASCII and uncompressed saves ... OK
* checking files in ‘vignettes’ ... OK
* checking examples ... OK
Examples with CPU (user + system) or elapsed time > 5s
                         user system elapsed
siteAnnotate           70.160  0.883  76.358
kinaseSubstratePred    69.506  0.762  77.072
minmax                 49.166  0.359  51.204
kinaseSubstrateScore   47.570  0.353  49.421
matANOVA               26.402  0.074  26.633
standardise            25.731  0.270  28.718
kinaseSubstrateProfile 25.012  0.090  25.279
plotQC                 12.500  0.257  14.019
getSPS                  4.359  0.211   5.058
* checking for unstated dependencies in ‘tests’ ... OK
* checking tests ...
  Running ‘testthat.R’
 OK
* checking for unstated dependencies in vignettes ... OK
* checking package vignettes ... OK
* checking running R code from vignettes ... SKIPPED
* checking re-building of vignette outputs ... SKIPPED
* checking PDF version of manual ... OK
* DONE

Status: 4 NOTEs
See
  ‘/Users/biocbuild/bbs-3.22-bioc/meat/PhosR.Rcheck/00check.log’
for details.


Installation output

PhosR.Rcheck/00install.out

##############################################################################
##############################################################################
###
### Running command:
###
###   /Library/Frameworks/R.framework/Resources/bin/R CMD INSTALL PhosR
###
##############################################################################
##############################################################################


* installing to library ‘/Library/Frameworks/R.framework/Versions/4.5-x86_64/Resources/library’
* installing *source* package ‘PhosR’ ...
** this is package ‘PhosR’ version ‘1.20.0’
** using staged installation
** R
** data
** inst
** byte-compile and prepare package for lazy loading
** help
*** installing help indices
*** copying figures
** building package indices
** installing vignettes
** testing if installed package can be loaded from temporary location
** testing if installed package can be loaded from final location
** testing if installed package keeps a record of temporary installation path
* DONE (PhosR)

Tests output

PhosR.Rcheck/tests/testthat.Rout


R version 4.5.2 Patched (2025-11-05 r88990) -- "[Not] Part in a Rumble"
Copyright (C) 2025 The R Foundation for Statistical Computing
Platform: x86_64-apple-darwin20

R is free software and comes with ABSOLUTELY NO WARRANTY.
You are welcome to redistribute it under certain conditions.
Type 'license()' or 'licence()' for distribution details.

R is a collaborative project with many contributors.
Type 'contributors()' for more information and
'citation()' on how to cite R or R packages in publications.

Type 'demo()' for some demos, 'help()' for on-line help, or
'help.start()' for an HTML browser interface to help.
Type 'q()' to quit R.

> library(testthat)
> library(PhosR)
> 
> test_check("PhosR")
[ FAIL 0 | WARN 0 | SKIP 0 | PASS 64 ]
> 
> proc.time()
   user  system elapsed 
 19.223   1.076  20.656 

Example timings

PhosR.Rcheck/PhosR-Ex.timings

nameusersystemelapsed
PhosphoExperiment-methods0.6660.0190.751
PhosphoExperiment-operate0.9630.0231.109
PhosphoExperiment0.5250.0080.581
RUVphospho1.1310.0151.251
Signalomes0.0000.0010.000
createFrequencyMat0.1380.0080.164
frequencyScoring0.6840.0360.791
getSPS4.3590.2115.058
kinaseSubstrateHeatmap0.0010.0000.001
kinaseSubstratePred69.506 0.76277.072
kinaseSubstrateProfile25.012 0.09025.279
kinaseSubstrateScore47.570 0.35349.421
mIntersect3.1120.0413.337
matANOVA26.402 0.07426.633
meanAbundance0.4920.0150.511
medianScaling0.6700.0100.683
minmax49.166 0.35951.204
pathwayOverrepresent0.0000.0000.001
pathwayRankBasedEnrichment0.0000.0010.001
phosCollapse2.2040.0432.402
plotQC12.500 0.25714.019
ptImpute0.6890.0150.740
scImpute1.4670.0301.577
selectGrps0.1710.0120.192
selectLocalisedSites0.1220.0120.134
selectOverallPercent0.0550.0060.062
selectTimes0.0160.0040.022
siteAnnotate70.160 0.88376.358
standardise25.731 0.27028.718
tImpute0.2380.0150.265