Back to Multiple platform build/check report for BioC 3.22:   simplified   long
ABCDEFGHIJKLMN[O]PQRSTUVWXYZ

This page was generated on 2025-11-15 11:58 -0500 (Sat, 15 Nov 2025).

HostnameOSArch (*)R versionInstalled pkgs
nebbiolo2Linux (Ubuntu 24.04.3 LTS)x86_644.5.1 Patched (2025-08-23 r88802) -- "Great Square Root" 4903
taishanLinux (openEuler 24.03 LTS)aarch644.5.0 (2025-04-11) -- "How About a Twenty-Six" 4668
Click on any hostname to see more info about the system (e.g. compilers)      (*) as reported by 'uname -p', except on Windows and Mac OS X

Package 1511/2361HostnameOS / ArchINSTALLBUILDCHECKBUILD BIN
OncoSimulR 4.12.0  (landing page)
Ramon Diaz-Uriarte
Snapshot Date: 2025-11-14 13:45 -0500 (Fri, 14 Nov 2025)
git_url: https://git.bioconductor.org/packages/OncoSimulR
git_branch: RELEASE_3_22
git_last_commit: 0528208
git_last_commit_date: 2025-10-29 10:20:29 -0500 (Wed, 29 Oct 2025)
nebbiolo2Linux (Ubuntu 24.04.3 LTS) / x86_64  OK    OK    OK  UNNEEDED, same version is already published
taishanLinux (openEuler 24.03 LTS) / aarch64  OK    OK    OK  


CHECK results for OncoSimulR on nebbiolo2

To the developers/maintainers of the OncoSimulR package:
- Allow up to 24 hours (and sometimes 48 hours) for your latest push to git@git.bioconductor.org:packages/OncoSimulR.git to reflect on this report. See Troubleshooting Build Report for more information.
- Use the following Renviron settings to reproduce errors and warnings.
- If 'R CMD check' started to fail recently on the Linux builder(s) over a missing dependency, add the missing dependency to 'Suggests:' in your DESCRIPTION file. See Renviron.bioc for more information.

raw results


Summary

Package: OncoSimulR
Version: 4.12.0
Command: /home/biocbuild/bbs-3.22-bioc/R/bin/R CMD check --install=check:OncoSimulR.install-out.txt --library=/home/biocbuild/bbs-3.22-bioc/R/site-library --timings OncoSimulR_4.12.0.tar.gz
StartedAt: 2025-11-15 02:35:57 -0500 (Sat, 15 Nov 2025)
EndedAt: 2025-11-15 02:42:20 -0500 (Sat, 15 Nov 2025)
EllapsedTime: 382.5 seconds
RetCode: 0
Status:   OK  
CheckDir: OncoSimulR.Rcheck
Warnings: 0

Command output

##############################################################################
##############################################################################
###
### Running command:
###
###   /home/biocbuild/bbs-3.22-bioc/R/bin/R CMD check --install=check:OncoSimulR.install-out.txt --library=/home/biocbuild/bbs-3.22-bioc/R/site-library --timings OncoSimulR_4.12.0.tar.gz
###
##############################################################################
##############################################################################


* using log directory ‘/home/biocbuild/bbs-3.22-bioc/meat/OncoSimulR.Rcheck’
* using R version 4.5.1 Patched (2025-08-23 r88802)
* using platform: x86_64-pc-linux-gnu
* R was compiled by
    gcc (Ubuntu 13.3.0-6ubuntu2~24.04) 13.3.0
    GNU Fortran (Ubuntu 13.3.0-6ubuntu2~24.04) 13.3.0
* running under: Ubuntu 24.04.3 LTS
* using session charset: UTF-8
* checking for file ‘OncoSimulR/DESCRIPTION’ ... OK
* checking extension type ... Package
* this is package ‘OncoSimulR’ version ‘4.12.0’
* checking package namespace information ... OK
* checking package dependencies ... OK
* checking if this is a source package ... OK
* checking if there is a namespace ... OK
* checking for hidden files and directories ... NOTE
Found the following hidden files and directories:
  .BBSoptions
These were most likely included in error. See section ‘Package
structure’ in the ‘Writing R Extensions’ manual.
* checking for portable file names ... OK
* checking for sufficient/correct file permissions ... OK
* checking whether package ‘OncoSimulR’ can be installed ... OK
* used C compiler: ‘gcc (Ubuntu 13.3.0-6ubuntu2~24.04) 13.3.0’
* used C++ compiler: ‘g++ (Ubuntu 13.3.0-6ubuntu2~24.04) 13.3.0’
* checking installed package size ... INFO
  installed size is 45.5Mb
  sub-directories of 1Mb or more:
    libs  43.7Mb
* checking package directory ... OK
* checking ‘build’ directory ... OK
* checking DESCRIPTION meta-information ... OK
* checking top-level files ... OK
* checking for left-over files ... OK
* checking index information ... OK
* checking package subdirectories ... OK
* checking code files for non-ASCII characters ... OK
* checking R files for syntax errors ... OK
* checking whether the package can be loaded ... OK
* checking whether the package can be loaded with stated dependencies ... OK
* checking whether the package can be unloaded cleanly ... OK
* checking whether the namespace can be loaded with stated dependencies ... OK
* checking whether the namespace can be unloaded cleanly ... OK
* checking loading without being on the library search path ... OK
* checking whether startup messages can be suppressed ... OK
* checking dependencies in R code ... OK
* checking S3 generic/method consistency ... OK
* checking replacement functions ... OK
* checking foreign function calls ... OK
* checking R code for possible problems ... OK
* checking Rd files ... OK
* checking Rd metadata ... OK
* checking Rd cross-references ... OK
* checking for missing documentation entries ... OK
* checking for code/documentation mismatches ... OK
* checking Rd \usage sections ... OK
* checking Rd contents ... OK
* checking for unstated dependencies in examples ... OK
* checking contents of ‘data’ directory ... OK
* checking data for non-ASCII characters ... OK
* checking data for ASCII and uncompressed saves ... OK
* checking line endings in C/C++/Fortran sources/headers ... OK
* checking line endings in Makefiles ... OK
* checking compilation flags in Makevars ... OK
* checking for GNU extensions in Makefiles ... OK
* checking for portable use of $(BLAS_LIBS) and $(LAPACK_LIBS) ... OK
* checking use of PKG_*FLAGS in Makefiles ... OK
* checking include directives in Makefiles ... OK
* checking compiled code ... NOTE
Note: information on .o files is not available
* checking files in ‘vignettes’ ... OK
* checking examples ... OK
* checking for unstated dependencies in ‘tests’ ... OK
* checking tests ...
  Running ‘testthat.R’
 OK
* checking for unstated dependencies in vignettes ... OK
* checking package vignettes ... OK
* checking re-building of vignette outputs ... OK
* checking PDF version of manual ... OK
* DONE

Status: 2 NOTEs
See
  ‘/home/biocbuild/bbs-3.22-bioc/meat/OncoSimulR.Rcheck/00check.log’
for details.


Installation output

OncoSimulR.Rcheck/00install.out

##############################################################################
##############################################################################
###
### Running command:
###
###   /home/biocbuild/bbs-3.22-bioc/R/bin/R CMD INSTALL OncoSimulR
###
##############################################################################
##############################################################################


* installing to library ‘/home/biocbuild/bbs-3.22-bioc/R/site-library’
* installing *source* package ‘OncoSimulR’ ...
** this is package ‘OncoSimulR’ version ‘4.12.0’
** using staged installation
** libs
using C compiler: ‘gcc (Ubuntu 13.3.0-6ubuntu2~24.04) 13.3.0’
using C++ compiler: ‘g++ (Ubuntu 13.3.0-6ubuntu2~24.04) 13.3.0’
gcc -std=gnu2x -I"/home/biocbuild/bbs-3.22-bioc/R/include" -DNDEBUG  -I'/home/biocbuild/bbs-3.22-bioc/R/site-library/Rcpp/include' -I/usr/local/include    -fpic  -g -O2  -Wall -Werror=format-security -c FitnessLandscape/gamma.c -o FitnessLandscape/gamma.o
gcc -std=gnu2x -I"/home/biocbuild/bbs-3.22-bioc/R/include" -DNDEBUG  -I'/home/biocbuild/bbs-3.22-bioc/R/site-library/Rcpp/include' -I/usr/local/include    -fpic  -g -O2  -Wall -Werror=format-security -c FitnessLandscape/landscape.c -o FitnessLandscape/landscape.o
gcc -std=gnu2x -I"/home/biocbuild/bbs-3.22-bioc/R/include" -DNDEBUG  -I'/home/biocbuild/bbs-3.22-bioc/R/site-library/Rcpp/include' -I/usr/local/include    -fpic  -g -O2  -Wall -Werror=format-security -c FitnessLandscape/random.c -o FitnessLandscape/random.o
gcc -std=gnu2x -I"/home/biocbuild/bbs-3.22-bioc/R/include" -DNDEBUG  -I'/home/biocbuild/bbs-3.22-bioc/R/site-library/Rcpp/include' -I/usr/local/include    -fpic  -g -O2  -Wall -Werror=format-security -c FitnessLandscape/sort.c -o FitnessLandscape/sort.o
gcc -std=gnu2x -I"/home/biocbuild/bbs-3.22-bioc/R/include" -DNDEBUG  -I'/home/biocbuild/bbs-3.22-bioc/R/site-library/Rcpp/include' -I/usr/local/include    -fpic  -g -O2  -Wall -Werror=format-security -c FitnessLandscape/chain.c -o FitnessLandscape/chain.o
gcc -std=gnu2x -I"/home/biocbuild/bbs-3.22-bioc/R/include" -DNDEBUG  -I'/home/biocbuild/bbs-3.22-bioc/R/site-library/Rcpp/include' -I/usr/local/include    -fpic  -g -O2  -Wall -Werror=format-security -c FitnessLandscape/input.c -o FitnessLandscape/input.o
gcc -std=gnu2x -I"/home/biocbuild/bbs-3.22-bioc/R/include" -DNDEBUG  -I'/home/biocbuild/bbs-3.22-bioc/R/site-library/Rcpp/include' -I/usr/local/include    -fpic  -g -O2  -Wall -Werror=format-security -c FitnessLandscape/genotypes.c -o FitnessLandscape/genotypes.o
gcc -std=gnu2x -I"/home/biocbuild/bbs-3.22-bioc/R/include" -DNDEBUG  -I'/home/biocbuild/bbs-3.22-bioc/R/site-library/Rcpp/include' -I/usr/local/include    -fpic  -g -O2  -Wall -Werror=format-security -c FitnessLandscape/ordered_pairs.c -o FitnessLandscape/ordered_pairs.o
gcc -std=gnu2x -I"/home/biocbuild/bbs-3.22-bioc/R/include" -DNDEBUG  -I'/home/biocbuild/bbs-3.22-bioc/R/site-library/Rcpp/include' -I/usr/local/include    -fpic  -g -O2  -Wall -Werror=format-security -c FitnessLandscape/calculus.c -o FitnessLandscape/calculus.o
gcc -std=gnu2x -I"/home/biocbuild/bbs-3.22-bioc/R/include" -DNDEBUG  -I'/home/biocbuild/bbs-3.22-bioc/R/site-library/Rcpp/include' -I/usr/local/include    -fpic  -g -O2  -Wall -Werror=format-security -c FitnessLandscape/vector.c -o FitnessLandscape/vector.o
gcc -std=gnu2x -I"/home/biocbuild/bbs-3.22-bioc/R/include" -DNDEBUG  -I'/home/biocbuild/bbs-3.22-bioc/R/site-library/Rcpp/include' -I/usr/local/include    -fpic  -g -O2  -Wall -Werror=format-security -c FitnessLandscape/generalized_chain.c -o FitnessLandscape/generalized_chain.o
gcc -std=gnu2x -I"/home/biocbuild/bbs-3.22-bioc/R/include" -DNDEBUG  -I'/home/biocbuild/bbs-3.22-bioc/R/site-library/Rcpp/include' -I/usr/local/include    -fpic  -g -O2  -Wall -Werror=format-security -c FitnessLandscape/LinearAlgebra.c -o FitnessLandscape/LinearAlgebra.o
gcc -std=gnu2x -I"/home/biocbuild/bbs-3.22-bioc/R/include" -DNDEBUG  -I'/home/biocbuild/bbs-3.22-bioc/R/site-library/Rcpp/include' -I/usr/local/include    -fpic  -g -O2  -Wall -Werror=format-security -c FitnessLandscape/summary_statistics.c -o FitnessLandscape/summary_statistics.o
gcc -std=gnu2x -I"/home/biocbuild/bbs-3.22-bioc/R/include" -DNDEBUG  -I'/home/biocbuild/bbs-3.22-bioc/R/site-library/Rcpp/include' -I/usr/local/include    -fpic  -g -O2  -Wall -Werror=format-security -c FitnessLandscape/epistasis_type.c -o FitnessLandscape/epistasis_type.o
gcc -std=gnu2x -I"/home/biocbuild/bbs-3.22-bioc/R/include" -DNDEBUG  -I'/home/biocbuild/bbs-3.22-bioc/R/site-library/Rcpp/include' -I/usr/local/include    -fpic  -g -O2  -Wall -Werror=format-security -c FitnessLandscape/decomposition.c -o FitnessLandscape/decomposition.o
gcc -std=gnu2x -I"/home/biocbuild/bbs-3.22-bioc/R/include" -DNDEBUG  -I'/home/biocbuild/bbs-3.22-bioc/R/site-library/Rcpp/include' -I/usr/local/include    -fpic  -g -O2  -Wall -Werror=format-security -c FitnessLandscape/models.c -o FitnessLandscape/models.o
gcc -std=gnu2x -I"/home/biocbuild/bbs-3.22-bioc/R/include" -DNDEBUG  -I'/home/biocbuild/bbs-3.22-bioc/R/site-library/Rcpp/include' -I/usr/local/include    -fpic  -g -O2  -Wall -Werror=format-security -c FitnessLandscape/verbose.c -o FitnessLandscape/verbose.o
ar -r liblandscape.a FitnessLandscape/gamma.o FitnessLandscape/landscape.o FitnessLandscape/random.o FitnessLandscape/sort.o FitnessLandscape/chain.o FitnessLandscape/input.o FitnessLandscape/genotypes.o FitnessLandscape/ordered_pairs.o FitnessLandscape/calculus.o FitnessLandscape/vector.o FitnessLandscape/generalized_chain.o FitnessLandscape/LinearAlgebra.o FitnessLandscape/summary_statistics.o FitnessLandscape/epistasis_type.o FitnessLandscape/decomposition.o FitnessLandscape/models.o FitnessLandscape/verbose.o ;
ar: creating liblandscape.a
ranlib liblandscape.a;
gcc -std=gnu2x -O -Wall -o fl_statistics -I/FitnessLandscape/. -L. FitnessLandscape/main_fl_statistics.c -llandscape -lm;
gcc -std=gnu2x -O -Wall -o fl_generate -I/FitnessLandscape/. -L. FitnessLandscape/main_fl_generate.c -llandscape -lm;
gcc -std=gnu2x -I"/home/biocbuild/bbs-3.22-bioc/R/include" -DNDEBUG  -I'/home/biocbuild/bbs-3.22-bioc/R/site-library/Rcpp/include' -I/usr/local/include    -fpic  -g -O2  -Wall -Werror=format-security -c OncoSimulR_init.c -o OncoSimulR_init.o
g++ -std=gnu++17 -I"/home/biocbuild/bbs-3.22-bioc/R/include" -DNDEBUG  -I'/home/biocbuild/bbs-3.22-bioc/R/site-library/Rcpp/include' -I/usr/local/include    -fpic  -g -O2  -Wall -Werror=format-security  -c RcppExports.cpp -o RcppExports.o
g++ -std=gnu++17 -I"/home/biocbuild/bbs-3.22-bioc/R/include" -DNDEBUG  -I'/home/biocbuild/bbs-3.22-bioc/R/site-library/Rcpp/include' -I/usr/local/include    -fpic  -g -O2  -Wall -Werror=format-security  -c unity_osimul.cpp -o unity_osimul.o
g++ -std=gnu++17 -shared -L/home/biocbuild/bbs-3.22-bioc/R/lib -L/usr/local/lib -o OncoSimulR.so OncoSimulR_init.o RcppExports.o unity_osimul.o -L/home/biocbuild/bbs-3.22-bioc/R/lib -lR
installing via 'install.libs.R' to /home/biocbuild/bbs-3.22-bioc/R/site-library/00LOCK-OncoSimulR/00new/OncoSimulR
[1] ""
Installing fl_statistics fl_generate to /home/biocbuild/bbs-3.22-bioc/R/site-library/00LOCK-OncoSimulR/00new/OncoSimulR/exec
Installing library OncoSimulR.so to /home/biocbuild/bbs-3.22-bioc/R/site-library/00LOCK-OncoSimulR/00new/OncoSimulR/libs
** R
** data
** inst
** byte-compile and prepare package for lazy loading
** help
*** installing help indices
** building package indices
** installing vignettes
** testing if installed package can be loaded from temporary location
** checking absolute paths in shared objects and dynamic libraries
** testing if installed package can be loaded from final location
** testing if installed package keeps a record of temporary installation path
* DONE (OncoSimulR)

Tests output

OncoSimulR.Rcheck/tests/testthat.Rout


R version 4.5.1 Patched (2025-08-23 r88802) -- "Great Square Root"
Copyright (C) 2025 The R Foundation for Statistical Computing
Platform: x86_64-pc-linux-gnu

R is free software and comes with ABSOLUTELY NO WARRANTY.
You are welcome to redistribute it under certain conditions.
Type 'license()' or 'licence()' for distribution details.

R is a collaborative project with many contributors.
Type 'contributors()' for more information and
'citation()' on how to cite R or R packages in publications.

Type 'demo()' for some demos, 'help()' for on-line help, or
'help.start()' for an HTML browser interface to help.
Type 'q()' to quit R.

> library(testthat)
> library(OncoSimulR)
This is package OncoSimulR. If you are running it on an aarch64 (arm64) platform with a MacOS note that the package fails some tests in that platform + OS that I have no way of debugging. Please read file README_tests_kjohnson3_aarch64-apple-darwin20.txt in the tests directory. As of 2024-10-09, this platform is unsupported until we can properly debug it.
> 
> test_check("OncoSimulR")

 Starting FDF-letter-fitness-order Sat Nov 15 02:37:15 2025 

exprtk parser error: 

Error[00] Position: 00 Type: [  Syntax Error] Msg: ERR202 - Undefined symbol: 'n_2_3' Expression: n_2_3

exprtk parser error: 

Error[00] Position: 00 Type: [  Syntax Error] Msg: ERR202 - Undefined symbol: 'f_2_3' Expression: f_2_3

 Ending FDF-small-fitness-specs Sat Nov 15 02:37:15 2025 
  Took  0.44 


 Starting LOD_POM at Sat Nov 15 02:37:15 2025 

 Ending LOD_POM at Sat Nov 15 02:37:28 2025 
  Took  13.07 


 Starting test.Z-all-fitness at Sat Nov 15 02:37:28 2025 

 Ending test.Z-all-fitness at Sat Nov 15 02:37:29 2025 
  Took  0.09 


 Starting test.Z-driver-counts at Sat Nov 15 02:37:29 2025 

 Ending test.Z-driver-counts at Sat Nov 15 02:37:29 2025 
  Took  0.1 


 Starting test.Z-fixation at Sat Nov 15 02:37:29 2025 

 Ending test.Z-fixation at Sat Nov 15 02:37:29 2025 
  Took  0.2 


 Starting test.Z-magellan at Sat Nov 15 02:37:29 2025 

 Ended test.Z-magellan at Sat Nov 15 02:37:30 2025 

 Starting test.Z-mutator at Sat Nov 15 02:37:30 2025 

 Ending test.Z-mutator at Sat Nov 15 02:37:31 2025 
  Took  0.32 


 Starting test.Z-mutatorFDF at Sat Nov 15 02:37:31 2025 

 Ending test.Z-mutatorFDF at Sat Nov 15 02:37:31 2025 
  Took  0.09 


 Starting test.Z-oncoSimulIndiv at Sat Nov 15 02:37:31 2025 

 Ending test.Z-oncoSimulIndiv at Sat Nov 15 02:37:31 2025 
  Took  0.34 


 Starting test.Z-oncoSimulIndivConstant at Sat Nov 15 02:37:31 2025 

 Ending test.Z-oncoSimulIndivConstant at Sat Nov 15 02:37:33 2025 
  Took  2.21 


 Starting test.Z-oncoSimulIndivDeath at Sat Nov 15 02:37:33 2025 


 Ending test.Z-oncoSimulIndivDeath at Sat Nov 15 02:37:34 2025 
  Took  0.72 


 Starting test.Z-oncoSimulIndivFDF at Sat Nov 15 02:37:34 2025 

 Hitted wall time. Exiting.
 Hitting wall time is regarded as an error. 

 Ending test.Z-oncoSimulIndivFDF at Sat Nov 15 02:37:35 2025 
  Took  0.41 


 Starting test.Z-rfitness-landscape at Sat Nov 15 02:37:35 2025 

 Ending test.Z-rfitness-landscape at Sat Nov 15 02:37:35 2025 
  Took  0.3 


 Starting Z-sample-only-last tests Sat Nov 15 02:37:35 2025 

 Ending Z-sample-only-last tests Sat Nov 15 02:37:35 2025 
  Took  0 


 Starting Z-total-present-drivers tests Sat Nov 15 02:37:35 2025 

 Ending Z-total-present-drivers tests Sat Nov 15 02:37:36 2025 
  Took  0.75 


 Dummy empty test  Sat Nov 15 02:37:36 2025 

 Starting accessible_genotypes at Sat Nov 15 02:37:36 2025 

 Ending accessible_genotypes at Sat Nov 15 02:37:42 2025 
  Took  6.37 


 Starting all fitness at Sat Nov 15 02:37:42 2025
 Ending all-fitness at Sat Nov 15 02:37:46 2025 
  Took  4.16 


 Starting test.allFitnessEffectsFDF at Sat Nov 15 02:37:46 2025 

 Ending test.allFitnessEffectsFDF at Sat Nov 15 02:37:46 2025 
  Took  0.11 


 Starting test.allFitnessEffectsDeath at Sat Nov 15 02:37:46 2025 

 Ending test.allFitnessEffectsDeath at Sat Nov 15 02:37:47 2025 
  Took  0.34 


 Starting test.allFitnessEffectsFDF at Sat Nov 15 02:37:47 2025 

 Ending test.allFitnessEffectsFDF at Sat Nov 15 02:37:47 2025 
  Took  0.34 


 Starting driverCounts at Sat Nov 15 02:37:47 2025
 Ending driverCounts at Sat Nov 15 02:37:54 2025 
  Took  6.62 


 Starting epist-order-modules at Sat Nov 15 02:37:54 2025
 Ending epist-order-modules at Sat Nov 15 02:37:54 2025 
  Took  0.05 


 Starting test.evaluatingGenotypesDeath at Sat Nov 15 02:37:54 2025 

 Ending test.evaluatingGenotypesDeath at Sat Nov 15 02:37:54 2025 
  Took  0.16 


 Starting test.evaluatingGenotypesFDF at Sat Nov 15 02:37:54 2025 

 Ending test.evaluatingGenotypesFDF at Sat Nov 15 02:37:54 2025 
  Took  0.18 


 Starting exercise-plotting-code at Sat Nov 15 02:37:54 2025
 Ending exercise-plotting-code at Sat Nov 15 02:37:56 2025 
  Took  2.37 


 Starting exercise-rfitness at Sat Nov 15 02:37:56 2025 

 Ending exercise-rfitness at Sat Nov 15 02:38:04 2025 
  Took  7.94 


 Starting to_Magella at Sat Nov 15 02:38:04 2025 

 Ending to_Magella at Sat Nov 15 02:38:04 2025 
  Took  0.03 


 Starting fitness preds at Sat Nov 15 02:38:04 2025 

 Observed vs expected, case III

 done tries 1 

 Ending fitness preds long at Sat Nov 15 02:38:09 2025 
  Took  4.75 


 Starting fixation  at Sat Nov 15 02:38:09 2025 

 Ending fixation  at Sat Nov 15 02:38:20 2025 
  Took  10.99 


 Starting test.flfast-additional.R test at Sat Nov 15 02:38:20 2025
 Ending test.flfast-additional.R test at Sat Nov 15 02:38:21 2025 
  Took  1.33 


 Starting test.flfast-mutator.R test at Sat Nov 15 02:38:21 2025
 Finished test.flfast-mutator.R test at Sat Nov 15 02:38:23 2025 
  Took  1.21 


 Starting genotFitness at Sat Nov 15 02:38:23 2025 

 Ending genotFitness at Sat Nov 15 02:38:23 2025 
  Took  0.19 


 Starting genot_fitness_to_epistasis at Sat Nov 15 02:38:23 2025 

 Ending genot_fitness_to_epistasis at Sat Nov 15 02:38:23 2025 
  Took  0.04 


 Starting init-mutant tests Sat Nov 15 02:38:23 2025 

exprtk parser error: 

Error[00] Position: 18 Type: [  Syntax Error] Msg: ERR202 - Undefined symbol: 'f_2' Expression: 1.1 + 0.7*((f_1 + f_2) > 0.3)

 Ending init-mutant tests Sat Nov 15 02:38:28 2025 
  Took  5.31 


 Starting interventions tests Sat Nov 15 02:38:28 2025 
[1] "Checking intervention: intOverA"
[1] "Checking intervention: intOverA"
[1] "Checking intervention: intOverA"
[1] "Checking intervention: intOverA"
[1] "Checking intervention: intOverMultiplicatesA"
In intervention:intOverMultiplicatesA with WhatHappens: n_1 = n_1 * 2. You cannot intervene to generate more population.[1] "Checking intervention: intOverA"
[1] "Checking intervention: intOverA"
[1] "Checking intervention: intOverTotPop"
[1] 0.76 0.76 0.76
[1] "Checking intervention: intOverTotPop"
[1] "Checking intervention: intOverA"
[1] "Checking intervention: intOverB"
[1] "Checking intervention: intOverC"
[1] "Checking intervention: intOverD"
Init Mutant with birth == 1.0
Init Mutant with birth == 1.0
[1] "Checking intervention: intOverA"
[1] "Checking intervention: intOverB"
[1] "Checking intervention: intOverC"
[1] "Checking intervention: intOverD"
Init Mutant with birth == 1.0
Init Mutant with birth == 1.0
[1] "Checking user variable: user_var_1"
[1] "Checking rule: rule_1"
[1] "Checking rule: rule_2"
[1] "Checking rule: rule_3"
[1] "Checking intervention: intOverTotPop"
[1] "Checking intervention: intOverTotPop2"
[1] "Checking intervention: intOverTotPop3"
[1] "Checking user variable: user_var_1"
[1] "Checking rule: rule_1"
[1] "Checking rule: rule_2"
[1] "Checking rule: rule_3"
[1] "Checking intervention: intOverTotPop"

 Ending interventions tests Sat Nov 15 02:38:32 2025 
  Took  4.04 


 Starting test.magellan at Sat Nov 15 02:38:32 2025 

 Ending test.magellan at Sat Nov 15 02:38:32 2025 
  Took  0.13 


 Starting test.modules-root-no-root at Sat Nov 15 02:38:32 2025 

 Ending test.modules-root-no-root at Sat Nov 15 02:38:32 2025 
  Took  0.08 


 Starting at mutPropGrowth  Sat Nov 15 02:38:32 2025 

 Ended test.mutPropGrowth:  Sat Nov 15 02:38:38 2025 
  Took  5.31 


 Starting test.mutator-oncoSimulSample.R test at Sat Nov 15 02:38:38 2025 

 Finished test.mutator-oncoSimulSample.R test at Sat Nov 15 02:38:45 2025 
  Took  7.41 seconds 


 Starting test.mutator.R test at Sat Nov 15 02:38:45 2025[1] 8.123212e-11
[1] 2.849107e-14

 Finished test.mutator.R test at Sat Nov 15 02:38:57 2025 
  Took  11.3 


 Starting test.mutatorFDF.R test at Sat Nov 15 02:38:57 2025
 Starting oncoSimulIndiv-miscell tests Sat Nov 15 02:38:57 2025 

 Ending oncoSimulIndiv-miscell tests Sat Nov 15 02:39:01 2025 
  Took  4.08 


 Starting oncoSimulSample-failures tests Sat Nov 15 02:39:01 2025 

 Ending oncoSimulSample-failures tests Sat Nov 15 02:39:05 2025 
  Took  3.45 


 Starting oncoSimulSample-limits tests Sat Nov 15 02:39:05 2025 

 Ending oncoSimulSample-limits tests Sat Nov 15 02:39:05 2025 
  Took  0.06 


 Starting per-gene-mutation rates at Sat Nov 15 02:39:05 2025 

 Ending per-gene-mutation rates at Sat Nov 15 02:39:28 2025 
  Took  22.9 


 Starting plotFitnessLandscape at Sat Nov 15 02:39:28 2025
 Ending plotFitnessLandscape at Sat Nov 15 02:39:31 2025 
  Took  3.25 


 Starting poset-transformations tests Sat Nov 15 02:39:31 2025 

 Ending poset-transformations tests Sat Nov 15 02:39:40 2025 
  Took  9.52 


 Starting sample-prob Sat Nov 15 02:39:40 2025 
[1] 2.563383e-21
[1] 5.203461e-14
[1] 1.506153e-07
[1] 1.223091e-11
[1] 5.731956e-11
[1] 3.574331e-16
[1] 7.479804e-10
[1] 1.588342e-12
[1] 1.035951e-09
[1] 6.314395e-08
[1] 9.42543e-08
[1] 2.066925e-09

 Ending sample-prob tests Sat Nov 15 02:39:45 2025 
 Took  5.01 



 Starting samplePop tests Sat Nov 15 02:39:45 2025 

 Ending samplePop tests Sat Nov 15 02:39:49 2025 
  Took  3.38 


 Starting simuls-runs-examples tests Sat Nov 15 02:39:49 2025 

 Ending simuls-runs-examples tests Sat Nov 15 02:39:54 2025 
  Took  5.49 


 Starting user variable tests Sat Nov 15 02:39:54 2025 
[1] "Checking user variable: user_var_1"
[1] "Checking rule: rule_1"

 Ending user variable tests Sat Nov 15 02:39:54 2025 
  Took  0.09 


 Starting warning-mutPropGrowth tests Sat Nov 15 02:39:54 2025 

 Ending warning-mutPropGrowth tests Sat Nov 15 02:39:55 2025 
  Took  0.36 


 Starting wide2long tests Sat Nov 15 02:39:55 2025 

 Ending wide2long tests Sat Nov 15 02:39:55 2025 
  Took  0.18 

[ FAIL 0 | WARN 19 | SKIP 6 | PASS 8421 ]

══ Skipped tests (6) ═══════════════════════════════════════════════════════════
• empty test (6): 'test.FDF-letter-fitness-order.R:376:1', ,
  'test.ZZ-dummy-skip-warn-test.R:8:1', 'test.ZZ-dummy-skip-warn-test.R:12:1',
  'test.fixation.R:4:1', 'test.init-mutant.R:1099:1'

[ FAIL 0 | WARN 19 | SKIP 6 | PASS 8421 ]
> 
> proc.time()
   user  system elapsed 
178.996  31.289 164.478 

Example timings

OncoSimulR.Rcheck/OncoSimulR-Ex.timings

nameusersystemelapsed
OncoSimulWide2Long0.1280.0010.131
POM0.5780.0570.468
allFitnessEffects1.9760.0702.048
benchmarks0.0060.0010.007
createInterventions0.2740.0010.275
createUserVars0.4300.0000.429
evalAllGenotypes0.1740.0040.179
example-missing-drivers0.2020.0060.208
examplePosets0.2330.0020.235
examplesFitnessEffects0.0710.0020.072
freq-dep-simul-examples0.0090.0000.009
mcfLs000
oncoSimulIndiv0.8540.0990.887
plot.fitnessEffects0.2470.0460.295
plot.oncosimul0.4040.0210.426
plotClonePhylog1.2100.0871.297
plotFitnessLandscape1.4120.0671.479
plotPoset0.0780.0050.083
poset0.1080.0020.109
rfitness0.7510.0030.753
samplePop0.0480.0720.078
simOGraph0.0520.0150.066
to_Magellan0.1750.0330.206
vignette_pre_computed0.0050.0020.007