| Back to Multiple platform build/check report for BioC 3.22: simplified long |
|
This page was generated on 2025-11-20 12:05 -0500 (Thu, 20 Nov 2025).
| Hostname | OS | Arch (*) | R version | Installed pkgs |
|---|---|---|---|---|
| nebbiolo2 | Linux (Ubuntu 24.04.3 LTS) | x86_64 | 4.5.2 (2025-10-31) -- "[Not] Part in a Rumble" | 4615 |
| merida1 | macOS 12.7.6 Monterey | x86_64 | 4.5.2 Patched (2025-11-05 r88990) -- "[Not] Part in a Rumble" | 4610 |
| kjohnson1 | macOS 13.7.5 Ventura | arm64 | 4.5.2 Patched (2025-11-04 r88984) -- "[Not] Part in a Rumble" | 4598 |
| taishan | Linux (openEuler 24.03 LTS) | aarch64 | 4.5.0 (2025-04-11) -- "How About a Twenty-Six" | 4668 |
| Click on any hostname to see more info about the system (e.g. compilers) (*) as reported by 'uname -p', except on Windows and Mac OS X | ||||
| Package 1439/2361 | Hostname | OS / Arch | INSTALL | BUILD | CHECK | BUILD BIN | ||||||||
| NanoMethViz 3.6.0 (landing page) Shian Su
| nebbiolo2 | Linux (Ubuntu 24.04.3 LTS) / x86_64 | OK | OK | OK | |||||||||
| merida1 | macOS 12.7.6 Monterey / x86_64 | OK | OK | OK | OK | |||||||||
| kjohnson1 | macOS 13.7.5 Ventura / arm64 | OK | OK | OK | OK | |||||||||
| taishan | Linux (openEuler 24.03 LTS) / aarch64 | OK | OK | OK | ||||||||||
|
To the developers/maintainers of the NanoMethViz package: - Allow up to 24 hours (and sometimes 48 hours) for your latest push to git@git.bioconductor.org:packages/NanoMethViz.git to reflect on this report. See Troubleshooting Build Report for more information. - Use the following Renviron settings to reproduce errors and warnings. - If 'R CMD check' started to fail recently on the Linux builder(s) over a missing dependency, add the missing dependency to 'Suggests:' in your DESCRIPTION file. See Renviron.bioc for more information. |
| Package: NanoMethViz |
| Version: 3.6.0 |
| Command: /Library/Frameworks/R.framework/Resources/bin/R CMD check --install=check:NanoMethViz.install-out.txt --library=/Library/Frameworks/R.framework/Resources/library --no-vignettes --timings NanoMethViz_3.6.0.tar.gz |
| StartedAt: 2025-11-18 11:09:42 -0500 (Tue, 18 Nov 2025) |
| EndedAt: 2025-11-18 11:33:56 -0500 (Tue, 18 Nov 2025) |
| EllapsedTime: 1453.6 seconds |
| RetCode: 0 |
| Status: OK |
| CheckDir: NanoMethViz.Rcheck |
| Warnings: 0 |
##############################################################################
##############################################################################
###
### Running command:
###
### /Library/Frameworks/R.framework/Resources/bin/R CMD check --install=check:NanoMethViz.install-out.txt --library=/Library/Frameworks/R.framework/Resources/library --no-vignettes --timings NanoMethViz_3.6.0.tar.gz
###
##############################################################################
##############################################################################
* using log directory ‘/Users/biocbuild/bbs-3.22-bioc/meat/NanoMethViz.Rcheck’
* using R version 4.5.2 Patched (2025-11-05 r88990)
* using platform: x86_64-apple-darwin20
* R was compiled by
Apple clang version 14.0.0 (clang-1400.0.29.202)
GNU Fortran (GCC) 14.2.0
* running under: macOS Monterey 12.7.6
* using session charset: UTF-8
* using option ‘--no-vignettes’
* checking for file ‘NanoMethViz/DESCRIPTION’ ... OK
* checking extension type ... Package
* this is package ‘NanoMethViz’ version ‘3.6.0’
* package encoding: UTF-8
* checking package namespace information ... OK
* checking package dependencies ... INFO
Imports includes 31 non-default packages.
Importing from so many packages makes the package vulnerable to any of
them becoming unavailable. Move as many as possible to Suggests and
use conditionally.
* checking if this is a source package ... OK
* checking if there is a namespace ... OK
* checking for hidden files and directories ... OK
* checking for portable file names ... OK
* checking for sufficient/correct file permissions ... OK
* checking whether package ‘NanoMethViz’ can be installed ... OK
* used C++ compiler: ‘Apple clang version 14.0.0 (clang-1400.0.29.202)’
* used SDK: ‘MacOSX11.3.1.sdk’
* checking C++ specification ... OK
Not all R platforms support C++20
* checking installed package size ... INFO
installed size is 13.6Mb
* checking package directory ... OK
* checking ‘build’ directory ... OK
* checking DESCRIPTION meta-information ... OK
* checking top-level files ... OK
* checking for left-over files ... OK
* checking index information ... OK
* checking package subdirectories ... OK
* checking code files for non-ASCII characters ... OK
* checking R files for syntax errors ... OK
* checking whether the package can be loaded ... OK
* checking whether the package can be loaded with stated dependencies ... OK
* checking whether the package can be unloaded cleanly ... OK
* checking whether the namespace can be loaded with stated dependencies ... OK
* checking whether the namespace can be unloaded cleanly ... OK
* checking whether startup messages can be suppressed ... OK
* checking dependencies in R code ... OK
* checking S3 generic/method consistency ... OK
* checking replacement functions ... OK
* checking foreign function calls ... OK
* checking R code for possible problems ... NOTE
reformat_modkit: no visible binding for global variable ‘ref_position’
Undefined global functions or variables:
ref_position
* checking Rd files ... OK
* checking Rd metadata ... OK
* checking Rd cross-references ... OK
* checking for missing documentation entries ... OK
* checking for code/documentation mismatches ... OK
* checking Rd \usage sections ... OK
* checking Rd contents ... OK
* checking for unstated dependencies in examples ... OK
* checking line endings in C/C++/Fortran sources/headers ... OK
* checking line endings in Makefiles ... OK
* checking compilation flags in Makevars ... OK
* checking for GNU extensions in Makefiles ... OK
* checking for portable use of $(BLAS_LIBS) and $(LAPACK_LIBS) ... OK
* checking use of PKG_*FLAGS in Makefiles ... OK
* checking compiled code ... NOTE
Note: information on .o files is not available
* checking files in ‘vignettes’ ... OK
* checking examples ... OK
Examples with CPU (user + system) or elapsed time > 5s
user system elapsed
get_exons 136.009 7.925 146.824
filter_methy 69.927 6.460 77.377
get_exons_homo_sapiens 57.181 2.207 60.199
get_exons_mus_musculus 24.603 1.455 27.177
plot_gene 22.645 0.465 24.261
plot_gene_heatmap 19.925 0.202 24.126
plot_region 17.091 0.812 18.428
plot_grange 16.975 0.147 19.759
plot_grange_heatmap 14.165 0.125 16.543
plot_region_heatmap 13.541 0.200 13.871
plot_agg_regions 13.285 0.171 13.660
plot_agg_genes 11.197 0.126 11.378
NanoMethResult-class 8.326 1.576 10.458
cluster_regions 7.117 0.141 7.344
plot_violin 5.440 0.060 5.985
create_tabix_file 4.307 0.600 5.144
* checking for unstated dependencies in ‘tests’ ... OK
* checking tests ...
Running ‘testthat.R’
OK
* checking for unstated dependencies in vignettes ... OK
* checking package vignettes ... OK
* checking running R code from vignettes ... SKIPPED
* checking re-building of vignette outputs ... SKIPPED
* checking PDF version of manual ... OK
* DONE
Status: 2 NOTEs
See
‘/Users/biocbuild/bbs-3.22-bioc/meat/NanoMethViz.Rcheck/00check.log’
for details.
NanoMethViz.Rcheck/00install.out
##############################################################################
##############################################################################
###
### Running command:
###
### /Library/Frameworks/R.framework/Resources/bin/R CMD INSTALL NanoMethViz
###
##############################################################################
##############################################################################
* installing to library ‘/Library/Frameworks/R.framework/Versions/4.5-x86_64/Resources/library’
* installing *source* package ‘NanoMethViz’ ...
** this is package ‘NanoMethViz’ version ‘3.6.0’
** using staged installation
** libs
using C++ compiler: ‘Apple clang version 14.0.0 (clang-1400.0.29.202)’
using C++20
using SDK: ‘MacOSX11.3.1.sdk’
clang++ -arch x86_64 -std=gnu++20 -I"/Library/Frameworks/R.framework/Resources/include" -DNDEBUG -I'/Library/Frameworks/R.framework/Versions/4.5-x86_64/Resources/library/Rcpp/include' -I/opt/R/x86_64/include -fPIC -falign-functions=64 -Wall -g -O2 -c RcppExports.cpp -o RcppExports.o
clang++ -arch x86_64 -std=gnu++20 -I"/Library/Frameworks/R.framework/Resources/include" -DNDEBUG -I'/Library/Frameworks/R.framework/Versions/4.5-x86_64/Resources/library/Rcpp/include' -I/opt/R/x86_64/include -fPIC -falign-functions=64 -Wall -g -O2 -c convert_methy_to_dss.cpp -o convert_methy_to_dss.o
clang++ -arch x86_64 -std=gnu++20 -I"/Library/Frameworks/R.framework/Resources/include" -DNDEBUG -I'/Library/Frameworks/R.framework/Versions/4.5-x86_64/Resources/library/Rcpp/include' -I/opt/R/x86_64/include -fPIC -falign-functions=64 -Wall -g -O2 -c count_cg.cpp -o count_cg.o
clang++ -arch x86_64 -std=gnu++20 -I"/Library/Frameworks/R.framework/Resources/include" -DNDEBUG -I'/Library/Frameworks/R.framework/Versions/4.5-x86_64/Resources/library/Rcpp/include' -I/opt/R/x86_64/include -fPIC -falign-functions=64 -Wall -g -O2 -c genome.cpp -o genome.o
genome.cpp:43:21: warning: unused variable 'chrom_view' [-Wunused-variable]
string_view chrom_view = this->bases_at(chrom, motif_start, motif_end);
^
1 warning generated.
clang++ -arch x86_64 -std=gnu++20 -I"/Library/Frameworks/R.framework/Resources/include" -DNDEBUG -I'/Library/Frameworks/R.framework/Versions/4.5-x86_64/Resources/library/Rcpp/include' -I/opt/R/x86_64/include -fPIC -falign-functions=64 -Wall -g -O2 -c modbam.cpp -o modbam.o
clang++ -arch x86_64 -std=gnu++20 -I"/Library/Frameworks/R.framework/Resources/include" -DNDEBUG -I'/Library/Frameworks/R.framework/Versions/4.5-x86_64/Resources/library/Rcpp/include' -I/opt/R/x86_64/include -fPIC -falign-functions=64 -Wall -g -O2 -c utils.cpp -o utils.o
clang++ -arch x86_64 -std=gnu++20 -dynamiclib -Wl,-headerpad_max_install_names -undefined dynamic_lookup -L/Library/Frameworks/R.framework/Resources/lib -L/opt/R/x86_64/lib -o NanoMethViz.so RcppExports.o convert_methy_to_dss.o count_cg.o genome.o modbam.o utils.o -lz -F/Library/Frameworks/R.framework/.. -framework R
installing to /Library/Frameworks/R.framework/Versions/4.5-x86_64/Resources/library/00LOCK-NanoMethViz/00new/NanoMethViz/libs
** R
** inst
** byte-compile and prepare package for lazy loading
** help
*** installing help indices
*** copying figures
** building package indices
** installing vignettes
** testing if installed package can be loaded from temporary location
** checking absolute paths in shared objects and dynamic libraries
** testing if installed package can be loaded from final location
** testing if installed package keeps a record of temporary installation path
* DONE (NanoMethViz)
NanoMethViz.Rcheck/tests/testthat.Rout
R version 4.5.2 Patched (2025-11-05 r88990) -- "[Not] Part in a Rumble"
Copyright (C) 2025 The R Foundation for Statistical Computing
Platform: x86_64-apple-darwin20
R is free software and comes with ABSOLUTELY NO WARRANTY.
You are welcome to redistribute it under certain conditions.
Type 'license()' or 'licence()' for distribution details.
R is a collaborative project with many contributors.
Type 'contributors()' for more information and
'citation()' on how to cite R or R packages in publications.
Type 'demo()' for some demos, 'help()' for on-line help, or
'help.start()' for an HTML browser interface to help.
Type 'q()' to quit R.
> library(testthat)
> library(NanoMethViz)
Loading required package: ggplot2
>
> test_check("NanoMethViz")
Starting 2 test processes.
> test-ModBamResults.R: Successfully created ModBamResult with 1 matched samples.
> test-NanoMethResults.R: Successfully matched 6 samples between data and annotation.
> test-ModBamResults.R: Successfully created ModBamResult with 1 matched samples.
> test-NanoMethResults.R: Successfully matched 6 samples between data and annotation.
> test-bsseq_to_edger.R: Successfully matched 6 samples between data and annotation.
> test-bsseq_to_edger.R: [2025-11-18 11:29:42] creating intermediate files...
> test-bsseq_to_edger.R: [2025-11-18 11:29:42] parsing chr11...
> test-bsseq_to_edger.R: [2025-11-18 11:29:43] parsing chr12...
> test-cluster_reads.R: Successfully created ModBamResult with 1 matched samples.
> test-bsseq_to_edger.R: [2025-11-18 11:29:43] parsing chr18...
> test-bsseq_to_edger.R: [2025-11-18 11:29:43] parsing chr5...
> test-bsseq_to_edger.R: [2025-11-18 11:29:43] parsing chr7...
> test-bsseq_to_edger.R: [2025-11-18 11:29:43] parsing chrX...
> test-bsseq_to_edger.R: [2025-11-18 11:29:43] samples found: B6Cast_Prom_3_cast B6Cast_Prom_2_bl6 B6Cast_Prom_3_bl6 B6Cast_Prom_1_cast B6Cast_Prom_2_cast B6Cast_Prom_1_bl6
> test-bsseq_to_edger.R: [2025-11-18 11:29:43] creating bsseq object...
> test-bsseq_to_edger.R: [2025-11-18 11:29:43] reading in parsed data...
> test-bsseq_to_edger.R: [2025-11-18 11:29:44] constructing matrices...
> test-bsseq_to_edger.R: [2025-11-18 11:29:44] done
> test-bsseq_to_edger.R: [2025-11-18 11:29:44] creating intermediate files...
> test-bsseq_to_edger.R: [2025-11-18 11:29:44] parsing chr11...
> test-bsseq_to_edger.R: [2025-11-18 11:29:45] parsing chr12...
> test-bsseq_to_edger.R: [2025-11-18 11:29:45] parsing chr18...
> test-bsseq_to_edger.R: [2025-11-18 11:29:45] parsing chr5...
> test-bsseq_to_edger.R: [2025-11-18 11:29:45] parsing chr7...
> test-bsseq_to_edger.R: [2025-11-18 11:29:45] parsing chrX...
> test-bsseq_to_edger.R: [2025-11-18 11:29:45] samples found: B6Cast_Prom_3_cast B6Cast_Prom_2_bl6 B6Cast_Prom_3_bl6 B6Cast_Prom_1_cast B6Cast_Prom_2_cast B6Cast_Prom_1_bl6
> test-bsseq_to_edger.R: [2025-11-18 11:29:45] creating bsseq object...
> test-bsseq_to_edger.R: [2025-11-18 11:29:45] reading in parsed data...
> test-bsseq_to_edger.R: [2025-11-18 11:29:46] constructing matrices...
> test-bsseq_to_edger.R: [2025-11-18 11:29:46] done
> test-bsseq_to_edger.R: [2025-11-18 11:29:46] creating intermediate files...
> test-bsseq_to_edger.R: [2025-11-18 11:29:46] parsing chr11...
> test-bsseq_to_edger.R: [2025-11-18 11:29:47] parsing chr12...
> test-bsseq_to_edger.R: [2025-11-18 11:29:47] parsing chr18...
> test-bsseq_to_edger.R: [2025-11-18 11:29:47] parsing chr5...
> test-bsseq_to_edger.R: [2025-11-18 11:29:47] parsing chr7...
> test-bsseq_to_edger.R: [2025-11-18 11:29:47] parsing chrX...
> test-bsseq_to_edger.R: [2025-11-18 11:29:47] samples found: B6Cast_Prom_3_cast B6Cast_Prom_2_bl6 B6Cast_Prom_3_bl6 B6Cast_Prom_1_cast B6Cast_Prom_2_cast B6Cast_Prom_1_bl6
> test-bsseq_to_edger.R: [2025-11-18 11:29:47] creating bsseq object...
> test-bsseq_to_edger.R: [2025-11-18 11:29:47] reading in parsed data...
> test-bsseq_to_edger.R: [2025-11-18 11:29:47] constructing matrices...
> test-bsseq_to_edger.R: [2025-11-18 11:29:48] done
> test-cluster_regions.R: Successfully matched 6 samples between data and annotation.
> test-filter_methy.R: Successfully matched 6 samples between data and annotation.
> test-methy_to_bsseq.R: Successfully matched 6 samples between data and annotation.
> test-methy_to_bsseq.R: [2025-11-18 11:30:02] creating intermediate files...
> test-methy_to_bsseq.R: [2025-11-18 11:30:02] parsing chr11...
> test-methy_to_bsseq.R: [2025-11-18 11:30:02] parsing chr12...
> test-methy_to_bsseq.R: [2025-11-18 11:30:02] parsing chr18...
> test-methy_to_bsseq.R: [2025-11-18 11:30:02] parsing chr5...
> test-methy_to_bsseq.R: [2025-11-18 11:30:02] parsing chr7...
> test-methy_to_bsseq.R: [2025-11-18 11:30:02] parsing chrX...
> test-methy_to_bsseq.R: [2025-11-18 11:30:03] samples found: B6Cast_Prom_3_cast B6Cast_Prom_2_bl6 B6Cast_Prom_3_bl6 B6Cast_Prom_1_cast B6Cast_Prom_2_cast B6Cast_Prom_1_bl6
> test-methy_to_bsseq.R: [2025-11-18 11:30:03] creating bsseq object...
> test-methy_to_bsseq.R: [2025-11-18 11:30:03] reading in parsed data...
> test-methy_to_bsseq.R: [2025-11-18 11:30:03] constructing matrices...
> test-methy_to_bsseq.R: [2025-11-18 11:30:03] done
> test-methy_to_bsseq.R: [2025-11-18 11:30:03] creating intermediate files...
> test-methy_to_bsseq.R: [2025-11-18 11:30:03] parsing chr11...
> test-methy_to_bsseq.R: [2025-11-18 11:30:04] parsing chr12...
> test-methy_to_bsseq.R: [2025-11-18 11:30:04] parsing chr18...
> test-methy_to_bsseq.R: [2025-11-18 11:30:04] parsing chr5...
> test-methy_to_bsseq.R: [2025-11-18 11:30:04] parsing chr7...
> test-methy_to_bsseq.R: [2025-11-18 11:30:04] parsing chrX...
> test-methy_to_bsseq.R: [2025-11-18 11:30:04] samples found: B6Cast_Prom_3_cast B6Cast_Prom_2_bl6 B6Cast_Prom_3_bl6 B6Cast_Prom_1_cast B6Cast_Prom_2_cast B6Cast_Prom_1_bl6
> test-methy_to_bsseq.R: [2025-11-18 11:30:04] creating bsseq object...
> test-methy_to_bsseq.R: [2025-11-18 11:30:04] reading in parsed data...
> test-methy_to_bsseq.R: [2025-11-18 11:30:05] constructing matrices...
> test-methy_to_bsseq.R: [2025-11-18 11:30:06] done
> test-methy_to_bsseq.R: [2025-11-18 11:30:06] creating intermediate files...
> test-methy_to_bsseq.R: [2025-11-18 11:30:06] parsing chr11...
> test-methy_to_bsseq.R: [2025-11-18 11:30:06] parsing chr12...
> test-methy_to_bsseq.R: [2025-11-18 11:30:06] parsing chr18...
> test-methy_to_bsseq.R: [2025-11-18 11:30:06] parsing chr5...
> test-methy_to_bsseq.R: [2025-11-18 11:30:06] parsing chr7...
> test-methy_to_bsseq.R: [2025-11-18 11:30:06] parsing chrX...
> test-methy_to_bsseq.R: [2025-11-18 11:30:07] samples found: B6Cast_Prom_3_cast B6Cast_Prom_2_bl6 B6Cast_Prom_3_bl6 B6Cast_Prom_1_cast B6Cast_Prom_2_cast B6Cast_Prom_1_bl6
> test-methy_to_bsseq.R: [2025-11-18 11:30:07] creating bsseq object...
> test-methy_to_bsseq.R: [2025-11-18 11:30:07] reading in parsed data...
> test-methy_to_bsseq.R: [2025-11-18 11:30:07] constructing matrices...
> test-methy_to_bsseq.R: [2025-11-18 11:30:08] done
> test-methy_to_bsseq.R: Successfully matched 6 samples between data and annotation.
> test-methy_to_bsseq.R: [2025-11-18 11:30:09] creating intermediate files...
> test-methy_to_bsseq.R: [2025-11-18 11:30:09] parsing chr11...
> test-methy_to_bsseq.R: [2025-11-18 11:30:09] parsing chr12...
> test-methy_to_bsseq.R: [2025-11-18 11:30:09] parsing chr18...
> test-methy_to_bsseq.R: [2025-11-18 11:30:09] parsing chr5...
> test-methy_to_bsseq.R: [2025-11-18 11:30:09] parsing chr7...
> test-methy_to_bsseq.R: [2025-11-18 11:30:10] parsing chrX...
> test-methy_to_bsseq.R: [2025-11-18 11:30:10] samples found: B6Cast_Prom_3_cast B6Cast_Prom_2_bl6 B6Cast_Prom_3_bl6 B6Cast_Prom_1_cast B6Cast_Prom_2_cast B6Cast_Prom_1_bl6
> test-methy_to_bsseq.R: [2025-11-18 11:30:10] creating bsseq object...
> test-methy_to_bsseq.R: [2025-11-18 11:30:10] reading in parsed data...
> test-methy_to_bsseq.R: [2025-11-18 11:30:10] constructing matrices...
> test-methy_to_bsseq.R: [2025-11-18 11:30:11] done
> test-modbam_to_tabix.R: Successfully created ModBamResult with 1 matched samples.
> test-modbam_to_tabix.R: i Writing data to temporary file: /var/folders/v1/y6dg5h4n163dzmrfl6t_r548000...
> test-modbam_to_tabix.R: v Writing data to temporary file: /var/folders/v1/y6dg5h4n163dzmrfl6t_r548000...
> test-modbam_to_tabix.R:
> test-modbam_to_tabix.R: i Converting data to TSV
> test-modbam_to_tabix.R: v Converting data to TSV [1s]
> test-modbam_to_tabix.R:
> test-modbam_to_tabix.R: i Sorting data
> test-modbam_to_tabix.R: v Sorting data [200ms]
> test-modbam_to_tabix.R:
> test-modbam_to_tabix.R: i Compressing data
> test-modbam_to_tabix.R: i Moving data to final location: /var/folders/v1/y6dg5h4n163dzmrfl6t_r5480000gp/T//RtmplML7mt/filedd307c3e9a86.tsv.bgz
> test-modbam_to_tabix.R: i Compressing data
> test-modbam_to_tabix.R: v Compressing data [92ms]
> test-modbam_to_tabix.R:
> test-modbam_to_tabix.R: i Tabix file created: /var/folders/v1/y6dg5h4n163dzmrfl6t_r5480000gp/T//Rtmpl...
> test-modbam_to_tabix.R: v Tabix file created: /var/folders/v1/y6dg5h4n163dzmrfl6t_r5480000gp/T//Rtmpl...
> test-modbam_to_tabix.R:
> test-modbam_to_tabix.R: Rows: 10371 Columns: 6
> test-modbam_to_tabix.R: -- Column specification --------------------------------------------------------
> test-modbam_to_tabix.R: Delimiter: "\t"
> test-modbam_to_tabix.R: chr (4): sample, chr, strand, read_name
> test-modbam_to_tabix.R: dbl (2): pos, statistic
> test-modbam_to_tabix.R:
> test-modbam_to_tabix.R: i Use `spec()` to retrieve the full column specification for this data.
> test-modbam_to_tabix.R: i Specify the column types or set `show_col_types = FALSE` to quiet this message.
> test-modbam_to_tabix.R: Successfully created ModBamResult with 1 matched samples.
> test-plot_agg_genes.R: Successfully matched 6 samples between data and annotation.
> test-plot_agg_regions.R: Successfully matched 6 samples between data and annotation.
> test-plot_agg_regions.R: Successfully created ModBamResult with 1 matched samples.
> test-filter_methy.R: 21,798 of 224,267 (9.72%) entries kept after filtering
> test-filter_methy.R: results written to '/var/folders/v1/y6dg5h4n163dzmrfl6t_r5480000gp/T//RtmpAR6gKf/filedd33303b0283.tsv.bgz' along with index file '/var/folders/v1/y6dg5h4n163dzmrfl6t_r5480000gp/T//RtmpAR6gKf/filedd33303b0283.tsv.bgz.tbi'
> test-plot_agg_regions.R: Successfully matched 6 samples between data and annotation.
> test-plot_basic.R: Successfully matched 6 samples between data and annotation.
> test-plot_basic.R: Successfully created ModBamResult with 1 matched samples.
> test-plot_basic.R: Successfully created ModBamResult with 1 matched samples.
> test-filter_methy.R: 21,798 of 224,267 (9.72%) entries kept after filtering
> test-filter_methy.R: results written to '/var/folders/v1/y6dg5h4n163dzmrfl6t_r5480000gp/T//RtmpAR6gKf/filedd33303b0283.tsv.bgz' along with index file '/var/folders/v1/y6dg5h4n163dzmrfl6t_r5480000gp/T//RtmpAR6gKf/filedd33303b0283.tsv.bgz.tbi'
> test-filter_methy.R: 21,798 of 224,267 (9.72%) entries kept after filtering
> test-filter_methy.R: results written to '/var/folders/v1/y6dg5h4n163dzmrfl6t_r5480000gp/T//RtmpAR6gKf/filedd33303b0283.tsv.bgz' along with index file '/var/folders/v1/y6dg5h4n163dzmrfl6t_r5480000gp/T//RtmpAR6gKf/filedd33303b0283.tsv.bgz.tbi'
> test-plot_gene_heatmap.R: Successfully matched 6 samples between data and annotation.
> test-plot_gene_heatmap.R: Successfully matched 6 samples between data and annotation.
> test-plot_gene_heatmap.R: Successfully matched 6 samples between data and annotation.
> test-plot_gene_heatmap.R: Successfully matched 6 samples between data and annotation.
> test-plot_mds.R: Successfully matched 6 samples between data and annotation.
> test-plot_mds.R: [2025-11-18 11:32:05] creating intermediate files...
> test-plot_mds.R: [2025-11-18 11:32:05] parsing chr11...
> test-plot_mds.R: [2025-11-18 11:32:06] parsing chr12...
> test-plot_mds.R: [2025-11-18 11:32:06] parsing chr18...
> test-plot_mds.R: [2025-11-18 11:32:06] parsing chr5...
> test-plot_mds.R: [2025-11-18 11:32:06] parsing chr7...
> test-plot_mds.R: [2025-11-18 11:32:06] parsing chrX...
> test-plot_mds.R: [2025-11-18 11:32:06] samples found: B6Cast_Prom_3_cast B6Cast_Prom_2_bl6 B6Cast_Prom_3_bl6 B6Cast_Prom_1_cast B6Cast_Prom_2_cast B6Cast_Prom_1_bl6
> test-plot_mds.R: [2025-11-18 11:32:06] creating bsseq object...
> test-plot_mds.R: [2025-11-18 11:32:06] reading in parsed data...
> test-plot_mds.R: [2025-11-18 11:32:06] constructing matrices...
> test-plot_mds.R: [2025-11-18 11:32:07] done
> test-plot_methylation.R: Successfully matched 6 samples between data and annotation.
> test-plot_pca.R: Successfully matched 6 samples between data and annotation.
> test-plot_pca.R: [2025-11-18 11:32:15] creating intermediate files...
> test-plot_pca.R: [2025-11-18 11:32:15] parsing chr11...
> test-plot_pca.R: [2025-11-18 11:32:15] parsing chr12...
> test-plot_pca.R: [2025-11-18 11:32:15] parsing chr18...
> test-plot_pca.R: [2025-11-18 11:32:15] parsing chr5...
> test-plot_pca.R: [2025-11-18 11:32:15] parsing chr7...
> test-plot_pca.R: [2025-11-18 11:32:15] parsing chrX...
> test-plot_pca.R: [2025-11-18 11:32:15] samples found: B6Cast_Prom_3_cast B6Cast_Prom_2_bl6 B6Cast_Prom_3_bl6 B6Cast_Prom_1_cast B6Cast_Prom_2_cast B6Cast_Prom_1_bl6
> test-plot_pca.R: [2025-11-18 11:32:15] creating bsseq object...
> test-plot_pca.R: [2025-11-18 11:32:15] reading in parsed data...
> test-plot_pca.R: [2025-11-18 11:32:15] constructing matrices...
> test-plot_pca.R: [2025-11-18 11:32:16] done
> test-plot_region_heatmap.R: Successfully matched 6 samples between data and annotation.
> test-plot_region_heatmap.R: Successfully matched 6 samples between data and annotation.
> test-plot_region_heatmap.R: Successfully matched 6 samples between data and annotation.
> test-plot_region_heatmap.R: Successfully matched 6 samples between data and annotation.
> test-plot_region_heatmap.R: Successfully matched 6 samples between data and annotation.
> test-query_exons.R: Successfully matched 6 samples between data and annotation.
> test-query_exons.R: Successfully matched 6 samples between data and annotation.
> test-query_exons.R: Successfully matched 6 samples between data and annotation.
> test-query_exons.R: Successfully matched 6 samples between data and annotation.
> test-query_exons.R: Successfully matched 6 samples between data and annotation.
> test-query_exons.R: Successfully matched 6 samples between data and annotation.
> test-query_exons.R: Successfully matched 6 samples between data and annotation.
> test-query_exons.R: Successfully matched 6 samples between data and annotation.
> test-query_methy.R: Successfully matched 6 samples between data and annotation.
> test-query_methy.R: Successfully created ModBamResult with 1 matched samples.
> test-region_methy_stats.R: Successfully matched 6 samples between data and annotation.
> test-stack_interval.R: Successfully matched 6 samples between data and annotation.
> test-tabix_utils.R: processing /Library/Frameworks/R.framework/Versions/4.5-x86_64/Resources/library/NanoMethViz/sample1_nanopolish.tsv.gz...
> test-tabix_utils.R: guessing file is produced by nanopolish...
> test-tabix_utils.R: processing /Library/Frameworks/R.framework/Versions/4.5-x86_64/Resources/library/NanoMethViz/sample2_nanopolish.tsv.gz...
> test-tabix_utils.R: guessing file is produced by nanopolish...
> test-tabix_utils.R: [2025-11-18 11:32:53] sorting methylation table
> test-tabix_utils.R: [2025-11-18 11:32:53] compressing methylation table to tabix with index
> test-tabix_utils.R: [2025-11-18 11:32:53] creating intermediate files...
> test-tabix_utils.R: [2025-11-18 11:32:53] parsing chr1...
> test-tabix_utils.R: [2025-11-18 11:32:53] parsing chr2...
> test-tabix_utils.R: [2025-11-18 11:32:53] parsing chr3...
> test-tabix_utils.R: [2025-11-18 11:32:54] parsing chr4...
> test-tabix_utils.R: [2025-11-18 11:32:54] parsing chr5...
> test-tabix_utils.R: [2025-11-18 11:32:54] parsing chr6...
> test-tabix_utils.R: [2025-11-18 11:32:54] parsing chr7...
> test-tabix_utils.R: [2025-11-18 11:32:54] parsing chr8...
> test-tabix_utils.R: [2025-11-18 11:32:54] parsing chr9...
> test-tabix_utils.R: [2025-11-18 11:32:54] parsing chr10...
> test-tabix_utils.R: [2025-11-18 11:32:54] parsing chr11...
> test-tabix_utils.R: [2025-11-18 11:32:54] parsing chr12...
> test-tabix_utils.R: [2025-11-18 11:32:54] parsing chr13...
> test-tabix_utils.R: [2025-11-18 11:32:54] parsing chr14...
> test-tabix_utils.R: [2025-11-18 11:32:54] parsing chr15...
> test-tabix_utils.R: [2025-11-18 11:32:54] parsing chr16...
> test-tabix_utils.R: [2025-11-18 11:32:54] parsing chr17...
> test-tabix_utils.R: [2025-11-18 11:32:54] parsing chr18...
> test-tabix_utils.R: [2025-11-18 11:32:54] parsing chr19...
> test-tabix_utils.R: [2025-11-18 11:32:54] parsing chrM...
> test-tabix_utils.R: [2025-11-18 11:32:54] parsing chrX...
> test-tabix_utils.R: [2025-11-18 11:32:54] parsing chrY...
> test-tabix_utils.R: [2025-11-18 11:32:54] samples found: B6Cast_Prom_3_cast B6Cast_Prom_2_bl6 B6Cast_Prom_3_bl6 B6Cast_Prom_1_cast B6Cast_Prom_2_cast B6Cast_Prom_1_bl6 sample1_nanopolish.tsv sample2_nanopolish.tsv
> test-tabix_utils.R: [2025-11-18 11:32:54] creating bsseq object...
> test-tabix_utils.R: [2025-11-18 11:32:54] reading in parsed data...
> test-tabix_utils.R: [2025-11-18 11:32:54] constructing matrices...
> test-tabix_utils.R: [2025-11-18 11:32:54] done
> test-tabix_utils.R: processing /Library/Frameworks/R.framework/Versions/4.5-x86_64/Resources/library/NanoMethViz/megalodon_calls.txt.gz...
> test-tabix_utils.R: guessing file is produced by megalodon...
> test-tabix_utils.R: [2025-11-18 11:32:57] sorting methylation table
> test-tabix_utils.R: [2025-11-18 11:32:57] compressing methylation table to tabix with index
[ FAIL 0 | WARN 83 | SKIP 0 | PASS 719 ]
[ FAIL 0 | WARN 83 | SKIP 0 | PASS 719 ]
>
> proc.time()
user system elapsed
503.135 24.549 316.749
NanoMethViz.Rcheck/NanoMethViz-Ex.timings
| name | user | system | elapsed | |
| NanoMethResult-class | 8.326 | 1.576 | 10.458 | |
| bsseq_to_edger | 1.716 | 0.063 | 1.787 | |
| bsseq_to_log_methy_ratio | 3.529 | 0.058 | 3.609 | |
| cluster_regions | 7.117 | 0.141 | 7.344 | |
| create_tabix_file | 4.307 | 0.600 | 5.144 | |
| exons_to_genes | 2.048 | 0.043 | 2.252 | |
| filter_methy | 69.927 | 6.460 | 77.377 | |
| get_example_exons_mus_musculus | 0.579 | 0.012 | 0.595 | |
| get_exons | 136.009 | 7.925 | 146.824 | |
| get_exons_homo_sapiens | 57.181 | 2.207 | 60.199 | |
| get_exons_mus_musculus | 24.603 | 1.455 | 27.177 | |
| load_example_modbamresult | 0.645 | 0.026 | 0.674 | |
| load_example_nanomethresult | 0.619 | 0.024 | 0.647 | |
| methy | 0.004 | 0.001 | 0.005 | |
| methy_col_names | 0 | 0 | 0 | |
| methy_to_bsseq | 2.238 | 0.065 | 2.325 | |
| methy_to_edger | 2.429 | 0.068 | 2.515 | |
| modbam_to_tabix | 1.559 | 0.401 | 1.852 | |
| plot_agg_genes | 11.197 | 0.126 | 11.378 | |
| plot_agg_regions | 13.285 | 0.171 | 13.660 | |
| plot_gene | 22.645 | 0.465 | 24.261 | |
| plot_gene_heatmap | 19.925 | 0.202 | 24.126 | |
| plot_grange | 16.975 | 0.147 | 19.759 | |
| plot_grange_heatmap | 14.165 | 0.125 | 16.543 | |
| plot_mds | 3.257 | 0.056 | 3.548 | |
| plot_pca | 3.468 | 0.056 | 3.981 | |
| plot_region | 17.091 | 0.812 | 18.428 | |
| plot_region_heatmap | 13.541 | 0.200 | 13.871 | |
| plot_violin | 5.440 | 0.060 | 5.985 | |
| query_methy | 0.899 | 0.020 | 0.938 | |
| region_methy_stats | 2.049 | 0.024 | 2.104 | |