| Back to Multiple platform build/check report for BioC 3.22: simplified long |
|
This page was generated on 2025-10-24 12:04 -0400 (Fri, 24 Oct 2025).
| Hostname | OS | Arch (*) | R version | Installed pkgs |
|---|---|---|---|---|
| nebbiolo2 | Linux (Ubuntu 24.04.3 LTS) | x86_64 | 4.5.1 Patched (2025-08-23 r88802) -- "Great Square Root" | 4898 |
| lconway | macOS 12.7.6 Monterey | x86_64 | 4.5.1 Patched (2025-09-10 r88807) -- "Great Square Root" | 4688 |
| kjohnson3 | macOS 13.7.7 Ventura | arm64 | 4.5.1 Patched (2025-09-10 r88807) -- "Great Square Root" | 4634 |
| taishan | Linux (openEuler 24.03 LTS) | aarch64 | 4.5.0 (2025-04-11) -- "How About a Twenty-Six" | 4658 |
| Click on any hostname to see more info about the system (e.g. compilers) (*) as reported by 'uname -p', except on Windows and Mac OS X | ||||
| Package 1394/2359 | Hostname | OS / Arch | INSTALL | BUILD | CHECK | BUILD BIN | ||||||||
| MsQuality 1.9.2 (landing page) Thomas Naake
| nebbiolo2 | Linux (Ubuntu 24.04.3 LTS) / x86_64 | OK | OK | ERROR | |||||||||
| lconway | macOS 12.7.6 Monterey / x86_64 | OK | OK | ERROR | OK | |||||||||
| kjohnson3 | macOS 13.7.7 Ventura / arm64 | OK | OK | ERROR | OK | |||||||||
| taishan | Linux (openEuler 24.03 LTS) / aarch64 | OK | OK | NA | ||||||||||
|
To the developers/maintainers of the MsQuality package: - Allow up to 24 hours (and sometimes 48 hours) for your latest push to git@git.bioconductor.org:packages/MsQuality.git to reflect on this report. See Troubleshooting Build Report for more information. - Use the following Renviron settings to reproduce errors and warnings. - If 'R CMD check' started to fail recently on the Linux builder(s) over a missing dependency, add the missing dependency to 'Suggests:' in your DESCRIPTION file. See Renviron.bioc for more information. |
| Package: MsQuality |
| Version: 1.9.2 |
| Command: /home/biocbuild/bbs-3.22-bioc/R/bin/R CMD check --install=check:MsQuality.install-out.txt --library=/home/biocbuild/bbs-3.22-bioc/R/site-library --timings MsQuality_1.9.2.tar.gz |
| StartedAt: 2025-10-24 01:48:17 -0400 (Fri, 24 Oct 2025) |
| EndedAt: 2025-10-24 01:54:46 -0400 (Fri, 24 Oct 2025) |
| EllapsedTime: 388.3 seconds |
| RetCode: 1 |
| Status: ERROR |
| CheckDir: MsQuality.Rcheck |
| Warnings: NA |
##############################################################################
##############################################################################
###
### Running command:
###
### /home/biocbuild/bbs-3.22-bioc/R/bin/R CMD check --install=check:MsQuality.install-out.txt --library=/home/biocbuild/bbs-3.22-bioc/R/site-library --timings MsQuality_1.9.2.tar.gz
###
##############################################################################
##############################################################################
* using log directory ‘/home/biocbuild/bbs-3.22-bioc/meat/MsQuality.Rcheck’
* using R version 4.5.1 Patched (2025-08-23 r88802)
* using platform: x86_64-pc-linux-gnu
* R was compiled by
gcc (Ubuntu 13.3.0-6ubuntu2~24.04) 13.3.0
GNU Fortran (Ubuntu 13.3.0-6ubuntu2~24.04) 13.3.0
* running under: Ubuntu 24.04.3 LTS
* using session charset: UTF-8
* checking for file ‘MsQuality/DESCRIPTION’ ... OK
* checking extension type ... Package
* this is package ‘MsQuality’ version ‘1.9.2’
* package encoding: UTF-8
* checking package namespace information ... OK
* checking package dependencies ... OK
* checking if this is a source package ... OK
* checking if there is a namespace ... OK
* checking for hidden files and directories ... OK
* checking for portable file names ... OK
* checking for sufficient/correct file permissions ... OK
* checking whether package ‘MsQuality’ can be installed ... OK
* checking installed package size ... OK
* checking package directory ... OK
* checking ‘build’ directory ... OK
* checking DESCRIPTION meta-information ... OK
* checking top-level files ... OK
* checking for left-over files ... OK
* checking index information ... OK
* checking package subdirectories ... OK
* checking code files for non-ASCII characters ... OK
* checking R files for syntax errors ... OK
* checking whether the package can be loaded ... OK
* checking whether the package can be loaded with stated dependencies ... OK
* checking whether the package can be unloaded cleanly ... OK
* checking whether the namespace can be loaded with stated dependencies ... OK
* checking whether the namespace can be unloaded cleanly ... OK
* checking loading without being on the library search path ... OK
* checking dependencies in R code ... OK
* checking S3 generic/method consistency ... OK
* checking replacement functions ... OK
* checking foreign function calls ... OK
* checking R code for possible problems ... OK
* checking Rd files ... OK
* checking Rd metadata ... OK
* checking Rd cross-references ... OK
* checking for missing documentation entries ... OK
* checking for code/documentation mismatches ... OK
* checking Rd \usage sections ... OK
* checking Rd contents ... OK
* checking for unstated dependencies in examples ... OK
* checking contents of ‘data’ directory ... OK
* checking data for non-ASCII characters ... OK
* checking data for ASCII and uncompressed saves ... OK
* checking files in ‘vignettes’ ... OK
* checking examples ... OK
Examples with CPU (user + system) or elapsed time > 5s
user system elapsed
calculateMetricsFromSpectra 8.607 2.109 7.871
calculateMetricsFromMsExperiment 4.852 1.305 2.810
calculateMetrics 5.186 0.680 5.607
* checking for unstated dependencies in ‘tests’ ... OK
* checking tests ...
Running ‘testthat.R’
ERROR
Running the tests in ‘tests/testthat.R’ failed.
Last 13 lines of output:
Backtrace:
▆
1. ├─testthat::expect_equal(...) at test_function_calculateMetrics_from_Spectra.R:509:5
2. │ └─testthat::quasi_label(enquo(object), label, arg = "object")
3. │ └─rlang::eval_bare(expr, quo_get_env(quo))
4. └─MsQuality::calculateMetrics(...)
5. └─MsQuality::calculateMetricsFromSpectra(...)
6. ├─BiocParallel::bplapply(...)
7. └─BiocParallel::bplapply(...)
8. └─BiocParallel:::.bpinit(...)
[ FAIL 3 | WARN 0 | SKIP 0 | PASS 747 ]
Error: Test failures
Execution halted
* checking for unstated dependencies in vignettes ... OK
* checking package vignettes ... OK
* checking re-building of vignette outputs ... OK
* checking PDF version of manual ... OK
* DONE
Status: 1 ERROR
See
‘/home/biocbuild/bbs-3.22-bioc/meat/MsQuality.Rcheck/00check.log’
for details.
MsQuality.Rcheck/00install.out
############################################################################## ############################################################################## ### ### Running command: ### ### /home/biocbuild/bbs-3.22-bioc/R/bin/R CMD INSTALL MsQuality ### ############################################################################## ############################################################################## * installing to library ‘/home/biocbuild/bbs-3.22-bioc/R/site-library’ * installing *source* package ‘MsQuality’ ... ** this is package ‘MsQuality’ version ‘1.9.2’ ** using staged installation ** R ** data ** inst ** byte-compile and prepare package for lazy loading ** help *** installing help indices ** building package indices ** installing vignettes ** testing if installed package can be loaded from temporary location ** testing if installed package can be loaded from final location ** testing if installed package keeps a record of temporary installation path * DONE (MsQuality)
MsQuality.Rcheck/tests/testthat.Rout.fail
R version 4.5.1 Patched (2025-08-23 r88802) -- "Great Square Root"
Copyright (C) 2025 The R Foundation for Statistical Computing
Platform: x86_64-pc-linux-gnu
R is free software and comes with ABSOLUTELY NO WARRANTY.
You are welcome to redistribute it under certain conditions.
Type 'license()' or 'licence()' for distribution details.
R is a collaborative project with many contributors.
Type 'contributors()' for more information and
'citation()' on how to cite R or R packages in publications.
Type 'demo()' for some demos, 'help()' for on-line help, or
'help.start()' for an HTML browser interface to help.
Type 'q()' to quit R.
> library("testthat")
> library("MsQuality")
> library("Spectra")
Loading required package: S4Vectors
Loading required package: stats4
Loading required package: BiocGenerics
Loading required package: generics
Attaching package: 'generics'
The following objects are masked from 'package:base':
as.difftime, as.factor, as.ordered, intersect, is.element, setdiff,
setequal, union
Attaching package: 'BiocGenerics'
The following objects are masked from 'package:stats':
IQR, mad, sd, var, xtabs
The following objects are masked from 'package:base':
Filter, Find, Map, Position, Reduce, anyDuplicated, aperm, append,
as.data.frame, basename, cbind, colnames, dirname, do.call,
duplicated, eval, evalq, get, grep, grepl, is.unsorted, lapply,
mapply, match, mget, order, paste, pmax, pmax.int, pmin, pmin.int,
rank, rbind, rownames, sapply, saveRDS, table, tapply, unique,
unsplit, which.max, which.min
Attaching package: 'S4Vectors'
The following object is masked from 'package:utils':
findMatches
The following objects are masked from 'package:base':
I, expand.grid, unname
Loading required package: BiocParallel
> library("MsExperiment")
Loading required package: ProtGenerics
Attaching package: 'ProtGenerics'
The following object is masked from 'package:stats':
smooth
> library("msdata")
> library("S4Vectors")
>
> test_check("MsQuality")
trying URL 'https://api.github.com/repos/HUPO-PSI/psi-ms-CV/releases/latest'
Content type 'application/json; charset=utf-8' length 7693 bytes
==================================================
downloaded 7693 bytes
trying URL 'https://github.com/HUPO-PSI/psi-ms-CV/releases/download/v4.1.205/psi-ms.obo'
Content type 'application/octet-stream' length 1053531 bytes (1.0 MB)
==================================================
downloaded 1.0 MB
[ FAIL 3 | WARN 0 | SKIP 0 | PASS 747 ]
══ Failed tests ════════════════════════════════════════════════════════════════
── Error ('test_function_calculateMetrics_from_Spectra.R:156:5'): calculateMetricsFromOneSampleSpectra ──
Error in `h(simpleError(msg, call))`: error in evaluating the argument 'object' in selecting a method for function 'filterEmptySpectra': error in evaluating the argument 'object' in selecting a method for function 'filterIntensity': error in evaluating the argument 'i' in selecting a method for function 'extractByIndex': values must be length 1,
but FUN(X[[3]]) result is length 0
Backtrace:
▆
1. ├─testthat::expect_equal(...) at test_function_calculateMetrics_from_Spectra.R:156:5
2. │ └─testthat::quasi_label(enquo(object), label, arg = "object")
3. │ └─rlang::eval_bare(expr, quo_get_env(quo))
4. ├─MsQuality:::calculateMetricsFromOneSampleSpectra(...)
5. │ ├─ProtGenerics::filterEmptySpectra(...)
6. │ ├─ProtGenerics::filterIntensity(...)
7. │ ├─ProtGenerics::filterEmptySpectra(spectra)
8. │ └─Spectra::filterEmptySpectra(spectra)
9. │ └─Spectra (local) .local(object, ...)
10. │ ├─ProtGenerics::extractByIndex(object@backend, which(as.logical(lengths(object))))
11. │ ├─base::which(as.logical(lengths(object)))
12. │ └─base::lengths(object)
13. │ ├─methods (local) lengths(x, use.names)
14. │ └─Spectra (local) lengths(x, use.names)
15. │ └─base::lengths(x@backend, use.names = use.names)
16. │ ├─methods (local) lengths(x, use.names)
17. │ └─Spectra (local) lengths(x, use.names)
18. │ └─base::vapply(peaksData(x), nrow, NA_integer_)
19. ├─base::.handleSimpleError(...)
20. │ └─base (local) h(simpleError(msg, call))
21. ├─base::.handleSimpleError(...)
22. │ └─base (local) h(simpleError(msg, call))
23. └─base::.handleSimpleError(...)
24. └─base (local) h(simpleError(msg, call))
── Error ('test_function_calculateMetrics_from_Spectra.R:273:5'): calculateMetricsFromSpectra ──
<bplist_error/bperror/error/condition>
Error: BiocParallel errors
1 remote errors, element index: 1
0 unevaluated and other errors
first remote error:
Error in h(simpleError(msg, call)): error in evaluating the argument 'object' in selecting a method for function 'filterEmptySpectra': error in evaluating the argument 'object' in selecting a method for function 'filterIntensity': error in evaluating the argument 'i' in selecting a method for function 'extractByIndex': values must be length 1,
but FUN(X[[3]]) result is length 0
Backtrace:
▆
1. ├─testthat::expect_equal(...) at test_function_calculateMetrics_from_Spectra.R:273:5
2. │ └─testthat::quasi_label(enquo(object), label, arg = "object")
3. │ └─rlang::eval_bare(expr, quo_get_env(quo))
4. └─MsQuality::calculateMetricsFromSpectra(...)
5. ├─BiocParallel::bplapply(...)
6. └─BiocParallel::bplapply(...)
7. └─BiocParallel:::.bpinit(...)
── Error ('test_function_calculateMetrics_from_Spectra.R:509:5'): calculateMetrics ──
<bplist_error/bperror/error/condition>
Error: BiocParallel errors
1 remote errors, element index: 1
0 unevaluated and other errors
first remote error:
Error in h(simpleError(msg, call)): error in evaluating the argument 'object' in selecting a method for function 'filterEmptySpectra': error in evaluating the argument 'object' in selecting a method for function 'filterIntensity': error in evaluating the argument 'i' in selecting a method for function 'extractByIndex': values must be length 1,
but FUN(X[[3]]) result is length 0
Backtrace:
▆
1. ├─testthat::expect_equal(...) at test_function_calculateMetrics_from_Spectra.R:509:5
2. │ └─testthat::quasi_label(enquo(object), label, arg = "object")
3. │ └─rlang::eval_bare(expr, quo_get_env(quo))
4. └─MsQuality::calculateMetrics(...)
5. └─MsQuality::calculateMetricsFromSpectra(...)
6. ├─BiocParallel::bplapply(...)
7. └─BiocParallel::bplapply(...)
8. └─BiocParallel:::.bpinit(...)
[ FAIL 3 | WARN 0 | SKIP 0 | PASS 747 ]
Error: Test failures
Execution halted
MsQuality.Rcheck/MsQuality-Ex.timings
| name | user | system | elapsed | |
| MsQuality-package | 0 | 0 | 0 | |
| areaUnderTic | 0.163 | 0.016 | 0.179 | |
| areaUnderTicRtQuantiles | 0.169 | 0.001 | 0.170 | |
| calculateMetrics | 5.186 | 0.680 | 5.607 | |
| calculateMetricsFromMsExperiment | 4.852 | 1.305 | 2.810 | |
| calculateMetricsFromOneSampleSpectra | 2.785 | 0.514 | 2.138 | |
| calculateMetricsFromSpectra | 8.607 | 2.109 | 7.871 | |
| chromatographyDuration | 0.094 | 0.010 | 0.104 | |
| dot-rtOrderSpectra | 0.103 | 0.011 | 0.114 | |
| extentIdentifiedPrecursorIntensity | 0.097 | 0.001 | 0.098 | |
| meanCharge | 0.099 | 0.012 | 0.110 | |
| medianCharge | 0.084 | 0.008 | 0.092 | |
| medianPrecursorMz | 0.095 | 0.004 | 0.099 | |
| medianTicOfRtRange | 0.112 | 0.004 | 0.116 | |
| medianTicRtIqr | 0.104 | 0.003 | 0.107 | |
| msSignal10xChange | 0.100 | 0.008 | 0.108 | |
| mzAcquisitionRange | 0.094 | 0.008 | 0.102 | |
| numberEmptyScans | 0.185 | 0.028 | 0.213 | |
| numberSpectra | 0.087 | 0.003 | 0.090 | |
| plotMetric | 2.830 | 0.945 | 2.947 | |
| plotMetricTibble | 2.201 | 0.820 | 1.686 | |
| precursorIntensityMean | 0.092 | 0.010 | 0.102 | |
| precursorIntensityQuartiles | 0.088 | 0.008 | 0.095 | |
| precursorIntensityRange | 0.096 | 0.030 | 0.126 | |
| precursorIntensitySd | 0.104 | 0.012 | 0.116 | |
| qualityMetrics | 0.137 | 0.073 | 0.210 | |
| ratioCharge1over2 | 0.107 | 0.014 | 0.121 | |
| ratioCharge3over2 | 0.106 | 0.004 | 0.110 | |
| ratioCharge4over2 | 0.104 | 0.005 | 0.110 | |
| rtAcquisitionRange | 0.086 | 0.005 | 0.091 | |
| rtIqr | 0.098 | 0.012 | 0.111 | |
| rtIqrRate | 0.107 | 0.010 | 0.117 | |
| rtOverMsQuarters | 0.110 | 0.006 | 0.116 | |
| shinyMsQuality | 0.383 | 0.310 | 1.573 | |
| ticQuantileRtFraction | 1.836 | 0.483 | 0.119 | |
| ticQuartileToQuartileLogRatio | 0.085 | 0.010 | 0.096 | |
| transformIntoMzQC | 2.030 | 0.692 | 1.456 | |