| Back to Multiple platform build/check report for BioC 3.22: simplified long |
|
This page was generated on 2025-10-24 12:04 -0400 (Fri, 24 Oct 2025).
| Hostname | OS | Arch (*) | R version | Installed pkgs |
|---|---|---|---|---|
| nebbiolo2 | Linux (Ubuntu 24.04.3 LTS) | x86_64 | 4.5.1 Patched (2025-08-23 r88802) -- "Great Square Root" | 4898 |
| lconway | macOS 12.7.6 Monterey | x86_64 | 4.5.1 Patched (2025-09-10 r88807) -- "Great Square Root" | 4688 |
| kjohnson3 | macOS 13.7.7 Ventura | arm64 | 4.5.1 Patched (2025-09-10 r88807) -- "Great Square Root" | 4634 |
| taishan | Linux (openEuler 24.03 LTS) | aarch64 | 4.5.0 (2025-04-11) -- "How About a Twenty-Six" | 4658 |
| Click on any hostname to see more info about the system (e.g. compilers) (*) as reported by 'uname -p', except on Windows and Mac OS X | ||||
| Package 1366/2359 | Hostname | OS / Arch | INSTALL | BUILD | CHECK | BUILD BIN | ||||||||
| MouseFM 1.19.1 (landing page) Matthias Munz
| nebbiolo2 | Linux (Ubuntu 24.04.3 LTS) / x86_64 | OK | OK | OK | |||||||||
| lconway | macOS 12.7.6 Monterey / x86_64 | OK | OK | OK | OK | |||||||||
| kjohnson3 | macOS 13.7.7 Ventura / arm64 | OK | OK | OK | OK | |||||||||
| taishan | Linux (openEuler 24.03 LTS) / aarch64 | OK | OK | NA | ||||||||||
|
To the developers/maintainers of the MouseFM package: - Allow up to 24 hours (and sometimes 48 hours) for your latest push to git@git.bioconductor.org:packages/MouseFM.git to reflect on this report. See Troubleshooting Build Report for more information. - Use the following Renviron settings to reproduce errors and warnings. - If 'R CMD check' started to fail recently on the Linux builder(s) over a missing dependency, add the missing dependency to 'Suggests:' in your DESCRIPTION file. See Renviron.bioc for more information. |
| Package: MouseFM |
| Version: 1.19.1 |
| Command: /home/biocbuild/bbs-3.22-bioc/R/bin/R CMD check --install=check:MouseFM.install-out.txt --library=/home/biocbuild/bbs-3.22-bioc/R/site-library --timings MouseFM_1.19.1.tar.gz |
| StartedAt: 2025-10-24 01:41:08 -0400 (Fri, 24 Oct 2025) |
| EndedAt: 2025-10-24 01:46:15 -0400 (Fri, 24 Oct 2025) |
| EllapsedTime: 307.3 seconds |
| RetCode: 0 |
| Status: OK |
| CheckDir: MouseFM.Rcheck |
| Warnings: 0 |
##############################################################################
##############################################################################
###
### Running command:
###
### /home/biocbuild/bbs-3.22-bioc/R/bin/R CMD check --install=check:MouseFM.install-out.txt --library=/home/biocbuild/bbs-3.22-bioc/R/site-library --timings MouseFM_1.19.1.tar.gz
###
##############################################################################
##############################################################################
* using log directory ‘/home/biocbuild/bbs-3.22-bioc/meat/MouseFM.Rcheck’
* using R version 4.5.1 Patched (2025-08-23 r88802)
* using platform: x86_64-pc-linux-gnu
* R was compiled by
gcc (Ubuntu 13.3.0-6ubuntu2~24.04) 13.3.0
GNU Fortran (Ubuntu 13.3.0-6ubuntu2~24.04) 13.3.0
* running under: Ubuntu 24.04.3 LTS
* using session charset: UTF-8
* checking for file ‘MouseFM/DESCRIPTION’ ... OK
* checking extension type ... Package
* this is package ‘MouseFM’ version ‘1.19.1’
* package encoding: UTF-8
* checking package namespace information ... OK
* checking package dependencies ... OK
* checking if this is a source package ... OK
* checking if there is a namespace ... OK
* checking for hidden files and directories ... OK
* checking for portable file names ... OK
* checking for sufficient/correct file permissions ... OK
* checking whether package ‘MouseFM’ can be installed ... OK
* checking installed package size ... OK
* checking package directory ... OK
* checking ‘build’ directory ... OK
* checking DESCRIPTION meta-information ... OK
* checking top-level files ... OK
* checking for left-over files ... OK
* checking index information ... OK
* checking package subdirectories ... OK
* checking code files for non-ASCII characters ... OK
* checking R files for syntax errors ... OK
* checking whether the package can be loaded ... OK
* checking whether the package can be loaded with stated dependencies ... OK
* checking whether the package can be unloaded cleanly ... OK
* checking whether the namespace can be loaded with stated dependencies ... OK
* checking whether the namespace can be unloaded cleanly ... OK
* checking loading without being on the library search path ... OK
* checking whether startup messages can be suppressed ... OK
* checking dependencies in R code ... OK
* checking S3 generic/method consistency ... OK
* checking replacement functions ... OK
* checking foreign function calls ... OK
* checking R code for possible problems ... NOTE
File ‘MouseFM/R/zzz.R’:
.onLoad calls:
packageStartupMessage("\n ---------\n For example usage please run: vignette('MouseFM')\n \n Support me: http://matthiasmunz.de/support_me\n\n Citation appreciated:\n Munz M, Khodaygani M, Aherrahrou Z, Busch H, Wohlers I (2021) In silico candidate variant and gene identification using inbred mouse strains. PeerJ. doi:10.7717/peerj.11017\n \n Github Repo: https://github.com/matmu/MouseFM\n MouseFM Backend: https://github.com/matmu/MouseFM-Backend\n ---------", domain = NULL, appendLF = TRUE)
See section ‘Good practice’ in '?.onAttach'.
* checking Rd files ... OK
* checking Rd metadata ... OK
* checking Rd cross-references ... OK
* checking for missing documentation entries ... OK
* checking for code/documentation mismatches ... OK
* checking Rd \usage sections ... OK
* checking Rd contents ... OK
* checking for unstated dependencies in examples ... OK
* checking files in ‘vignettes’ ... OK
* checking examples ... OK
Examples with CPU (user + system) or elapsed time > 5s
user system elapsed
vis_reduction_factors 26.402 0.271 27.440
get_top 10.324 0.417 10.964
prio 9.837 0.310 10.576
fetch 2.011 0.195 8.139
annotate_mouse_genes 1.470 0.241 5.254
annotate_consequences 0.835 0.083 5.036
* checking for unstated dependencies in ‘tests’ ... OK
* checking tests ...
Running ‘testthat.R’
OK
* checking for unstated dependencies in vignettes ... OK
* checking package vignettes ... OK
* checking re-building of vignette outputs ... OK
* checking PDF version of manual ... OK
* DONE
Status: 1 NOTE
See
‘/home/biocbuild/bbs-3.22-bioc/meat/MouseFM.Rcheck/00check.log’
for details.
MouseFM.Rcheck/00install.out
############################################################################## ############################################################################## ### ### Running command: ### ### /home/biocbuild/bbs-3.22-bioc/R/bin/R CMD INSTALL MouseFM ### ############################################################################## ############################################################################## * installing to library ‘/home/biocbuild/bbs-3.22-bioc/R/site-library’ * installing *source* package ‘MouseFM’ ... ** this is package ‘MouseFM’ version ‘1.19.1’ ** using staged installation ** R ** inst ** byte-compile and prepare package for lazy loading ** help *** installing help indices ** building package indices ** installing vignettes ** testing if installed package can be loaded from temporary location ** testing if installed package can be loaded from final location ** testing if installed package keeps a record of temporary installation path * DONE (MouseFM)
MouseFM.Rcheck/tests/testthat.Rout
R version 4.5.1 Patched (2025-08-23 r88802) -- "Great Square Root"
Copyright (C) 2025 The R Foundation for Statistical Computing
Platform: x86_64-pc-linux-gnu
R is free software and comes with ABSOLUTELY NO WARRANTY.
You are welcome to redistribute it under certain conditions.
Type 'license()' or 'licence()' for distribution details.
R is a collaborative project with many contributors.
Type 'contributors()' for more information and
'citation()' on how to cite R or R packages in publications.
Type 'demo()' for some demos, 'help()' for on-line help, or
'help.start()' for an HTML browser interface to help.
Type 'q()' to quit R.
> library(testthat)
> library(MouseFM)
---------
For example usage please run: vignette('MouseFM')
Support me: http://matthiasmunz.de/support_me
Citation appreciated:
Munz M, Khodaygani M, Aherrahrou Z, Busch H, Wohlers I (2021) In silico candidate variant and gene identification using inbred mouse strains. PeerJ. doi:10.7717/peerj.11017
Github Repo: https://github.com/matmu/MouseFM
MouseFM Backend: https://github.com/matmu/MouseFM-Backend
---------
>
> test_check("MouseFM")
[ FAIL 0 | WARN 0 | SKIP 0 | PASS 9 ]
>
> proc.time()
user system elapsed
65.685 1.034 69.758
MouseFM.Rcheck/MouseFM-Ex.timings
| name | user | system | elapsed | |
| GRanges2df | 0.255 | 0.002 | 1.809 | |
| annotate_consequences | 0.835 | 0.083 | 5.036 | |
| annotate_mouse_genes | 1.470 | 0.241 | 5.254 | |
| avail_chromosomes | 0.003 | 0.000 | 0.002 | |
| avail_consequences | 0.002 | 0.000 | 0.002 | |
| avail_strains | 0.001 | 0.000 | 0.001 | |
| df2GRanges | 0.076 | 0.012 | 0.592 | |
| fetch | 2.011 | 0.195 | 8.139 | |
| finemap | 0.053 | 0.001 | 0.463 | |
| getURL | 0 | 0 | 0 | |
| get_top | 10.324 | 0.417 | 10.964 | |
| prio | 9.837 | 0.310 | 10.576 | |
| ref_genome | 0 | 0 | 0 | |
| setURL | 0 | 0 | 0 | |
| vis_reduction_factors | 26.402 | 0.271 | 27.440 | |