| Back to Multiple platform build/check report for BioC 3.22: simplified long |
|
This page was generated on 2025-10-24 12:04 -0400 (Fri, 24 Oct 2025).
| Hostname | OS | Arch (*) | R version | Installed pkgs |
|---|---|---|---|---|
| nebbiolo2 | Linux (Ubuntu 24.04.3 LTS) | x86_64 | 4.5.1 Patched (2025-08-23 r88802) -- "Great Square Root" | 4898 |
| lconway | macOS 12.7.6 Monterey | x86_64 | 4.5.1 Patched (2025-09-10 r88807) -- "Great Square Root" | 4688 |
| kjohnson3 | macOS 13.7.7 Ventura | arm64 | 4.5.1 Patched (2025-09-10 r88807) -- "Great Square Root" | 4634 |
| taishan | Linux (openEuler 24.03 LTS) | aarch64 | 4.5.0 (2025-04-11) -- "How About a Twenty-Six" | 4658 |
| Click on any hostname to see more info about the system (e.g. compilers) (*) as reported by 'uname -p', except on Windows and Mac OS X | ||||
| Package 1281/2359 | Hostname | OS / Arch | INSTALL | BUILD | CHECK | BUILD BIN | ||||||||
| MetNet 1.27.3 (landing page) Thomas Naake
| nebbiolo2 | Linux (Ubuntu 24.04.3 LTS) / x86_64 | OK | OK | ERROR | |||||||||
| lconway | macOS 12.7.6 Monterey / x86_64 | OK | OK | OK | OK | |||||||||
| kjohnson3 | macOS 13.7.7 Ventura / arm64 | OK | OK | OK | OK | |||||||||
| taishan | Linux (openEuler 24.03 LTS) / aarch64 | OK | ERROR | skipped | ||||||||||
|
To the developers/maintainers of the MetNet package: - Allow up to 24 hours (and sometimes 48 hours) for your latest push to git@git.bioconductor.org:packages/MetNet.git to reflect on this report. See Troubleshooting Build Report for more information. - Use the following Renviron settings to reproduce errors and warnings. - If 'R CMD check' started to fail recently on the Linux builder(s) over a missing dependency, add the missing dependency to 'Suggests:' in your DESCRIPTION file. See Renviron.bioc for more information. |
| Package: MetNet |
| Version: 1.27.3 |
| Command: /home/biocbuild/bbs-3.22-bioc/R/bin/R CMD check --install=check:MetNet.install-out.txt --library=/home/biocbuild/bbs-3.22-bioc/R/site-library --timings MetNet_1.27.3.tar.gz |
| StartedAt: 2025-10-24 01:18:35 -0400 (Fri, 24 Oct 2025) |
| EndedAt: 2025-10-24 01:25:08 -0400 (Fri, 24 Oct 2025) |
| EllapsedTime: 393.3 seconds |
| RetCode: 1 |
| Status: ERROR |
| CheckDir: MetNet.Rcheck |
| Warnings: NA |
##############################################################################
##############################################################################
###
### Running command:
###
### /home/biocbuild/bbs-3.22-bioc/R/bin/R CMD check --install=check:MetNet.install-out.txt --library=/home/biocbuild/bbs-3.22-bioc/R/site-library --timings MetNet_1.27.3.tar.gz
###
##############################################################################
##############################################################################
* using log directory ‘/home/biocbuild/bbs-3.22-bioc/meat/MetNet.Rcheck’
* using R version 4.5.1 Patched (2025-08-23 r88802)
* using platform: x86_64-pc-linux-gnu
* R was compiled by
gcc (Ubuntu 13.3.0-6ubuntu2~24.04) 13.3.0
GNU Fortran (Ubuntu 13.3.0-6ubuntu2~24.04) 13.3.0
* running under: Ubuntu 24.04.3 LTS
* using session charset: UTF-8
* checking for file ‘MetNet/DESCRIPTION’ ... OK
* checking extension type ... Package
* this is package ‘MetNet’ version ‘1.27.3’
* package encoding: UTF-8
* checking package namespace information ... OK
* checking package dependencies ... OK
* checking if this is a source package ... OK
* checking if there is a namespace ... OK
* checking for hidden files and directories ... OK
* checking for portable file names ... OK
* checking for sufficient/correct file permissions ... OK
* checking whether package ‘MetNet’ can be installed ... OK
* checking installed package size ... OK
* checking package directory ... OK
* checking ‘build’ directory ... OK
* checking DESCRIPTION meta-information ... OK
* checking top-level files ... OK
* checking for left-over files ... OK
* checking index information ... OK
* checking package subdirectories ... OK
* checking code files for non-ASCII characters ... OK
* checking R files for syntax errors ... OK
* checking whether the package can be loaded ... OK
* checking whether the package can be loaded with stated dependencies ... OK
* checking whether the package can be unloaded cleanly ... OK
* checking whether the namespace can be loaded with stated dependencies ... OK
* checking whether the namespace can be unloaded cleanly ... OK
* checking loading without being on the library search path ... OK
* checking dependencies in R code ... OK
* checking S3 generic/method consistency ... OK
* checking replacement functions ... OK
* checking foreign function calls ... OK
* checking R code for possible problems ... OK
* checking Rd files ... OK
* checking Rd metadata ... OK
* checking Rd cross-references ... OK
* checking for missing documentation entries ... OK
* checking for code/documentation mismatches ... OK
* checking Rd \usage sections ... OK
* checking Rd contents ... OK
* checking for unstated dependencies in examples ... OK
* checking contents of ‘data’ directory ... OK
* checking data for non-ASCII characters ... OK
* checking data for ASCII and uncompressed saves ... OK
* checking files in ‘vignettes’ ... OK
* checking examples ... OK
Examples with CPU (user + system) or elapsed time > 5s
user system elapsed
MetNet-package 56.755 1.227 57.982
* checking for unstated dependencies in ‘tests’ ... OK
* checking tests ...
Running ‘testthat.R’
ERROR
Running the tests in ‘tests/testthat.R’ failed.
Last 13 lines of output:
sum(df$aracne_coef) not equal to 59.84569.
1/1 mismatches
[1] 58.7 - 59.8 == -1.15
── Failure ('test_methods.R:147:5'): as.data.frame ─────────────────────────────
sum(df$aracne_coef) not equal to 59.84569.
1/1 mismatches
[1] 58.7 - 59.8 == -1.15
── Failure ('test_methods.R:166:5'): as.data.frame ─────────────────────────────
sum(df$aracne_coef, na.rm = TRUE) not equal to 59.84569.
1/1 mismatches
[1] 58.7 - 59.8 == -1.15
[ FAIL 3 | WARN 0 | SKIP 0 | PASS 763 ]
Error: Test failures
Execution halted
* checking for unstated dependencies in vignettes ... OK
* checking package vignettes ... OK
* checking re-building of vignette outputs ... OK
* checking PDF version of manual ... OK
* DONE
Status: 1 ERROR
See
‘/home/biocbuild/bbs-3.22-bioc/meat/MetNet.Rcheck/00check.log’
for details.
MetNet.Rcheck/00install.out
############################################################################## ############################################################################## ### ### Running command: ### ### /home/biocbuild/bbs-3.22-bioc/R/bin/R CMD INSTALL MetNet ### ############################################################################## ############################################################################## * installing to library ‘/home/biocbuild/bbs-3.22-bioc/R/site-library’ * installing *source* package ‘MetNet’ ... ** this is package ‘MetNet’ version ‘1.27.3’ ** using staged installation ** R ** data ** inst ** byte-compile and prepare package for lazy loading ** help *** installing help indices ** building package indices ** installing vignettes ** testing if installed package can be loaded from temporary location ** testing if installed package can be loaded from final location ** testing if installed package keeps a record of temporary installation path * DONE (MetNet)
MetNet.Rcheck/tests/testthat.Rout.fail
R version 4.5.1 Patched (2025-08-23 r88802) -- "Great Square Root"
Copyright (C) 2025 The R Foundation for Statistical Computing
Platform: x86_64-pc-linux-gnu
R is free software and comes with ABSOLUTELY NO WARRANTY.
You are welcome to redistribute it under certain conditions.
Type 'license()' or 'licence()' for distribution details.
R is a collaborative project with many contributors.
Type 'contributors()' for more information and
'citation()' on how to cite R or R packages in publications.
Type 'demo()' for some demos, 'help()' for on-line help, or
'help.start()' for an HTML browser interface to help.
Type 'q()' to quit R.
> library("testthat")
> library("MetNet")
Loading required package: S4Vectors
Loading required package: stats4
Loading required package: BiocGenerics
Loading required package: generics
Attaching package: 'generics'
The following objects are masked from 'package:base':
as.difftime, as.factor, as.ordered, intersect, is.element, setdiff,
setequal, union
Attaching package: 'BiocGenerics'
The following objects are masked from 'package:stats':
IQR, mad, sd, var, xtabs
The following objects are masked from 'package:base':
Filter, Find, Map, Position, Reduce, anyDuplicated, aperm, append,
as.data.frame, basename, cbind, colnames, dirname, do.call,
duplicated, eval, evalq, get, grep, grepl, is.unsorted, lapply,
mapply, match, mget, order, paste, pmax, pmax.int, pmin, pmin.int,
rank, rbind, rownames, sapply, saveRDS, table, tapply, unique,
unsplit, which.max, which.min
Attaching package: 'S4Vectors'
The following object is masked from 'package:utils':
findMatches
The following objects are masked from 'package:base':
I, expand.grid, unname
Loading required package: SummarizedExperiment
Loading required package: MatrixGenerics
Loading required package: matrixStats
Attaching package: 'MatrixGenerics'
The following objects are masked from 'package:matrixStats':
colAlls, colAnyNAs, colAnys, colAvgsPerRowSet, colCollapse,
colCounts, colCummaxs, colCummins, colCumprods, colCumsums,
colDiffs, colIQRDiffs, colIQRs, colLogSumExps, colMadDiffs,
colMads, colMaxs, colMeans2, colMedians, colMins, colOrderStats,
colProds, colQuantiles, colRanges, colRanks, colSdDiffs, colSds,
colSums2, colTabulates, colVarDiffs, colVars, colWeightedMads,
colWeightedMeans, colWeightedMedians, colWeightedSds,
colWeightedVars, rowAlls, rowAnyNAs, rowAnys, rowAvgsPerColSet,
rowCollapse, rowCounts, rowCummaxs, rowCummins, rowCumprods,
rowCumsums, rowDiffs, rowIQRDiffs, rowIQRs, rowLogSumExps,
rowMadDiffs, rowMads, rowMaxs, rowMeans2, rowMedians, rowMins,
rowOrderStats, rowProds, rowQuantiles, rowRanges, rowRanks,
rowSdDiffs, rowSds, rowSums2, rowTabulates, rowVarDiffs, rowVars,
rowWeightedMads, rowWeightedMeans, rowWeightedMedians,
rowWeightedSds, rowWeightedVars
Loading required package: GenomicRanges
Loading required package: IRanges
Loading required package: Seqinfo
Loading required package: Biobase
Welcome to Bioconductor
Vignettes contain introductory material; view with
'browseVignettes()'. To cite Bioconductor, see
'citation("Biobase")', and for packages 'citation("pkgname")'.
Attaching package: 'Biobase'
The following object is masked from 'package:MatrixGenerics':
rowMedians
The following objects are masked from 'package:matrixStats':
anyMissing, rowMedians
Attaching package: 'MetNet'
The following object is masked from 'package:Biobase':
combine
The following objects are masked from 'package:BiocGenerics':
combine, type
>
> test_check("MetNet")
[1] "clr finished."
[1] "aracne finished."
[1] "pearson finished."
[1] "spearman finished."
Estimating optimal shrinkage intensity lambda (correlation matrix): 0.0987
[1] "ggm finished."
[1] "pearson finished."
Estimating optimal shrinkage intensity lambda (correlation matrix): 0.1038
[1] "ggm finished."
[1] "clr finished."
[1] "aracne finished."
[1] "pearson finished."
[1] "spearman finished."
[1] "clr finished."
[1] "aracne finished."
[1] "pearson finished."
[1] "spearman finished."
Estimating optimal shrinkage intensity lambda (correlation matrix): 0.3859
[1] "ggm finished."
[1] "bayes finished."
[1] "clr finished."
[1] "aracne finished."
[1] "pearson finished."
[1] "spearman finished."
Estimating optimal shrinkage intensity lambda (correlation matrix): 0.0761
Estimating optimal shrinkage intensity lambda (correlation matrix): 0.0806
Estimating optimal shrinkage intensity lambda (correlation matrix): 0.1024
Estimating optimal shrinkage intensity lambda (correlation matrix): 0.0211
Estimating optimal shrinkage intensity lambda (correlation matrix): 0.0222
Estimating optimal shrinkage intensity lambda (correlation matrix): 0.1024
[1] "randomForest finished."
[1] "clr finished."
[1] "aracne finished."
[1] "pearson finished."
Estimating optimal shrinkage intensity lambda (correlation matrix): 0.0761
[1] "pearson_partial finished."
[1] "spearman finished."
Estimating optimal shrinkage intensity lambda (correlation matrix): 0.0806
[1] "spearman_partial finished."
Estimating optimal shrinkage intensity lambda (correlation matrix): 0.1024
[1] "ggm finished."
Estimating optimal shrinkage intensity lambda (correlation matrix): 0.0761
Estimating optimal shrinkage intensity lambda (correlation matrix): 0.0806
Estimating optimal shrinkage intensity lambda (correlation matrix): 0.1024
[1] "pearson finished."
[1] "spearman finished."
Estimating optimal shrinkage intensity lambda (correlation matrix): 0.0987
[1] "ggm finished."
[1] "randomForest finished."
[1] "clr finished."
[1] "aracne finished."
[1] "pearson finished."
[1] "spearman finished."
[1] "bayes finished."
[1] "pearson finished."
Estimating optimal shrinkage intensity lambda (correlation matrix): 0.1139
[1] "ggm finished."
[1] "clr finished."
[1] "aracne finished."
[1] "pearson finished."
[1] "spearman finished."
Estimating optimal shrinkage intensity lambda (correlation matrix): 0.0461
[1] "ggm finished."
[ FAIL 3 | WARN 0 | SKIP 0 | PASS 763 ]
══ Failed tests ════════════════════════════════════════════════════════════════
── Failure ('test_methods.R:132:5'): as.data.frame ─────────────────────────────
sum(df$aracne_coef) not equal to 59.84569.
1/1 mismatches
[1] 58.7 - 59.8 == -1.15
── Failure ('test_methods.R:147:5'): as.data.frame ─────────────────────────────
sum(df$aracne_coef) not equal to 59.84569.
1/1 mismatches
[1] 58.7 - 59.8 == -1.15
── Failure ('test_methods.R:166:5'): as.data.frame ─────────────────────────────
sum(df$aracne_coef, na.rm = TRUE) not equal to 59.84569.
1/1 mismatches
[1] 58.7 - 59.8 == -1.15
[ FAIL 3 | WARN 0 | SKIP 0 | PASS 763 ]
Error: Test failures
Execution halted
MetNet.Rcheck/MetNet-Ex.timings
| name | user | system | elapsed | |
| AdjacencyMatrix | 0.093 | 0.000 | 0.093 | |
| MetNet-package | 56.755 | 1.227 | 57.982 | |
| addSpectralSimilarity | 0.110 | 0.015 | 0.125 | |
| addToList | 0.013 | 0.001 | 0.014 | |
| aracne | 0.068 | 0.014 | 0.059 | |
| bayes | 1.916 | 0.096 | 2.012 | |
| clr | 0.071 | 0.007 | 0.055 | |
| combine | 0.478 | 0.007 | 0.484 | |
| correlation | 0.006 | 0.000 | 0.005 | |
| getLinks | 0.003 | 0.000 | 0.002 | |
| lasso | 0.004 | 0.001 | 0.005 | |
| mz_summary | 0.232 | 0.004 | 0.237 | |
| mz_vis | 0.468 | 0.000 | 0.467 | |
| partialCorrelation | 0.008 | 0.006 | 0.013 | |
| randomForest | 1.748 | 0.017 | 1.764 | |
| rtCorrection | 0.320 | 0.019 | 0.338 | |
| statistical | 0.131 | 0.001 | 0.132 | |
| structural | 0.046 | 0.000 | 0.046 | |
| threshold | 0.504 | 0.007 | 0.510 | |
| topKnet | 0.002 | 0.000 | 0.002 | |