| Back to Multiple platform build/check report for BioC 3.22: simplified long |
|
This page was generated on 2025-11-20 12:05 -0500 (Thu, 20 Nov 2025).
| Hostname | OS | Arch (*) | R version | Installed pkgs |
|---|---|---|---|---|
| nebbiolo2 | Linux (Ubuntu 24.04.3 LTS) | x86_64 | 4.5.2 (2025-10-31) -- "[Not] Part in a Rumble" | 4615 |
| merida1 | macOS 12.7.6 Monterey | x86_64 | 4.5.2 Patched (2025-11-05 r88990) -- "[Not] Part in a Rumble" | 4610 |
| kjohnson1 | macOS 13.7.5 Ventura | arm64 | 4.5.2 Patched (2025-11-04 r88984) -- "[Not] Part in a Rumble" | 4598 |
| taishan | Linux (openEuler 24.03 LTS) | aarch64 | 4.5.0 (2025-04-11) -- "How About a Twenty-Six" | 4668 |
| Click on any hostname to see more info about the system (e.g. compilers) (*) as reported by 'uname -p', except on Windows and Mac OS X | ||||
| Package 1167/2361 | Hostname | OS / Arch | INSTALL | BUILD | CHECK | BUILD BIN | ||||||||
| M3Drop 1.36.0 (landing page) Tallulah Andrews
| nebbiolo2 | Linux (Ubuntu 24.04.3 LTS) / x86_64 | OK | OK | OK | |||||||||
| merida1 | macOS 12.7.6 Monterey / x86_64 | OK | OK | OK | OK | |||||||||
| kjohnson1 | macOS 13.7.5 Ventura / arm64 | OK | OK | OK | OK | |||||||||
| taishan | Linux (openEuler 24.03 LTS) / aarch64 | OK | OK | OK | ||||||||||
|
To the developers/maintainers of the M3Drop package: - Allow up to 24 hours (and sometimes 48 hours) for your latest push to git@git.bioconductor.org:packages/M3Drop.git to reflect on this report. See Troubleshooting Build Report for more information. - Use the following Renviron settings to reproduce errors and warnings. - If 'R CMD check' started to fail recently on the Linux builder(s) over a missing dependency, add the missing dependency to 'Suggests:' in your DESCRIPTION file. See Renviron.bioc for more information. |
| Package: M3Drop |
| Version: 1.36.0 |
| Command: /Library/Frameworks/R.framework/Resources/bin/R CMD check --install=check:M3Drop.install-out.txt --library=/Library/Frameworks/R.framework/Resources/library --no-vignettes --timings M3Drop_1.36.0.tar.gz |
| StartedAt: 2025-11-18 09:40:33 -0500 (Tue, 18 Nov 2025) |
| EndedAt: 2025-11-18 09:52:17 -0500 (Tue, 18 Nov 2025) |
| EllapsedTime: 703.8 seconds |
| RetCode: 0 |
| Status: OK |
| CheckDir: M3Drop.Rcheck |
| Warnings: 0 |
##############################################################################
##############################################################################
###
### Running command:
###
### /Library/Frameworks/R.framework/Resources/bin/R CMD check --install=check:M3Drop.install-out.txt --library=/Library/Frameworks/R.framework/Resources/library --no-vignettes --timings M3Drop_1.36.0.tar.gz
###
##############################################################################
##############################################################################
* using log directory ‘/Users/biocbuild/bbs-3.22-bioc/meat/M3Drop.Rcheck’
* using R version 4.5.2 Patched (2025-11-05 r88990)
* using platform: x86_64-apple-darwin20
* R was compiled by
Apple clang version 14.0.0 (clang-1400.0.29.202)
GNU Fortran (GCC) 14.2.0
* running under: macOS Monterey 12.7.6
* using session charset: UTF-8
* using option ‘--no-vignettes’
* checking for file ‘M3Drop/DESCRIPTION’ ... OK
* this is package ‘M3Drop’ version ‘1.36.0’
* checking package namespace information ... OK
* checking package dependencies ... OK
* checking if this is a source package ... OK
* checking if there is a namespace ... OK
* checking for hidden files and directories ... OK
* checking for portable file names ... OK
* checking for sufficient/correct file permissions ... OK
* checking whether package ‘M3Drop’ can be installed ... OK
* checking installed package size ... OK
* checking package directory ... OK
* checking ‘build’ directory ... OK
* checking DESCRIPTION meta-information ... OK
* checking top-level files ... OK
* checking for left-over files ... OK
* checking index information ... OK
* checking package subdirectories ... OK
* checking code files for non-ASCII characters ... OK
* checking R files for syntax errors ... OK
* checking whether the package can be loaded ... OK
* checking whether the package can be loaded with stated dependencies ... OK
* checking whether the package can be unloaded cleanly ... OK
* checking whether the namespace can be loaded with stated dependencies ... OK
* checking whether the namespace can be unloaded cleanly ... OK
* checking dependencies in R code ... NOTE
Namespace in Imports field not imported from: ‘scater’
All declared Imports should be used.
* checking S3 generic/method consistency ... OK
* checking replacement functions ... OK
* checking foreign function calls ... OK
* checking R code for possible problems ... NOTE
M3DropConvertData: no visible global function definition for ‘assays’
NBumiConvertData: no visible global function definition for ‘assays’
bg__filter_cells: no visible binding for global variable ‘x’
bg__get_extreme_residuals: no visible binding for global variable ‘x’
Undefined global functions or variables:
assays x
* checking Rd files ... NOTE
prepare_Rd: NBumi_FSOther.Rd:8-10: Dropping empty section \usage
prepare_Rd: NBumi_TradDE.Rd:7-8: Dropping empty section \usage
* checking Rd metadata ... OK
* checking Rd cross-references ... OK
* checking for missing documentation entries ... OK
* checking for code/documentation mismatches ... OK
* checking Rd \usage sections ... OK
* checking Rd contents ... OK
* checking for unstated dependencies in examples ... OK
* checking sizes of PDF files under ‘inst/doc’ ... OK
* checking files in ‘vignettes’ ... OK
* checking examples ... OK
Examples with CPU (user + system) or elapsed time > 5s
user system elapsed
NewSimulations 160.661 2.782 251.726
Imputation 57.303 0.571 86.584
M3D_getmarkers 52.254 1.609 85.176
M3D_ConverData 6.842 0.283 10.565
Brennecke_getVariableGenes 3.866 0.246 6.244
NBumi_CompareModels 3.216 0.148 5.471
* checking for unstated dependencies in vignettes ... OK
* checking package vignettes ... OK
* checking running R code from vignettes ... SKIPPED
* checking re-building of vignette outputs ... SKIPPED
* checking PDF version of manual ... OK
* DONE
Status: 3 NOTEs
See
‘/Users/biocbuild/bbs-3.22-bioc/meat/M3Drop.Rcheck/00check.log’
for details.
M3Drop.Rcheck/00install.out
############################################################################## ############################################################################## ### ### Running command: ### ### /Library/Frameworks/R.framework/Resources/bin/R CMD INSTALL M3Drop ### ############################################################################## ############################################################################## * installing to library ‘/Library/Frameworks/R.framework/Versions/4.5-x86_64/Resources/library’ * installing *source* package ‘M3Drop’ ... ** this is package ‘M3Drop’ version ‘1.36.0’ ** using staged installation ** R ** inst ** byte-compile and prepare package for lazy loading ** help *** installing help indices ** building package indices ** installing vignettes ** testing if installed package can be loaded from temporary location ** testing if installed package can be loaded from final location ** testing if installed package keeps a record of temporary installation path * DONE (M3Drop)
M3Drop.Rcheck/M3Drop-Ex.timings
| name | user | system | elapsed | |
| Brennecke_getVariableGenes | 3.866 | 0.246 | 6.244 | |
| Consensus_FS | 0.357 | 0.013 | 0.576 | |
| Fitting_Dropout_Models | 0 | 0 | 0 | |
| Imputation | 57.303 | 0.571 | 86.584 | |
| M3D_Clean_Data | 2.026 | 0.084 | 3.097 | |
| M3D_ConverData | 6.842 | 0.283 | 10.565 | |
| M3D_Differential_Expression | 1.897 | 0.075 | 3.016 | |
| M3D_Dropout_Models | 1.048 | 0.072 | 1.493 | |
| M3D_Expression_Heatmap | 0.676 | 0.025 | 1.201 | |
| M3D_Get_Extremes | 2.208 | 0.127 | 3.479 | |
| M3D_Get_Heatmap_Cell_Clusters | 0.607 | 0.012 | 0.959 | |
| M3D_Simulations | 0 | 0 | 0 | |
| M3D_Test_Shift | 0.565 | 0.051 | 0.963 | |
| M3D_ThreeSet_Venn | 0.399 | 0.009 | 0.614 | |
| M3D_TraditionalDE | 0.011 | 0.001 | 0.017 | |
| M3D_getmarkers | 52.254 | 1.609 | 85.176 | |
| M3D_horz_res | 0.001 | 0.000 | 0.000 | |
| NBumi_CheckFit | 2.499 | 0.167 | 4.198 | |
| NBumi_CoExpression | 1.100 | 0.047 | 1.735 | |
| NBumi_CompareModels | 3.216 | 0.148 | 5.471 | |
| NBumi_ConvertToInteger | 0.000 | 0.000 | 0.001 | |
| NBumi_ConvrtData | 0.333 | 0.016 | 0.550 | |
| NBumi_FSDrop | 1.351 | 0.038 | 2.315 | |
| NBumi_FSHighVar | 1.068 | 0.029 | 1.796 | |
| NBumi_FSOther | 0.012 | 0.000 | 0.023 | |
| NBumi_FitDisp | 0.000 | 0.000 | 0.001 | |
| NBumi_FitDispVsMean | 1.466 | 0.039 | 2.450 | |
| NBumi_FitModel | 1.060 | 0.039 | 1.796 | |
| NBumi_HVG | 1.147 | 0.042 | 1.896 | |
| NBumi_PearsonResiduals | 1.166 | 0.039 | 2.039 | |
| NBumi_TradDE | 0.000 | 0.001 | 0.001 | |
| NewSimulations | 160.661 | 2.782 | 251.726 | |
| Other_FS | 1.334 | 0.027 | -0.155 | |
| PoissonUMIFeatureSelectionDropouts | 1.102 | 0.076 | 1.718 | |
| bg__fit_gamma | 0.000 | 0.001 | 0.000 | |
| bg__get_stats | 0.000 | 0.000 | 0.001 | |
| bg__mean2disp | 0 | 0 | 0 | |
| bg__shift_size | 0.000 | 0.001 | 0.001 | |
| bg__var_vs_drop | 0 | 0 | 0 | |