Back to Multiple platform build/check report for BioC 3.22:   simplified   long
ABCDEFGHIJK[L]MNOPQRSTUVWXYZ

This page was generated on 2025-11-15 11:58 -0500 (Sat, 15 Nov 2025).

HostnameOSArch (*)R versionInstalled pkgs
nebbiolo2Linux (Ubuntu 24.04.3 LTS)x86_644.5.1 Patched (2025-08-23 r88802) -- "Great Square Root" 4903
taishanLinux (openEuler 24.03 LTS)aarch644.5.0 (2025-04-11) -- "How About a Twenty-Six" 4668
Click on any hostname to see more info about the system (e.g. compilers)      (*) as reported by 'uname -p', except on Windows and Mac OS X

Package 1142/2361HostnameOS / ArchINSTALLBUILDCHECKBUILD BIN
LinkHD 1.24.0  (landing page)
"Laura M Zingaretti"
Snapshot Date: 2025-11-14 13:45 -0500 (Fri, 14 Nov 2025)
git_url: https://git.bioconductor.org/packages/LinkHD
git_branch: RELEASE_3_22
git_last_commit: ad5025e
git_last_commit_date: 2025-10-29 10:55:08 -0500 (Wed, 29 Oct 2025)
nebbiolo2Linux (Ubuntu 24.04.3 LTS) / x86_64  OK    OK    OK  UNNEEDED, same version is already published
taishanLinux (openEuler 24.03 LTS) / aarch64  OK    OK    OK  


CHECK results for LinkHD on nebbiolo2

To the developers/maintainers of the LinkHD package:
- Allow up to 24 hours (and sometimes 48 hours) for your latest push to git@git.bioconductor.org:packages/LinkHD.git to reflect on this report. See Troubleshooting Build Report for more information.
- Use the following Renviron settings to reproduce errors and warnings.
- If 'R CMD check' started to fail recently on the Linux builder(s) over a missing dependency, add the missing dependency to 'Suggests:' in your DESCRIPTION file. See Renviron.bioc for more information.

raw results


Summary

Package: LinkHD
Version: 1.24.0
Command: /home/biocbuild/bbs-3.22-bioc/R/bin/R CMD check --install=check:LinkHD.install-out.txt --library=/home/biocbuild/bbs-3.22-bioc/R/site-library --timings LinkHD_1.24.0.tar.gz
StartedAt: 2025-11-15 01:06:46 -0500 (Sat, 15 Nov 2025)
EndedAt: 2025-11-15 01:11:30 -0500 (Sat, 15 Nov 2025)
EllapsedTime: 284.3 seconds
RetCode: 0
Status:   OK  
CheckDir: LinkHD.Rcheck
Warnings: 0

Command output

##############################################################################
##############################################################################
###
### Running command:
###
###   /home/biocbuild/bbs-3.22-bioc/R/bin/R CMD check --install=check:LinkHD.install-out.txt --library=/home/biocbuild/bbs-3.22-bioc/R/site-library --timings LinkHD_1.24.0.tar.gz
###
##############################################################################
##############################################################################


* using log directory ‘/home/biocbuild/bbs-3.22-bioc/meat/LinkHD.Rcheck’
* using R version 4.5.1 Patched (2025-08-23 r88802)
* using platform: x86_64-pc-linux-gnu
* R was compiled by
    gcc (Ubuntu 13.3.0-6ubuntu2~24.04) 13.3.0
    GNU Fortran (Ubuntu 13.3.0-6ubuntu2~24.04) 13.3.0
* running under: Ubuntu 24.04.3 LTS
* using session charset: UTF-8
* checking for file ‘LinkHD/DESCRIPTION’ ... OK
* checking extension type ... Package
* this is package ‘LinkHD’ version ‘1.24.0’
* package encoding: UTF-8
* checking package namespace information ... OK
* checking package dependencies ... OK
* checking if this is a source package ... OK
* checking if there is a namespace ... OK
* checking for hidden files and directories ... OK
* checking for portable file names ... OK
* checking for sufficient/correct file permissions ... OK
* checking whether package ‘LinkHD’ can be installed ... OK
* checking installed package size ... OK
* checking package directory ... OK
* checking ‘build’ directory ... OK
* checking DESCRIPTION meta-information ... OK
* checking top-level files ... OK
* checking for left-over files ... OK
* checking index information ... OK
* checking package subdirectories ... OK
* checking code files for non-ASCII characters ... OK
* checking R files for syntax errors ... OK
* checking whether the package can be loaded ... OK
* checking whether the package can be loaded with stated dependencies ... OK
* checking whether the package can be unloaded cleanly ... OK
* checking whether the namespace can be loaded with stated dependencies ... OK
* checking whether the namespace can be unloaded cleanly ... OK
* checking loading without being on the library search path ... OK
* checking dependencies in R code ... OK
* checking S3 generic/method consistency ... OK
* checking replacement functions ... OK
* checking foreign function calls ... OK
* checking R code for possible problems ... OK
* checking Rd files ... NOTE
checkRd: (-1) VarSelection.Rd:40: Lost braces; missing escapes or markup?
    40 | a general linear regression into the $X$ matrix (${Y_hat}=X(X'X)^(-1)X'Y$) and the matrix $X(X'X)^(-1)X'$ is the projection matrix
       |                                                   ^
* checking Rd metadata ... OK
* checking Rd cross-references ... OK
* checking for missing documentation entries ... OK
* checking for code/documentation mismatches ... OK
* checking Rd \usage sections ... OK
* checking Rd contents ... OK
* checking for unstated dependencies in examples ... OK
* checking contents of ‘data’ directory ... OK
* checking data for non-ASCII characters ... OK
* checking LazyData ... OK
* checking data for ASCII and uncompressed saves ... OK
* checking files in ‘vignettes’ ... OK
* checking examples ... OK
* checking for unstated dependencies in vignettes ... OK
* checking package vignettes ... OK
* checking re-building of vignette outputs ... OK
* checking PDF version of manual ... OK
* DONE

Status: 1 NOTE
See
  ‘/home/biocbuild/bbs-3.22-bioc/meat/LinkHD.Rcheck/00check.log’
for details.


Installation output

LinkHD.Rcheck/00install.out

##############################################################################
##############################################################################
###
### Running command:
###
###   /home/biocbuild/bbs-3.22-bioc/R/bin/R CMD INSTALL LinkHD
###
##############################################################################
##############################################################################


* installing to library ‘/home/biocbuild/bbs-3.22-bioc/R/site-library’
* installing *source* package ‘LinkHD’ ...
** this is package ‘LinkHD’ version ‘1.24.0’
** using staged installation
** R
** data
*** moving datasets to lazyload DB
** byte-compile and prepare package for lazy loading
** help
*** installing help indices
** building package indices
** installing vignettes
** testing if installed package can be loaded from temporary location
** testing if installed package can be loaded from final location
** testing if installed package keeps a record of temporary installation path
* DONE (LinkHD)

Tests output


Example timings

LinkHD.Rcheck/LinkHD-Ex.timings

nameusersystemelapsed
Compromise_matrix-methods0.9570.0881.046
DataProcessing0.0070.0000.006
DistStatis-Class000
DistStatis-CompromisePlot0.5490.0050.553
DistStatis-CorrelationPlot0.7860.0500.837
DistStatis-GlobalPlot0.8260.0490.875
Euclid_Im-methods0.8660.0170.882
Inertia_RV-methods0.2940.0000.293
Inertia_comp-methods0.2840.0010.286
LinkData-LinkData0.2810.0040.285
OTU2Taxa-OTU2Taxa2.3850.1152.501
RQO-methods0.3050.0030.308
Read_Data000
Ruminotypes0.0010.0000.000
Taraoceans0.0010.0000.000
Trajectories-methods0.5020.0390.541
VarSelection-Class000
VarSelection1.5760.0281.604
VarTable-methods2.2120.1162.329
Var_coordinates-methods1.5310.0251.556
Variables-methods1.5640.0461.610
compromise_coords-methods0.2810.0020.283
correl-methods0.2900.0040.296
dAB-dAB0.5580.0020.560
sign_values-methods1.5370.0001.537