Back to Multiple platform build/check report for BioC 3.22:   simplified   long
ABCDEFGH[I]JKLMNOPQRSTUVWXYZ

This page was generated on 2025-11-15 11:58 -0500 (Sat, 15 Nov 2025).

HostnameOSArch (*)R versionInstalled pkgs
nebbiolo2Linux (Ubuntu 24.04.3 LTS)x86_644.5.1 Patched (2025-08-23 r88802) -- "Great Square Root" 4903
taishanLinux (openEuler 24.03 LTS)aarch644.5.0 (2025-04-11) -- "How About a Twenty-Six" 4668
Click on any hostname to see more info about the system (e.g. compilers)      (*) as reported by 'uname -p', except on Windows and Mac OS X

Package 1064/2361HostnameOS / ArchINSTALLBUILDCHECKBUILD BIN
INSPEcT 1.40.0  (landing page)
Stefano de Pretis
Snapshot Date: 2025-11-14 13:45 -0500 (Fri, 14 Nov 2025)
git_url: https://git.bioconductor.org/packages/INSPEcT
git_branch: RELEASE_3_22
git_last_commit: c9f5ce1
git_last_commit_date: 2025-10-29 10:26:37 -0500 (Wed, 29 Oct 2025)
nebbiolo2Linux (Ubuntu 24.04.3 LTS) / x86_64  OK    OK    OK  UNNEEDED, same version is already published
taishanLinux (openEuler 24.03 LTS) / aarch64  OK    OK    OK  


CHECK results for INSPEcT on nebbiolo2

To the developers/maintainers of the INSPEcT package:
- Allow up to 24 hours (and sometimes 48 hours) for your latest push to git@git.bioconductor.org:packages/INSPEcT.git to reflect on this report. See Troubleshooting Build Report for more information.
- Use the following Renviron settings to reproduce errors and warnings.
- If 'R CMD check' started to fail recently on the Linux builder(s) over a missing dependency, add the missing dependency to 'Suggests:' in your DESCRIPTION file. See Renviron.bioc for more information.

raw results


Summary

Package: INSPEcT
Version: 1.40.0
Command: /home/biocbuild/bbs-3.22-bioc/R/bin/R CMD check --install=check:INSPEcT.install-out.txt --library=/home/biocbuild/bbs-3.22-bioc/R/site-library --timings INSPEcT_1.40.0.tar.gz
StartedAt: 2025-11-15 00:49:42 -0500 (Sat, 15 Nov 2025)
EndedAt: 2025-11-15 01:08:12 -0500 (Sat, 15 Nov 2025)
EllapsedTime: 1110.3 seconds
RetCode: 0
Status:   OK  
CheckDir: INSPEcT.Rcheck
Warnings: 0

Command output

##############################################################################
##############################################################################
###
### Running command:
###
###   /home/biocbuild/bbs-3.22-bioc/R/bin/R CMD check --install=check:INSPEcT.install-out.txt --library=/home/biocbuild/bbs-3.22-bioc/R/site-library --timings INSPEcT_1.40.0.tar.gz
###
##############################################################################
##############################################################################


* using log directory ‘/home/biocbuild/bbs-3.22-bioc/meat/INSPEcT.Rcheck’
* using R version 4.5.1 Patched (2025-08-23 r88802)
* using platform: x86_64-pc-linux-gnu
* R was compiled by
    gcc (Ubuntu 13.3.0-6ubuntu2~24.04) 13.3.0
    GNU Fortran (Ubuntu 13.3.0-6ubuntu2~24.04) 13.3.0
* running under: Ubuntu 24.04.3 LTS
* using session charset: UTF-8
* checking for file ‘INSPEcT/DESCRIPTION’ ... OK
* checking extension type ... Package
* this is package ‘INSPEcT’ version ‘1.40.0’
* checking package namespace information ... OK
* checking package dependencies ... OK
* checking if this is a source package ... OK
* checking if there is a namespace ... OK
* checking for hidden files and directories ... OK
* checking for portable file names ... OK
* checking for sufficient/correct file permissions ... OK
* checking whether package ‘INSPEcT’ can be installed ... OK
* checking installed package size ... INFO
  installed size is  7.1Mb
  sub-directories of 1Mb or more:
    R      1.8Mb
    data   2.8Mb
* checking package directory ... OK
* checking ‘build’ directory ... OK
* checking DESCRIPTION meta-information ... OK
* checking top-level files ... OK
* checking for left-over files ... OK
* checking index information ... OK
* checking package subdirectories ... OK
* checking code files for non-ASCII characters ... OK
* checking R files for syntax errors ... OK
* checking whether the package can be loaded ... OK
* checking whether the package can be loaded with stated dependencies ... OK
* checking whether the package can be unloaded cleanly ... OK
* checking whether the namespace can be loaded with stated dependencies ... OK
* checking whether the namespace can be unloaded cleanly ... OK
* checking loading without being on the library search path ... OK
* checking dependencies in R code ... OK
* checking S3 generic/method consistency ... OK
* checking replacement functions ... OK
* checking foreign function calls ... OK
* checking R code for possible problems ... NOTE
output_pars: no visible global function definition for ‘plot.new’
plotSingleRNADynamic: no visible global function definition for ‘lines’
Undefined global functions or variables:
  lines plot.new
Consider adding
  importFrom("graphics", "lines", "plot.new")
to your NAMESPACE file.
* checking Rd files ... OK
* checking Rd metadata ... OK
* checking Rd cross-references ... NOTE
Found the following Rd file(s) with Rd \link{} targets missing package
anchors:
  INSPEcT-class.Rd: featureNames
Please provide package anchors for all Rd \link{} targets not in the
package itself and the base packages.
* checking for missing documentation entries ... OK
* checking for code/documentation mismatches ... OK
* checking Rd \usage sections ... OK
* checking Rd contents ... OK
* checking for unstated dependencies in examples ... OK
* checking contents of ‘data’ directory ... OK
* checking data for non-ASCII characters ... OK
* checking data for ASCII and uncompressed saves ... OK
* checking files in ‘vignettes’ ... OK
* checking examples ... OK
Examples with CPU (user + system) or elapsed time > 5s
                                  user system elapsed
makeSimDataset                  74.449  0.357  74.805
modelRates                      38.172  0.152  38.323
quantifyExpressionsFromBAMs     29.868  0.101  30.298
INSPEcT_diffsteady-class        28.175  0.761  28.936
makeSimModel                    25.424  0.074  25.497
rocCurve                        25.274  0.042  25.317
rocThresholds                   24.251  0.150  24.401
plotMA                          23.478  0.127  23.605
compareSteady                   23.146  0.203  23.350
quantifyExpressionsFromTrCounts 16.175  0.002  16.176
processingDelay                 14.000  0.105  14.105
newINSPEcT                      13.598  0.052  13.649
inspectFromPCR                   6.551  0.071   6.622
makeOscillatorySimModel          5.784  0.079   5.866
compareSteadyNoNascent           5.278  0.032   5.311
* checking for unstated dependencies in vignettes ... OK
* checking package vignettes ... OK
* checking re-building of vignette outputs ... OK
* checking PDF version of manual ... OK
* DONE

Status: 2 NOTEs
See
  ‘/home/biocbuild/bbs-3.22-bioc/meat/INSPEcT.Rcheck/00check.log’
for details.


Installation output

INSPEcT.Rcheck/00install.out

##############################################################################
##############################################################################
###
### Running command:
###
###   /home/biocbuild/bbs-3.22-bioc/R/bin/R CMD INSTALL INSPEcT
###
##############################################################################
##############################################################################


* installing to library ‘/home/biocbuild/bbs-3.22-bioc/R/site-library’
* installing *source* package ‘INSPEcT’ ...
** this is package ‘INSPEcT’ version ‘1.40.0’
** using staged installation
** R
** data
** inst
** byte-compile and prepare package for lazy loading
** help
*** installing help indices
** building package indices
** installing vignettes
** testing if installed package can be loaded from temporary location
** testing if installed package can be loaded from final location
** testing if installed package keeps a record of temporary installation path
* DONE (INSPEcT)

Tests output


Example timings

INSPEcT.Rcheck/INSPEcT-Ex.timings

nameusersystemelapsed
AIC-INSPEcT-method0.1870.0090.195
Extract0.3550.0070.361
INSPEcT_diffsteady-class28.175 0.76128.936
calculateRatePvals0.2220.0030.226
chisqmodel0.1840.0050.188
chisqtest0.1870.0000.187
combine0.3590.0060.366
compareSteady23.146 0.20323.350
compareSteadyNoNascent5.2780.0325.311
convergence0.1860.0050.192
geneClass0.2260.0000.227
inHeatmap0.2160.0050.222
inspectFromPCR6.5510.0716.622
labeledSF0.1860.0050.192
logLik0.1860.0030.189
makeModelRates0.2220.0040.226
makeOscillatorySimModel5.7840.0795.866
makeSimDataset74.449 0.35774.805
makeSimModel25.424 0.07425.497
modelRates38.172 0.15238.323
modelRatesNF4.0920.0294.121
modelSelection0.1880.0020.190
modelingParams0.1860.0020.187
nGenes0.1850.0040.188
nTpts0.1860.0040.190
newINSPEcT13.598 0.05213.649
plotGene0.2290.0020.231
plotMA23.478 0.12723.605
processingDelay14.000 0.10514.105
quantifyExpressionsFromBAMs29.868 0.10130.298
quantifyExpressionsFromTrCounts16.175 0.00216.176
ratePvals0.1870.0010.187
ratesFirstGuess0.1850.0010.187
ratesFirstGuessVar0.1840.0020.186
removeModel0.2780.0000.279
rocCurve25.274 0.04225.317
rocThresholds24.251 0.15024.401
split0.2630.0070.270
tpts0.1860.0000.186
viewConfidenceIntervals0.1850.0010.186
viewModelRates0.1830.0030.186