| Back to Multiple platform build/check report for BioC 3.22: simplified long |
|
This page was generated on 2025-10-24 12:03 -0400 (Fri, 24 Oct 2025).
| Hostname | OS | Arch (*) | R version | Installed pkgs |
|---|---|---|---|---|
| nebbiolo2 | Linux (Ubuntu 24.04.3 LTS) | x86_64 | 4.5.1 Patched (2025-08-23 r88802) -- "Great Square Root" | 4898 |
| lconway | macOS 12.7.6 Monterey | x86_64 | 4.5.1 Patched (2025-09-10 r88807) -- "Great Square Root" | 4688 |
| kjohnson3 | macOS 13.7.7 Ventura | arm64 | 4.5.1 Patched (2025-09-10 r88807) -- "Great Square Root" | 4634 |
| taishan | Linux (openEuler 24.03 LTS) | aarch64 | 4.5.0 (2025-04-11) -- "How About a Twenty-Six" | 4658 |
| Click on any hostname to see more info about the system (e.g. compilers) (*) as reported by 'uname -p', except on Windows and Mac OS X | ||||
| Package 814/2359 | Hostname | OS / Arch | INSTALL | BUILD | CHECK | BUILD BIN | ||||||||
| GeneBreak 1.39.0 (landing page) Evert van den Broek
| nebbiolo2 | Linux (Ubuntu 24.04.3 LTS) / x86_64 | OK | OK | OK | |||||||||
| lconway | macOS 12.7.6 Monterey / x86_64 | OK | OK | OK | OK | |||||||||
| kjohnson3 | macOS 13.7.7 Ventura / arm64 | OK | OK | OK | OK | |||||||||
| taishan | Linux (openEuler 24.03 LTS) / aarch64 | OK | OK | NA | ||||||||||
|
To the developers/maintainers of the GeneBreak package: - Allow up to 24 hours (and sometimes 48 hours) for your latest push to git@git.bioconductor.org:packages/GeneBreak.git to reflect on this report. See Troubleshooting Build Report for more information. - Use the following Renviron settings to reproduce errors and warnings. - If 'R CMD check' started to fail recently on the Linux builder(s) over a missing dependency, add the missing dependency to 'Suggests:' in your DESCRIPTION file. See Renviron.bioc for more information. |
| Package: GeneBreak |
| Version: 1.39.0 |
| Command: /home/biocbuild/bbs-3.22-bioc/R/bin/R CMD check --install=check:GeneBreak.install-out.txt --library=/home/biocbuild/bbs-3.22-bioc/R/site-library --timings GeneBreak_1.39.0.tar.gz |
| StartedAt: 2025-10-23 23:48:23 -0400 (Thu, 23 Oct 2025) |
| EndedAt: 2025-10-23 23:51:02 -0400 (Thu, 23 Oct 2025) |
| EllapsedTime: 159.2 seconds |
| RetCode: 0 |
| Status: OK |
| CheckDir: GeneBreak.Rcheck |
| Warnings: 0 |
##############################################################################
##############################################################################
###
### Running command:
###
### /home/biocbuild/bbs-3.22-bioc/R/bin/R CMD check --install=check:GeneBreak.install-out.txt --library=/home/biocbuild/bbs-3.22-bioc/R/site-library --timings GeneBreak_1.39.0.tar.gz
###
##############################################################################
##############################################################################
* using log directory ‘/home/biocbuild/bbs-3.22-bioc/meat/GeneBreak.Rcheck’
* using R version 4.5.1 Patched (2025-08-23 r88802)
* using platform: x86_64-pc-linux-gnu
* R was compiled by
gcc (Ubuntu 13.3.0-6ubuntu2~24.04) 13.3.0
GNU Fortran (Ubuntu 13.3.0-6ubuntu2~24.04) 13.3.0
* running under: Ubuntu 24.04.3 LTS
* using session charset: UTF-8
* checking for file ‘GeneBreak/DESCRIPTION’ ... OK
* checking extension type ... Package
* this is package ‘GeneBreak’ version ‘1.39.0’
* checking package namespace information ... OK
* checking package dependencies ... OK
* checking if this is a source package ... OK
* checking if there is a namespace ... OK
* checking for hidden files and directories ... OK
* checking for portable file names ... OK
* checking for sufficient/correct file permissions ... OK
* checking whether package ‘GeneBreak’ can be installed ... OK
* checking installed package size ... OK
* checking package directory ... OK
* checking ‘build’ directory ... OK
* checking DESCRIPTION meta-information ... OK
* checking top-level files ... OK
* checking for left-over files ... OK
* checking index information ... OK
* checking package subdirectories ... OK
* checking code files for non-ASCII characters ... OK
* checking R files for syntax errors ... OK
* checking whether the package can be loaded ... OK
* checking whether the package can be loaded with stated dependencies ... OK
* checking whether the package can be unloaded cleanly ... OK
* checking whether the namespace can be loaded with stated dependencies ... OK
* checking whether the namespace can be unloaded cleanly ... OK
* checking loading without being on the library search path ... OK
* checking dependencies in R code ... OK
* checking S3 generic/method consistency ... OK
* checking replacement functions ... OK
* checking foreign function calls ... OK
* checking R code for possible problems ... NOTE
.glmbreak: no visible global function definition for ‘glm’
.glmbreak: no visible global function definition for ‘predict’
addGeneAnnotation,CopyNumberBreakPoints: no visible global function
definition for ‘head’
bpStats,CopyNumberBreakPoints: no visible global function definition
for ‘sd’
bpStats,CopyNumberBreakPoints: no visible global function definition
for ‘p.adjust’
Undefined global functions or variables:
glm head p.adjust predict sd
Consider adding
importFrom("stats", "glm", "p.adjust", "predict", "sd")
importFrom("utils", "head")
to your NAMESPACE file.
* checking Rd files ... OK
* checking Rd metadata ... OK
* checking Rd cross-references ... OK
* checking for missing documentation entries ... OK
* checking for code/documentation mismatches ... OK
* checking Rd \usage sections ... OK
* checking Rd contents ... OK
* checking for unstated dependencies in examples ... OK
* checking contents of ‘data’ directory ... OK
* checking data for non-ASCII characters ... OK
* checking data for ASCII and uncompressed saves ... OK
* checking files in ‘vignettes’ ... OK
* checking examples ... OK
Examples with CPU (user + system) or elapsed time > 5s
user system elapsed
CopyNumberBreakPointGenes-class 5.248 0.12 5.368
* checking for unstated dependencies in vignettes ... OK
* checking package vignettes ... OK
* checking re-building of vignette outputs ... OK
* checking PDF version of manual ... OK
* DONE
Status: 1 NOTE
See
‘/home/biocbuild/bbs-3.22-bioc/meat/GeneBreak.Rcheck/00check.log’
for details.
GeneBreak.Rcheck/00install.out
############################################################################## ############################################################################## ### ### Running command: ### ### /home/biocbuild/bbs-3.22-bioc/R/bin/R CMD INSTALL GeneBreak ### ############################################################################## ############################################################################## * installing to library ‘/home/biocbuild/bbs-3.22-bioc/R/site-library’ * installing *source* package ‘GeneBreak’ ... ** this is package ‘GeneBreak’ version ‘1.39.0’ ** using staged installation ** R ** data ** byte-compile and prepare package for lazy loading Creating a new generic function for ‘segmentData’ in package ‘GeneBreak’ ** help *** installing help indices ** building package indices ** installing vignettes ** testing if installed package can be loaded from temporary location ** testing if installed package can be loaded from final location ** testing if installed package keeps a record of temporary installation path * DONE (GeneBreak)
GeneBreak.Rcheck/GeneBreak-Ex.timings
| name | user | system | elapsed | |
| CopyNumberBreakPointGenes-class | 5.248 | 0.120 | 5.368 | |
| CopyNumberBreakPoints-class | 1.42 | 0.09 | 1.51 | |
| accessOptions-CopyNumberBreakPoints-method | 0.779 | 0.038 | 0.817 | |
| addGeneAnnotation-CopyNumberBreakPoints-method | 1.350 | 0.049 | 1.399 | |
| bpFilter-CopyNumberBreakPoints-method | 1.320 | 0.022 | 1.342 | |
| bpGenes-CopyNumberBreakPointGenes-method | 1.746 | 0.050 | 1.796 | |
| bpPlot-CopyNumberBreakPoints-method | 4.119 | 0.034 | 4.154 | |
| bpStats-CopyNumberBreakPoints-method | 4.230 | 0.046 | 4.277 | |
| breakpointData-CopyNumberBreakPoints-method | 0.887 | 0.101 | 0.989 | |
| breakpointsPerGene-CopyNumberBreakPointGenes-method | 1.969 | 0.103 | 2.073 | |
| callData-CopyNumberBreakPoints-method | 0.996 | 0.096 | 1.092 | |
| featureChromosomes-CopyNumberBreakPoints-method | 0.814 | 0.028 | 0.842 | |
| featureInfo-CopyNumberBreakPoints-method | 1.564 | 0.061 | 1.625 | |
| featuresPerGene-CopyNumberBreakPointGenes-method | 1.519 | 0.034 | 1.554 | |
| geneChromosomes-CopyNumberBreakPointGenes-method | 1.235 | 0.032 | 1.267 | |
| geneInfo-CopyNumberBreakPointGenes-method | 1.366 | 0.051 | 1.417 | |
| getBreakpoints | 1.453 | 0.047 | 1.501 | |
| namesFeatures-CopyNumberBreakPoints-method | 0.771 | 0.048 | 0.819 | |
| recurrentGenes-CopyNumberBreakPointGenes-method | 3.482 | 0.035 | 3.516 | |
| sampleNames-CopyNumberBreakPoints-method | 0.823 | 0.032 | 0.855 | |
| segmentData-CopyNumberBreakPoints-method | 0.664 | 0.079 | 0.742 | |