Back to Multiple platform build/check report for BioC 3.22:   simplified   long
ABCDEF[G]HIJKLMNOPQRSTUVWXYZ

This page was generated on 2025-11-20 12:04 -0500 (Thu, 20 Nov 2025).

HostnameOSArch (*)R versionInstalled pkgs
nebbiolo2Linux (Ubuntu 24.04.3 LTS)x86_644.5.2 (2025-10-31) -- "[Not] Part in a Rumble" 4615
merida1macOS 12.7.6 Montereyx86_644.5.2 Patched (2025-11-05 r88990) -- "[Not] Part in a Rumble" 4610
kjohnson1macOS 13.7.5 Venturaarm644.5.2 Patched (2025-11-04 r88984) -- "[Not] Part in a Rumble" 4598
taishanLinux (openEuler 24.03 LTS)aarch644.5.0 (2025-04-11) -- "How About a Twenty-Six" 4668
Click on any hostname to see more info about the system (e.g. compilers)      (*) as reported by 'uname -p', except on Windows and Mac OS X

Package 809/2361HostnameOS / ArchINSTALLBUILDCHECKBUILD BIN
GeDi 1.6.0  (landing page)
Annekathrin Nedwed
Snapshot Date: 2025-11-17 13:45 -0500 (Mon, 17 Nov 2025)
git_url: https://git.bioconductor.org/packages/GeDi
git_branch: RELEASE_3_22
git_last_commit: 308bc6a
git_last_commit_date: 2025-10-29 11:29:41 -0500 (Wed, 29 Oct 2025)
nebbiolo2Linux (Ubuntu 24.04.3 LTS) / x86_64  OK    OK    ERROR  
merida1macOS 12.7.6 Monterey / x86_64  OK    OK    ERROR    OK  
kjohnson1macOS 13.7.5 Ventura / arm64  OK    OK    ERROR    OK  
taishanLinux (openEuler 24.03 LTS) / aarch64  OK    OK    ERROR  


CHECK results for GeDi on merida1

To the developers/maintainers of the GeDi package:
- Allow up to 24 hours (and sometimes 48 hours) for your latest push to git@git.bioconductor.org:packages/GeDi.git to reflect on this report. See Troubleshooting Build Report for more information.
- Use the following Renviron settings to reproduce errors and warnings.
- If 'R CMD check' started to fail recently on the Linux builder(s) over a missing dependency, add the missing dependency to 'Suggests:' in your DESCRIPTION file. See Renviron.bioc for more information.

raw results


Summary

Package: GeDi
Version: 1.6.0
Command: /Library/Frameworks/R.framework/Resources/bin/R CMD check --install=check:GeDi.install-out.txt --library=/Library/Frameworks/R.framework/Resources/library --no-vignettes --timings GeDi_1.6.0.tar.gz
StartedAt: 2025-11-18 07:52:12 -0500 (Tue, 18 Nov 2025)
EndedAt: 2025-11-18 08:14:51 -0500 (Tue, 18 Nov 2025)
EllapsedTime: 1359.2 seconds
RetCode: 1
Status:   ERROR  
CheckDir: GeDi.Rcheck
Warnings: NA

Command output

##############################################################################
##############################################################################
###
### Running command:
###
###   /Library/Frameworks/R.framework/Resources/bin/R CMD check --install=check:GeDi.install-out.txt --library=/Library/Frameworks/R.framework/Resources/library --no-vignettes --timings GeDi_1.6.0.tar.gz
###
##############################################################################
##############################################################################


* using log directory ‘/Users/biocbuild/bbs-3.22-bioc/meat/GeDi.Rcheck’
* using R version 4.5.2 Patched (2025-11-05 r88990)
* using platform: x86_64-apple-darwin20
* R was compiled by
    Apple clang version 14.0.0 (clang-1400.0.29.202)
    GNU Fortran (GCC) 14.2.0
* running under: macOS Monterey 12.7.6
* using session charset: UTF-8
* using option ‘--no-vignettes’
* checking for file ‘GeDi/DESCRIPTION’ ... OK
* this is package ‘GeDi’ version ‘1.6.0’
* package encoding: UTF-8
* checking package namespace information ... OK
* checking package dependencies ... INFO
Imports includes 29 non-default packages.
Importing from so many packages makes the package vulnerable to any of
them becoming unavailable.  Move as many as possible to Suggests and
use conditionally.
* checking if this is a source package ... OK
* checking if there is a namespace ... OK
* checking for hidden files and directories ... OK
* checking for portable file names ... OK
* checking for sufficient/correct file permissions ... OK
* checking whether package ‘GeDi’ can be installed ... OK
* checking installed package size ... OK
* checking package directory ... OK
* checking ‘build’ directory ... OK
* checking DESCRIPTION meta-information ... OK
* checking top-level files ... OK
* checking for left-over files ... OK
* checking index information ... OK
* checking package subdirectories ... OK
* checking code files for non-ASCII characters ... OK
* checking R files for syntax errors ... OK
* checking whether the package can be loaded ... OK
* checking whether the package can be loaded with stated dependencies ... OK
* checking whether the package can be unloaded cleanly ... OK
* checking whether the namespace can be loaded with stated dependencies ... OK
* checking whether the namespace can be unloaded cleanly ... OK
* checking whether startup messages can be suppressed ... OK
* checking dependencies in R code ... OK
* checking S3 generic/method consistency ... OK
* checking replacement functions ... OK
* checking foreign function calls ... OK
* checking R code for possible problems ... OK
* checking Rd files ... OK
* checking Rd metadata ... OK
* checking Rd cross-references ... NOTE
Found the following Rd file(s) with Rd \link{} targets missing package
anchors:
  buildClusterGraph.Rd: igraph
  dot-graphMetricsGenesetsDT.Rd: igraph
  getAnnotation.Rd: STRINGdb
  getId.Rd: STRINGdb
  getPPI.Rd: STRINGdb
  getStringDB.Rd: STRINGdb
Please provide package anchors for all Rd \link{} targets not in the
package itself and the base packages.
* checking for missing documentation entries ... OK
* checking for code/documentation mismatches ... OK
* checking Rd \usage sections ... OK
* checking Rd contents ... OK
* checking for unstated dependencies in examples ... OK
* checking contents of ‘data’ directory ... OK
* checking data for non-ASCII characters ... OK
* checking data for ASCII and uncompressed saves ... OK
* checking files in ‘vignettes’ ... OK
* checking examples ... OK
Examples with CPU (user + system) or elapsed time > 5s
                 user system elapsed
getAnnotation 156.257  5.733 174.266
getPPI        114.049  3.126 124.876
goDistance     12.569  1.347  14.738
scaleGO        11.766  1.093  13.866
* checking for unstated dependencies in ‘tests’ ... OK
* checking tests ...
  Running ‘testthat.R’
 ERROR
Running the tests in ‘tests/testthat.R’ failed.
Last 13 lines of output:
  Actual type: "object"
  ── Failure ('test-distance_dendro.R:15:3'): distanceDendro runs correctly ──────
  Expected `dendro` to have type "list".
  Actual type: "object"
  ── Failure ('test-gs_histogram.R:27:3'): gsHistogram runs correctly ────────────
  Expected `histogram` to have type "list".
  Actual type: "object"
  ── Failure ('test-gs_histogram.R:30:3'): gsHistogram runs correctly ────────────
  Expected `histogram` to have type "list".
  Actual type: "object"
  
  [ FAIL 4 | WARN 9 | SKIP 0 | PASS 181 ]
  Error:
  ! Test failures.
  Execution halted
* checking for unstated dependencies in vignettes ... OK
* checking package vignettes ... OK
* checking running R code from vignettes ... SKIPPED
* checking re-building of vignette outputs ... SKIPPED
* checking PDF version of manual ... OK
* DONE

Status: 1 ERROR, 1 NOTE
See
  ‘/Users/biocbuild/bbs-3.22-bioc/meat/GeDi.Rcheck/00check.log’
for details.


Installation output

GeDi.Rcheck/00install.out

##############################################################################
##############################################################################
###
### Running command:
###
###   /Library/Frameworks/R.framework/Resources/bin/R CMD INSTALL GeDi
###
##############################################################################
##############################################################################


* installing to library ‘/Library/Frameworks/R.framework/Versions/4.5-x86_64/Resources/library’
* installing *source* package ‘GeDi’ ...
** this is package ‘GeDi’ version ‘1.6.0’
** using staged installation
** R
** data
** inst
** byte-compile and prepare package for lazy loading
** help
*** installing help indices
*** copying figures
** building package indices
** installing vignettes
** testing if installed package can be loaded from temporary location
** testing if installed package can be loaded from final location
** testing if installed package keeps a record of temporary installation path
* DONE (GeDi)

Tests output

GeDi.Rcheck/tests/testthat.Rout.fail


R version 4.5.2 Patched (2025-11-05 r88990) -- "[Not] Part in a Rumble"
Copyright (C) 2025 The R Foundation for Statistical Computing
Platform: x86_64-apple-darwin20

R is free software and comes with ABSOLUTELY NO WARRANTY.
You are welcome to redistribute it under certain conditions.
Type 'license()' or 'licence()' for distribution details.

R is a collaborative project with many contributors.
Type 'contributors()' for more information and
'citation()' on how to cite R or R packages in publications.

Type 'demo()' for some demos, 'help()' for on-line help, or
'help.start()' for an HTML browser interface to help.
Type 'q()' to quit R.

> library(testthat)
> library(GeDi)

> 
> test_check("GeDi")
Saving _problems/test-distance_dendro-11.R
Saving _problems/test-distance_dendro-15.R
trying URL 'https://stringdb-downloads.org/download/protein.aliases.v12.0/9606.protein.aliases.v12.0.txt.gz'
Content type 'application/octet-stream' length 19777800 bytes (18.9 MB)
==================================================
downloaded 18.9 MB

trying URL 'https://stringdb-downloads.org/download/protein.info.v12.0/9606.protein.info.v12.0.txt.gz'
Content type 'application/octet-stream' length 1970090 bytes (1.9 MB)
==================================================
downloaded 1.9 MB

trying URL 'https://stringdb-downloads.org/download/protein.links.v12.0/9606.protein.links.v12.0.txt.gz'
Content type 'application/octet-stream' length 83164437 bytes (79.3 MB)
==================================================
downloaded 79.3 MB


preparing gene to GO mapping data...
preparing gene to GO mapping data...
Saving _problems/test-gs_histogram-27.R
Saving _problems/test-gs_histogram-30.R
[ FAIL 4 | WARN 9 | SKIP 0 | PASS 181 ]

══ Failed tests ════════════════════════════════════════════════════════════════
── Failure ('test-distance_dendro.R:11:3'): distanceDendro runs correctly ──────
Expected `dendro` to have type "list".
Actual type: "object"
── Failure ('test-distance_dendro.R:15:3'): distanceDendro runs correctly ──────
Expected `dendro` to have type "list".
Actual type: "object"
── Failure ('test-gs_histogram.R:27:3'): gsHistogram runs correctly ────────────
Expected `histogram` to have type "list".
Actual type: "object"
── Failure ('test-gs_histogram.R:30:3'): gsHistogram runs correctly ────────────
Expected `histogram` to have type "list".
Actual type: "object"

[ FAIL 4 | WARN 9 | SKIP 0 | PASS 181 ]
Error:
! Test failures.
Execution halted

Example timings

GeDi.Rcheck/GeDi-Ex.timings

nameusersystemelapsed
GeDi0.0110.0060.018
buildClusterGraph0.3410.0190.374
buildGraph0.0130.0000.013
buildHistogramData0.0190.0070.026
calculateJaccard0.0190.0060.025
calculateKappa0.0370.0060.047
calculateSorensenDice0.0180.0050.026
checkInclusion0.0170.0070.025
clustering0.3100.0100.337
deprecated0.0000.0000.001
distanceDendro0.3450.0140.363
distanceHeatmap0.4080.0290.441
enrichmentWordcloud0.6460.0190.721
fuzzyClustering0.0140.0060.021
getAdjacencyMatrix0.1580.0020.187
getAnnotation156.257 5.733174.266
getBipartiteGraph0.0180.0020.019
getClusterAdjacencyMatrix0.0740.0050.082
getGraphTitle0.0090.0010.011
getId0.2550.0162.048
getInteractionScore0.0720.0390.120
getJaccardMatrix3.8280.1194.125
getKappaMatrix2.2630.3302.718
getMeetMinMatrix1.9380.3012.437
getPPI114.049 3.126124.876
getSorensenDiceMatrix1.6740.0231.768
getStringDB0.1800.0141.627
getpMMMatrix2.3680.0482.520
goDistance12.569 1.34714.738
gsHistogram0.2810.0080.300
kMeansClustering0.0270.0070.037
kNN_clustering0.0160.0070.026
louvainClustering0.1410.0070.153
markovClustering0.1770.0080.191
pMMlocal0.0760.0120.094
pamClustering0.0140.0070.021
prepareGenesetData0.0190.0060.026
scaleGO11.766 1.09313.866
seedFinding0.0180.0080.030