| Back to Multiple platform build/check report for BioC 3.22: simplified long |
|
This page was generated on 2025-10-25 12:03 -0400 (Sat, 25 Oct 2025).
| Hostname | OS | Arch (*) | R version | Installed pkgs |
|---|---|---|---|---|
| nebbiolo2 | Linux (Ubuntu 24.04.3 LTS) | x86_64 | 4.5.1 Patched (2025-08-23 r88802) -- "Great Square Root" | 4901 |
| lconway | macOS 12.7.6 Monterey | x86_64 | 4.5.1 Patched (2025-09-10 r88807) -- "Great Square Root" | 4691 |
| kjohnson3 | macOS 13.7.7 Ventura | arm64 | 4.5.1 Patched (2025-09-10 r88807) -- "Great Square Root" | 4637 |
| taishan | Linux (openEuler 24.03 LTS) | aarch64 | 4.5.0 (2025-04-11) -- "How About a Twenty-Six" | 4658 |
| Click on any hostname to see more info about the system (e.g. compilers) (*) as reported by 'uname -p', except on Windows and Mac OS X | ||||
| Package 878/2361 | Hostname | OS / Arch | INSTALL | BUILD | CHECK | BUILD BIN | ||||||||
| GGPA 1.21.0 (landing page) Dongjun Chung
| nebbiolo2 | Linux (Ubuntu 24.04.3 LTS) / x86_64 | OK | OK | OK | |||||||||
| lconway | macOS 12.7.6 Monterey / x86_64 | OK | OK | OK | OK | |||||||||
| kjohnson3 | macOS 13.7.7 Ventura / arm64 | OK | OK | WARNINGS | OK | |||||||||
| taishan | Linux (openEuler 24.03 LTS) / aarch64 | OK | NA | NA | ||||||||||
|
To the developers/maintainers of the GGPA package: - Allow up to 24 hours (and sometimes 48 hours) for your latest push to git@git.bioconductor.org:packages/GGPA.git to reflect on this report. See Troubleshooting Build Report for more information. - Use the following Renviron settings to reproduce errors and warnings. - If 'R CMD check' started to fail recently on the Linux builder(s) over a missing dependency, add the missing dependency to 'Suggests:' in your DESCRIPTION file. See Renviron.bioc for more information. |
| Package: GGPA |
| Version: 1.21.0 |
| Command: /home/biocbuild/bbs-3.22-bioc/R/bin/R CMD check --install=check:GGPA.install-out.txt --library=/home/biocbuild/bbs-3.22-bioc/R/site-library --timings GGPA_1.21.0.tar.gz |
| StartedAt: 2025-10-25 00:10:33 -0400 (Sat, 25 Oct 2025) |
| EndedAt: 2025-10-25 00:13:50 -0400 (Sat, 25 Oct 2025) |
| EllapsedTime: 196.3 seconds |
| RetCode: 0 |
| Status: OK |
| CheckDir: GGPA.Rcheck |
| Warnings: 0 |
##############################################################################
##############################################################################
###
### Running command:
###
### /home/biocbuild/bbs-3.22-bioc/R/bin/R CMD check --install=check:GGPA.install-out.txt --library=/home/biocbuild/bbs-3.22-bioc/R/site-library --timings GGPA_1.21.0.tar.gz
###
##############################################################################
##############################################################################
* using log directory ‘/home/biocbuild/bbs-3.22-bioc/meat/GGPA.Rcheck’
* using R version 4.5.1 Patched (2025-08-23 r88802)
* using platform: x86_64-pc-linux-gnu
* R was compiled by
gcc (Ubuntu 13.3.0-6ubuntu2~24.04) 13.3.0
GNU Fortran (Ubuntu 13.3.0-6ubuntu2~24.04) 13.3.0
* running under: Ubuntu 24.04.3 LTS
* using session charset: UTF-8
* checking for file ‘GGPA/DESCRIPTION’ ... OK
* checking extension type ... Package
* this is package ‘GGPA’ version ‘1.21.0’
* checking package namespace information ... OK
* checking package dependencies ... OK
* checking if this is a source package ... OK
* checking if there is a namespace ... OK
* checking for hidden files and directories ... OK
* checking for portable file names ... OK
* checking for sufficient/correct file permissions ... OK
* checking whether package ‘GGPA’ can be installed ... OK
* used C++ compiler: ‘g++ (Ubuntu 13.3.0-6ubuntu2~24.04) 13.3.0’
* checking installed package size ... INFO
installed size is 5.5Mb
sub-directories of 1Mb or more:
libs 4.2Mb
* checking package directory ... OK
* checking ‘build’ directory ... OK
* checking DESCRIPTION meta-information ... OK
* checking top-level files ... OK
* checking for left-over files ... OK
* checking index information ... OK
* checking package subdirectories ... OK
* checking code files for non-ASCII characters ... OK
* checking R files for syntax errors ... OK
* checking whether the package can be loaded ... OK
* checking whether the package can be loaded with stated dependencies ... OK
* checking whether the package can be unloaded cleanly ... OK
* checking whether the namespace can be loaded with stated dependencies ... OK
* checking whether the namespace can be unloaded cleanly ... OK
* checking loading without being on the library search path ... OK
* checking dependencies in R code ... NOTE
Packages in Depends field not imported from:
‘network’ ‘scales’ ‘sna’
These packages need to be imported from (in the NAMESPACE file)
for when this namespace is loaded but not attached.
* checking S3 generic/method consistency ... OK
* checking replacement functions ... OK
* checking foreign function calls ... OK
* checking R code for possible problems ... OK
* checking Rd files ... NOTE
checkRd: (-1) GGPA-class.Rd:37: Lost braces; missing escapes or markup?
37 | Nodes i and j are connected if the posterior probability of E_{ij} > \code{pCutoff} and the posterior probability of beta_{ij} > \code{betaCI}. }
| ^
checkRd: (-1) GGPA-class.Rd:37: Lost braces; missing escapes or markup?
37 | Nodes i and j are connected if the posterior probability of E_{ij} > \code{pCutoff} and the posterior probability of beta_{ij} > \code{betaCI}. }
| ^
* checking Rd metadata ... OK
* checking Rd cross-references ... OK
* checking for missing documentation entries ... OK
* checking for code/documentation mismatches ... OK
* checking Rd \usage sections ... OK
* checking Rd contents ... OK
* checking for unstated dependencies in examples ... OK
* checking contents of ‘data’ directory ... OK
* checking data for non-ASCII characters ... OK
* checking data for ASCII and uncompressed saves ... OK
* checking line endings in C/C++/Fortran sources/headers ... OK
* checking line endings in Makefiles ... OK
* checking compilation flags in Makevars ... OK
* checking for GNU extensions in Makefiles ... OK
* checking for portable use of $(BLAS_LIBS) and $(LAPACK_LIBS) ... OK
* checking use of PKG_*FLAGS in Makefiles ... OK
* checking compiled code ... NOTE
File ‘GGPA/libs/GGPA.so’:
Found ‘_ZSt4cout’, possibly from ‘std::cout’ (C++)
Object: ‘3_Param.o’
Compiled code should not call entry points which might terminate R nor
write to stdout/stderr instead of to the console, nor use Fortran I/O
nor system RNGs nor [v]sprintf.
See ‘Writing portable packages’ in the ‘Writing R Extensions’ manual.
* checking files in ‘vignettes’ ... OK
* checking examples ... OK
Examples with CPU (user + system) or elapsed time > 5s
user system elapsed
GGPA-package 40.893 0.438 41.332
GGPA 21.124 0.162 21.439
GGPA-class 20.353 0.485 20.838
GGPA-internal 20.501 0.286 20.790
assoc 20.139 0.221 20.361
* checking for unstated dependencies in vignettes ... OK
* checking package vignettes ... OK
* checking re-building of vignette outputs ... OK
* checking PDF version of manual ... OK
* DONE
Status: 3 NOTEs
See
‘/home/biocbuild/bbs-3.22-bioc/meat/GGPA.Rcheck/00check.log’
for details.
GGPA.Rcheck/00install.out
##############################################################################
##############################################################################
###
### Running command:
###
### /home/biocbuild/bbs-3.22-bioc/R/bin/R CMD INSTALL GGPA
###
##############################################################################
##############################################################################
* installing to library ‘/home/biocbuild/bbs-3.22-bioc/R/site-library’
* installing *source* package ‘GGPA’ ...
** this is package ‘GGPA’ version ‘1.21.0’
** using staged installation
** libs
using C++ compiler: ‘g++ (Ubuntu 13.3.0-6ubuntu2~24.04) 13.3.0’
g++ -std=gnu++17 -I"/home/biocbuild/bbs-3.22-bioc/R/include" -DNDEBUG -I'/home/biocbuild/bbs-3.22-bioc/R/site-library/Rcpp/include' -I'/home/biocbuild/bbs-3.22-bioc/R/site-library/RcppArmadillo/include' -I/usr/local/include -fpic -g -O2 -Wall -Werror=format-security -c 1_Main.cpp -o 1_Main.o
g++ -std=gnu++17 -I"/home/biocbuild/bbs-3.22-bioc/R/include" -DNDEBUG -I'/home/biocbuild/bbs-3.22-bioc/R/site-library/Rcpp/include' -I'/home/biocbuild/bbs-3.22-bioc/R/site-library/RcppArmadillo/include' -I/usr/local/include -fpic -g -O2 -Wall -Werror=format-security -c 3_Param.cpp -o 3_Param.o
3_Param.cpp: In member function ‘void CParam::S6_G_beta_ij(CData&)’:
3_Param.cpp:334:40: warning: ‘logP_numer’ may be used uninitialized [-Wmaybe-uninitialized]
334 | if ( w_prop > 0 ) logP_numer = logP_numer - log(w_prop) ; // f(G^q) // if w_prop=0, let 1/w_prop = 1, so that log(w_prop) = 0
| ~~~~~~~~~~~^~~~~~~~~~~~~~~~~~~~~~~~~~
3_Param.cpp:226:10: note: ‘logP_numer’ was declared here
226 | double logP_numer, logP_denom ;
| ^~~~~~~~~~
3_Param.cpp:335:39: warning: ‘logP_denom’ may be used uninitialized [-Wmaybe-uninitialized]
335 | if ( w_cur > 0 ) logP_denom = logP_denom - log(w_cur) ; // f(G) // if w_cur=0, let 1/w_cur = 1, so that log(w_cur) = 0
| ~~~~~~~~~~~^~~~~~~~~~~~~~~~~~~~~~~~~
3_Param.cpp:226:22: note: ‘logP_denom’ was declared here
226 | double logP_numer, logP_denom ;
| ^~~~~~~~~~
3_Param.cpp:350:47: warning: ‘normC_prop’ may be used uninitialized [-Wmaybe-uninitialized]
350 | Beta = Beta_prop ; G_mat = G_prop ; normC = normC_prop ;
| ~~~~~~^~~~~~~~~~~~
3_Param.cpp:227:10: note: ‘normC_prop’ was declared here
227 | double normC_prop ;
| ^~~~~~~~~~
g++ -std=gnu++17 -I"/home/biocbuild/bbs-3.22-bioc/R/include" -DNDEBUG -I'/home/biocbuild/bbs-3.22-bioc/R/site-library/Rcpp/include' -I'/home/biocbuild/bbs-3.22-bioc/R/site-library/RcppArmadillo/include' -I/usr/local/include -fpic -g -O2 -Wall -Werror=format-security -c Gibbs_e_it_no_ann.cpp -o Gibbs_e_it_no_ann.o
g++ -std=gnu++17 -I"/home/biocbuild/bbs-3.22-bioc/R/include" -DNDEBUG -I'/home/biocbuild/bbs-3.22-bioc/R/site-library/Rcpp/include' -I'/home/biocbuild/bbs-3.22-bioc/R/site-library/RcppArmadillo/include' -I/usr/local/include -fpic -g -O2 -Wall -Werror=format-security -c RcppExports.cpp -o RcppExports.o
g++ -std=gnu++17 -shared -L/home/biocbuild/bbs-3.22-bioc/R/lib -L/usr/local/lib -o GGPA.so 1_Main.o 3_Param.o Gibbs_e_it_no_ann.o RcppExports.o -llapack -L/home/biocbuild/bbs-3.22-bioc/R/lib -lRblas -lgfortran -lm -lquadmath -L/home/biocbuild/bbs-3.22-bioc/R/lib -lR
installing to /home/biocbuild/bbs-3.22-bioc/R/site-library/00LOCK-GGPA/00new/GGPA/libs
** R
** data
** byte-compile and prepare package for lazy loading
** help
*** installing help indices
** building package indices
** installing vignettes
** testing if installed package can be loaded from temporary location
** checking absolute paths in shared objects and dynamic libraries
** testing if installed package can be loaded from final location
** testing if installed package keeps a record of temporary installation path
* DONE (GGPA)
GGPA.Rcheck/GGPA-Ex.timings
| name | user | system | elapsed | |
| GGPA-class | 20.353 | 0.485 | 20.838 | |
| GGPA-internal | 20.501 | 0.286 | 20.790 | |
| GGPA-package | 40.893 | 0.438 | 41.332 | |
| GGPA | 21.124 | 0.162 | 21.439 | |
| assoc | 20.139 | 0.221 | 20.361 | |
| simulation | 0.177 | 0.067 | 0.243 | |