| Back to Multiple platform build/check report for BioC 3.22: simplified long |
|
This page was generated on 2025-10-24 12:03 -0400 (Fri, 24 Oct 2025).
| Hostname | OS | Arch (*) | R version | Installed pkgs |
|---|---|---|---|---|
| nebbiolo2 | Linux (Ubuntu 24.04.3 LTS) | x86_64 | 4.5.1 Patched (2025-08-23 r88802) -- "Great Square Root" | 4898 |
| lconway | macOS 12.7.6 Monterey | x86_64 | 4.5.1 Patched (2025-09-10 r88807) -- "Great Square Root" | 4688 |
| kjohnson3 | macOS 13.7.7 Ventura | arm64 | 4.5.1 Patched (2025-09-10 r88807) -- "Great Square Root" | 4634 |
| taishan | Linux (openEuler 24.03 LTS) | aarch64 | 4.5.0 (2025-04-11) -- "How About a Twenty-Six" | 4658 |
| Click on any hostname to see more info about the system (e.g. compilers) (*) as reported by 'uname -p', except on Windows and Mac OS X | ||||
| Package 729/2359 | Hostname | OS / Arch | INSTALL | BUILD | CHECK | BUILD BIN | ||||||||
| FELLA 1.29.0 (landing page) Sergio Picart-Armada
| nebbiolo2 | Linux (Ubuntu 24.04.3 LTS) / x86_64 | OK | OK | OK | |||||||||
| lconway | macOS 12.7.6 Monterey / x86_64 | OK | OK | OK | OK | |||||||||
| kjohnson3 | macOS 13.7.7 Ventura / arm64 | OK | ERROR | skipped | skipped | |||||||||
| taishan | Linux (openEuler 24.03 LTS) / aarch64 | OK | ERROR | skipped | ||||||||||
|
To the developers/maintainers of the FELLA package: - Allow up to 24 hours (and sometimes 48 hours) for your latest push to git@git.bioconductor.org:packages/FELLA.git to reflect on this report. See Troubleshooting Build Report for more information. - Use the following Renviron settings to reproduce errors and warnings. - If 'R CMD check' started to fail recently on the Linux builder(s) over a missing dependency, add the missing dependency to 'Suggests:' in your DESCRIPTION file. See Renviron.bioc for more information. |
| Package: FELLA |
| Version: 1.29.0 |
| Command: /home/biocbuild/bbs-3.22-bioc/R/bin/R CMD check --install=check:FELLA.install-out.txt --library=/home/biocbuild/bbs-3.22-bioc/R/site-library --timings FELLA_1.29.0.tar.gz |
| StartedAt: 2025-10-23 23:33:29 -0400 (Thu, 23 Oct 2025) |
| EndedAt: 2025-10-23 23:59:15 -0400 (Thu, 23 Oct 2025) |
| EllapsedTime: 1545.6 seconds |
| RetCode: 0 |
| Status: OK |
| CheckDir: FELLA.Rcheck |
| Warnings: 0 |
##############################################################################
##############################################################################
###
### Running command:
###
### /home/biocbuild/bbs-3.22-bioc/R/bin/R CMD check --install=check:FELLA.install-out.txt --library=/home/biocbuild/bbs-3.22-bioc/R/site-library --timings FELLA_1.29.0.tar.gz
###
##############################################################################
##############################################################################
* using log directory ‘/home/biocbuild/bbs-3.22-bioc/meat/FELLA.Rcheck’
* using R version 4.5.1 Patched (2025-08-23 r88802)
* using platform: x86_64-pc-linux-gnu
* R was compiled by
gcc (Ubuntu 13.3.0-6ubuntu2~24.04) 13.3.0
GNU Fortran (Ubuntu 13.3.0-6ubuntu2~24.04) 13.3.0
* running under: Ubuntu 24.04.3 LTS
* using session charset: UTF-8
* checking for file ‘FELLA/DESCRIPTION’ ... OK
* checking extension type ... Package
* this is package ‘FELLA’ version ‘1.29.0’
* package encoding: UTF-8
* checking package namespace information ... OK
* checking package dependencies ... OK
* checking if this is a source package ... OK
* checking if there is a namespace ... OK
* checking for hidden files and directories ... OK
* checking for portable file names ... OK
* checking for sufficient/correct file permissions ... OK
* checking whether package ‘FELLA’ can be installed ... OK
* checking installed package size ... OK
* checking package directory ... OK
* checking ‘build’ directory ... OK
* checking DESCRIPTION meta-information ... OK
* checking top-level files ... OK
* checking for left-over files ... OK
* checking index information ... OK
* checking package subdirectories ... OK
* checking code files for non-ASCII characters ... OK
* checking R files for syntax errors ... OK
* checking whether the package can be loaded ... OK
* checking whether the package can be loaded with stated dependencies ... OK
* checking whether the package can be unloaded cleanly ... OK
* checking whether the namespace can be loaded with stated dependencies ... OK
* checking whether the namespace can be unloaded cleanly ... OK
* checking loading without being on the library search path ... OK
* checking dependencies in R code ... OK
* checking S3 generic/method consistency ... OK
* checking replacement functions ... OK
* checking foreign function calls ... OK
* checking R code for possible problems ... NOTE
buildGraphFromKEGGREST: no visible global function definition for
‘capture.output’
Undefined global functions or variables:
capture.output
Consider adding
importFrom("utils", "capture.output")
to your NAMESPACE file.
* checking Rd files ... OK
* checking Rd metadata ... OK
* checking Rd cross-references ... OK
* checking for missing documentation entries ... OK
* checking for code/documentation mismatches ... OK
* checking Rd \usage sections ... NOTE
Documented arguments not in \usage in Rd file 'dot-params.Rd':
‘databaseDir’ ‘internalDir’ ‘object’ ‘data’ ‘type’ ‘level’ ‘method’
‘methods’ ‘approx’ ‘loadMatrix’ ‘threshold’
‘thresholdConnectedComponent’ ‘plimit’ ‘nlimit’ ‘niter’ ‘layout’
‘graph’ ‘GOterm’ ‘GONamesAsLabels’ ‘LabelLengthAtPlot’
‘godata.options’ ‘mart.options’ ‘p.adjust’ ‘dampingFactor’ ‘t.df’
‘compounds’ ‘compoundsBackground’ ‘NamesAsLabels’ ‘capPscores’
Documented arguments not in \usage in Rd file 'infere.con2ec.Rd':
‘gene2enyzme’
Functions with \usage entries need to have the appropriate \alias
entries, and all their arguments documented.
The \usage entries must correspond to syntactically valid R code.
See chapter ‘Writing R documentation files’ in the ‘Writing R
Extensions’ manual.
* checking Rd contents ... OK
* checking for unstated dependencies in examples ... OK
* checking contents of ‘data’ directory ... OK
* checking data for non-ASCII characters ... OK
* checking data for ASCII and uncompressed saves ... OK
* checking files in ‘vignettes’ ... OK
* checking examples ... OK
Examples with CPU (user + system) or elapsed time > 5s
user system elapsed
data-funs 6.34 0.172 6.511
* checking for unstated dependencies in ‘tests’ ... OK
* checking tests ...
Running ‘testthat.R’
OK
* checking for unstated dependencies in vignettes ... OK
* checking package vignettes ... OK
* checking re-building of vignette outputs ... OK
* checking PDF version of manual ... OK
* DONE
Status: 2 NOTEs
See
‘/home/biocbuild/bbs-3.22-bioc/meat/FELLA.Rcheck/00check.log’
for details.
FELLA.Rcheck/00install.out
############################################################################## ############################################################################## ### ### Running command: ### ### /home/biocbuild/bbs-3.22-bioc/R/bin/R CMD INSTALL FELLA ### ############################################################################## ############################################################################## * installing to library ‘/home/biocbuild/bbs-3.22-bioc/R/site-library’ * installing *source* package ‘FELLA’ ... ** this is package ‘FELLA’ version ‘1.29.0’ ** using staged installation ** R ** data ** inst ** byte-compile and prepare package for lazy loading ** help *** installing help indices ** building package indices ** installing vignettes ** testing if installed package can be loaded from temporary location ** testing if installed package can be loaded from final location ** testing if installed package keeps a record of temporary installation path * DONE (FELLA)
FELLA.Rcheck/tests/testthat.Rout
R version 4.5.1 Patched (2025-08-23 r88802) -- "Great Square Root"
Copyright (C) 2025 The R Foundation for Statistical Computing
Platform: x86_64-pc-linux-gnu
R is free software and comes with ABSOLUTELY NO WARRANTY.
You are welcome to redistribute it under certain conditions.
Type 'license()' or 'licence()' for distribution details.
R is a collaborative project with many contributors.
Type 'contributors()' for more information and
'citation()' on how to cite R or R packages in publications.
Type 'demo()' for some demos, 'help()' for on-line help, or
'help.start()' for an HTML browser interface to help.
Type 'q()' to quit R.
> library(testthat)
> library(FELLA)
>
> test_check("FELLA")
|
| | 0%
|
|============== | 20%
|
|============================ | 40%
|
|========================================== | 60%
|
|======================================================== | 80%
|
|======================================================================| 100%
|
| | 0%
|
|======= | 10%
|
|============== | 20%
|
|===================== | 30%
|
|============================ | 40%
|
|=================================== | 50%
|
|========================================== | 60%
|
|================================================= | 70%
|
|======================================================== | 80%
|
|=============================================================== | 90%
|
|======================================================================| 100%
|
| | 0%
|
|======= | 10%
|
|============== | 20%
|
|===================== | 30%
|
|============================ | 40%
|
|=================================== | 50%
|
|========================================== | 60%
|
|================================================= | 70%
|
|======================================================== | 80%
|
|=============================================================== | 90%
|
|======================================================================| 100%
|
| | 0%
|
|======= | 10%
|
|============== | 20%
|
|===================== | 30%
|
|============================ | 40%
|
|=================================== | 50%
|
|========================================== | 60%
|
|================================================= | 70%
|
|======================================================== | 80%
|
|=============================================================== | 90%
|
|======================================================================| 100%
[ FAIL 0 | WARN 14 | SKIP 0 | PASS 168 ]
[ FAIL 0 | WARN 14 | SKIP 0 | PASS 168 ]
>
> proc.time()
user system elapsed
34.612 4.884 73.741
FELLA.Rcheck/FELLA-Ex.timings
| name | user | system | elapsed | |
| FELLA | 0.214 | 0.018 | 0.237 | |
| FELLA.sample | 0.010 | 0.001 | 0.012 | |
| checkArguments | 0.002 | 0.000 | 0.001 | |
| data-funs | 6.340 | 0.172 | 6.511 | |
| enrich-funs | 2.914 | 0.046 | 2.960 | |
| export-funs | 0.275 | 0.005 | 0.280 | |
| getBackground | 0.325 | 0.026 | 0.351 | |
| getCom | 0.011 | 0.000 | 0.010 | |
| getExcluded | 0.011 | 0.002 | 0.012 | |
| getGraph | 0.01 | 0.00 | 0.01 | |
| getInfo | 0.01 | 0.00 | 0.01 | |
| getInput | 0.012 | 0.000 | 0.012 | |
| getMatrix | 0.018 | 0.000 | 0.019 | |
| getName | 0.010 | 0.000 | 0.011 | |
| getPscores | 0.047 | 0.002 | 0.049 | |
| getPvaluesSize | 0.020 | 0.000 | 0.021 | |
| getStatus | 0.009 | 0.001 | 0.010 | |
| getSums | 0.726 | 0.040 | 0.767 | |
| getValid | 0.039 | 0.002 | 0.042 | |
| infere.con2ec | 0.002 | 0.000 | 0.002 | |
| input.sample | 0.001 | 0.000 | 0.001 | |
| is.FELLA.DATA | 0.010 | 0.000 | 0.011 | |
| is.FELLA.USER | 0.04 | 0.00 | 0.04 | |
| largestcc | 0.061 | 0.001 | 0.061 | |
| launchApp | 0.001 | 0.000 | 0.000 | |
| listApprox | 0 | 0 | 0 | |
| listCategories | 0 | 0 | 0 | |
| listInternalDatabases | 0.000 | 0.000 | 0.001 | |
| listMethods | 0 | 0 | 0 | |
| mytriangle | 0.046 | 0.000 | 0.046 | |
| plotBipartite | 0.090 | 0.003 | 0.093 | |
| plotLegend | 0.045 | 0.000 | 0.045 | |
| sanitise | 0 | 0 | 0 | |