| Back to Multiple platform build/check report for BioC 3.22: simplified long |
|
This page was generated on 2025-11-15 11:58 -0500 (Sat, 15 Nov 2025).
| Hostname | OS | Arch (*) | R version | Installed pkgs |
|---|---|---|---|---|
| nebbiolo2 | Linux (Ubuntu 24.04.3 LTS) | x86_64 | 4.5.1 Patched (2025-08-23 r88802) -- "Great Square Root" | 4903 |
| taishan | Linux (openEuler 24.03 LTS) | aarch64 | 4.5.0 (2025-04-11) -- "How About a Twenty-Six" | 4668 |
| Click on any hostname to see more info about the system (e.g. compilers) (*) as reported by 'uname -p', except on Windows and Mac OS X | ||||
| Package 586/2361 | Hostname | OS / Arch | INSTALL | BUILD | CHECK | BUILD BIN | ||||||||
| DifferentialRegulation 2.8.0 (landing page) Simone Tiberi
| nebbiolo2 | Linux (Ubuntu 24.04.3 LTS) / x86_64 | OK | OK | OK | |||||||||
| taishan | Linux (openEuler 24.03 LTS) / aarch64 | OK | TIMEOUT | skipped | ||||||||||
|
To the developers/maintainers of the DifferentialRegulation package: - Allow up to 24 hours (and sometimes 48 hours) for your latest push to git@git.bioconductor.org:packages/DifferentialRegulation.git to reflect on this report. See Troubleshooting Build Report for more information. - Use the following Renviron settings to reproduce errors and warnings. - If 'R CMD check' started to fail recently on the Linux builder(s) over a missing dependency, add the missing dependency to 'Suggests:' in your DESCRIPTION file. See Renviron.bioc for more information. |
| Package: DifferentialRegulation |
| Version: 2.8.0 |
| Command: /home/biocbuild/bbs-3.22-bioc/R/bin/R CMD check --install=check:DifferentialRegulation.install-out.txt --library=/home/biocbuild/bbs-3.22-bioc/R/site-library --timings DifferentialRegulation_2.8.0.tar.gz |
| StartedAt: 2025-11-14 23:09:40 -0500 (Fri, 14 Nov 2025) |
| EndedAt: 2025-11-14 23:18:02 -0500 (Fri, 14 Nov 2025) |
| EllapsedTime: 502.4 seconds |
| RetCode: 0 |
| Status: OK |
| CheckDir: DifferentialRegulation.Rcheck |
| Warnings: 0 |
##############################################################################
##############################################################################
###
### Running command:
###
### /home/biocbuild/bbs-3.22-bioc/R/bin/R CMD check --install=check:DifferentialRegulation.install-out.txt --library=/home/biocbuild/bbs-3.22-bioc/R/site-library --timings DifferentialRegulation_2.8.0.tar.gz
###
##############################################################################
##############################################################################
* using log directory ‘/home/biocbuild/bbs-3.22-bioc/meat/DifferentialRegulation.Rcheck’
* using R version 4.5.1 Patched (2025-08-23 r88802)
* using platform: x86_64-pc-linux-gnu
* R was compiled by
gcc (Ubuntu 13.3.0-6ubuntu2~24.04) 13.3.0
GNU Fortran (Ubuntu 13.3.0-6ubuntu2~24.04) 13.3.0
* running under: Ubuntu 24.04.3 LTS
* using session charset: UTF-8
* checking for file ‘DifferentialRegulation/DESCRIPTION’ ... OK
* checking extension type ... Package
* this is package ‘DifferentialRegulation’ version ‘2.8.0’
* package encoding: UTF-8
* checking package namespace information ... OK
* checking package dependencies ... OK
* checking if this is a source package ... OK
* checking if there is a namespace ... OK
* checking for hidden files and directories ... OK
* checking for portable file names ... OK
* checking for sufficient/correct file permissions ... OK
* checking whether package ‘DifferentialRegulation’ can be installed ... OK
* used C++ compiler: ‘g++ (Ubuntu 13.3.0-6ubuntu2~24.04) 13.3.0’
* checking C++ specification ... OK
* checking installed package size ... INFO
installed size is 6.8Mb
sub-directories of 1Mb or more:
extdata 3.1Mb
libs 3.4Mb
* checking package directory ... OK
* checking ‘build’ directory ... OK
* checking DESCRIPTION meta-information ... OK
* checking top-level files ... OK
* checking for left-over files ... OK
* checking index information ... OK
* checking package subdirectories ... OK
* checking code files for non-ASCII characters ... OK
* checking R files for syntax errors ... OK
* checking whether the package can be loaded ... OK
* checking whether the package can be loaded with stated dependencies ... OK
* checking whether the package can be unloaded cleanly ... OK
* checking whether the namespace can be loaded with stated dependencies ... OK
* checking whether the namespace can be unloaded cleanly ... OK
* checking loading without being on the library search path ... OK
* checking dependencies in R code ... OK
* checking S3 generic/method consistency ... OK
* checking replacement functions ... OK
* checking foreign function calls ... OK
* checking R code for possible problems ... NOTE
MCMC_ECs: no visible binding for global variable ‘cl’
Undefined global functions or variables:
cl
* checking Rd files ... NOTE
checkRd: (-1) DifferentialRegulation.Rd:159: Lost braces
159 | \code{\link{load_EC}}, \code{\link{load_USA}}, code{\link{compute_PB_counts}}, \code{\link{plot_pi}}, \code{\link{plot_traceplot}}
| ^
* checking Rd metadata ... OK
* checking Rd cross-references ... OK
* checking for missing documentation entries ... OK
* checking for code/documentation mismatches ... OK
* checking Rd \usage sections ... OK
* checking Rd contents ... OK
* checking for unstated dependencies in examples ... OK
* checking line endings in C/C++/Fortran sources/headers ... OK
* checking line endings in Makefiles ... OK
* checking compilation flags in Makevars ... OK
* checking for GNU extensions in Makefiles ... OK
* checking for portable use of $(BLAS_LIBS) and $(LAPACK_LIBS) ... OK
* checking use of PKG_*FLAGS in Makefiles ... OK
* checking compiled code ... NOTE
Note: information on .o files is not available
* checking files in ‘vignettes’ ... OK
* checking examples ... OK
Examples with CPU (user + system) or elapsed time > 5s
user system elapsed
DifferentialRegulation_bulk 90.966 19.254 103.813
DifferentialRegulation 4.660 0.367 18.791
load_bulk_EC 0.167 0.034 16.168
* checking for unstated dependencies in ‘tests’ ... OK
* checking tests ...
Running ‘testhat.R’
OK
* checking for unstated dependencies in vignettes ... OK
* checking package vignettes ... OK
* checking re-building of vignette outputs ... OK
* checking PDF version of manual ... OK
* DONE
Status: 3 NOTEs
See
‘/home/biocbuild/bbs-3.22-bioc/meat/DifferentialRegulation.Rcheck/00check.log’
for details.
DifferentialRegulation.Rcheck/00install.out
##############################################################################
##############################################################################
###
### Running command:
###
### /home/biocbuild/bbs-3.22-bioc/R/bin/R CMD INSTALL DifferentialRegulation
###
##############################################################################
##############################################################################
* installing to library ‘/home/biocbuild/bbs-3.22-bioc/R/site-library’
* installing *source* package ‘DifferentialRegulation’ ...
** this is package ‘DifferentialRegulation’ version ‘2.8.0’
** using staged installation
** libs
using C++ compiler: ‘g++ (Ubuntu 13.3.0-6ubuntu2~24.04) 13.3.0’
using C++17
g++ -std=gnu++17 -I"/home/biocbuild/bbs-3.22-bioc/R/include" -DNDEBUG -I'/home/biocbuild/bbs-3.22-bioc/R/site-library/Rcpp/include' -I'/home/biocbuild/bbs-3.22-bioc/R/site-library/RcppArmadillo/include' -I/usr/local/include -fpic -g -O2 -Wall -Werror=format-security -c RcppExports.cpp -o RcppExports.o
g++ -std=gnu++17 -I"/home/biocbuild/bbs-3.22-bioc/R/include" -DNDEBUG -I'/home/biocbuild/bbs-3.22-bioc/R/site-library/Rcpp/include' -I'/home/biocbuild/bbs-3.22-bioc/R/site-library/RcppArmadillo/include' -I/usr/local/include -fpic -g -O2 -Wall -Werror=format-security -c Rcpp_MCMC.cpp -o Rcpp_MCMC.o
Rcpp_MCMC.cpp: In function ‘Rcpp::NumericVector Rcpp_MCMC(const unsigned int&, const unsigned int&, const unsigned int&, const unsigned int&, const Rcpp::IntegerVector&, const Rcpp::IntegerVector&, const Rcpp::ListOf<Rcpp::Vector<13> >&, const Rcpp::IntegerVector&, const unsigned int&, const unsigned int&, Rcpp::NumericMatrix&, Rcpp::ListOf<Rcpp::Matrix<14> >&, const Rcpp::NumericMatrix&, const Rcpp::ListOf<Rcpp::ListOf<Rcpp::Vector<13> > >&, const Rcpp::ListOf<Rcpp::Vector<13> >&, Rcpp::ListOf<Rcpp::Matrix<14> >&, Rcpp::ListOf<Rcpp::Matrix<14> >&, Rcpp::ListOf<Rcpp::Matrix<14> >&, Rcpp::ListOf<Rcpp::Matrix<14> >&, const Rcpp::NumericVector&, const Rcpp::NumericVector&, const Rcpp::IntegerVector&, Rcpp::ListOf<Rcpp::Matrix<14> >&, const Rcpp::IntegerVector&, const double&)’:
Rcpp_MCMC.cpp:305:32: warning: comparison of integer expressions of different signedness: ‘unsigned int’ and ‘const Rcpp::traits::storage_type<13>::type’ {aka ‘const int’} [-Wsign-compare]
305 | for(sample = 0; sample < n_samples_per_group[ gr ]; sample ++){
Rcpp_MCMC.cpp:135:10: warning: unused variable ‘tmp_1’ [-Wunused-variable]
135 | double tmp_1, tmp_2, tmp_3;
| ^~~~~
Rcpp_MCMC.cpp:135:17: warning: unused variable ‘tmp_2’ [-Wunused-variable]
135 | double tmp_1, tmp_2, tmp_3;
| ^~~~~
Rcpp_MCMC.cpp:135:24: warning: unused variable ‘tmp_3’ [-Wunused-variable]
135 | double tmp_1, tmp_2, tmp_3;
| ^~~~~
Rcpp_MCMC.cpp:394:10: warning: ‘ll_original’ may be used uninitialized [-Wmaybe-uninitialized]
394 | ll += ll_original;
| ~~~^~~~~~~~~~~~~~
Rcpp_MCMC.cpp:296:21: note: ‘ll_original’ was declared here
296 | double ll_prop, ll_original, ll = 0;
| ^~~~~~~~~~~
g++ -std=gnu++17 -I"/home/biocbuild/bbs-3.22-bioc/R/include" -DNDEBUG -I'/home/biocbuild/bbs-3.22-bioc/R/site-library/Rcpp/include' -I'/home/biocbuild/bbs-3.22-bioc/R/site-library/RcppArmadillo/include' -I/usr/local/include -fpic -g -O2 -Wall -Werror=format-security -c Rcpp_MCMC_EC_US.cpp -o Rcpp_MCMC_EC_US.o
Rcpp_MCMC_EC_US.cpp: In function ‘Rcpp::NumericVector Rcpp_MCMC_EC_US(const unsigned int&, const unsigned int&, const unsigned int&, const unsigned int&, const Rcpp::IntegerVector&, const Rcpp::IntegerVector&, const Rcpp::ListOf<Rcpp::Vector<13> >&, const Rcpp::IntegerVector&, const unsigned int&, const unsigned int&, Rcpp::NumericMatrix&, Rcpp::ListOf<Rcpp::Matrix<14> >&, const Rcpp::NumericMatrix&, const Rcpp::ListOf<Rcpp::ListOf<Rcpp::Vector<13> > >&, const Rcpp::ListOf<Rcpp::Vector<13> >&, Rcpp::ListOf<Rcpp::Matrix<14> >&, Rcpp::ListOf<Rcpp::Matrix<14> >&, Rcpp::ListOf<Rcpp::Matrix<14> >&, const Rcpp::NumericVector&, const Rcpp::NumericVector&, const Rcpp::IntegerVector&, const Rcpp::IntegerVector&, const Rcpp::NumericVector&, const Rcpp::NumericVector&, const double&)’:
Rcpp_MCMC_EC_US.cpp:310:32: warning: comparison of integer expressions of different signedness: ‘unsigned int’ and ‘const Rcpp::traits::storage_type<13>::type’ {aka ‘const int’} [-Wsign-compare]
310 | for(sample = 0; sample < n_samples_per_group[ gr ]; sample ++){
Rcpp_MCMC_EC_US.cpp:130:10: warning: unused variable ‘tmp_1’ [-Wunused-variable]
130 | double tmp_1, tmp_2, tmp;
| ^~~~~
Rcpp_MCMC_EC_US.cpp:130:17: warning: unused variable ‘tmp_2’ [-Wunused-variable]
130 | double tmp_1, tmp_2, tmp;
| ^~~~~
Rcpp_MCMC_EC_US.cpp:399:12: warning: ‘ll_original’ may be used uninitialized [-Wmaybe-uninitialized]
399 | ll += ll_original;
| ~~~^~~~~~~~~~~~~~
Rcpp_MCMC_EC_US.cpp:290:21: note: ‘ll_original’ was declared here
290 | double ll_prop, ll_original, ll = 0;
| ^~~~~~~~~~~
g++ -std=gnu++17 -shared -L/home/biocbuild/bbs-3.22-bioc/R/lib -L/usr/local/lib -o DifferentialRegulation.so RcppExports.o Rcpp_MCMC.o Rcpp_MCMC_EC_US.o -llapack -L/home/biocbuild/bbs-3.22-bioc/R/lib -lRblas -lgfortran -lm -lquadmath -L/home/biocbuild/bbs-3.22-bioc/R/lib -lR
installing to /home/biocbuild/bbs-3.22-bioc/R/site-library/00LOCK-DifferentialRegulation/00new/DifferentialRegulation/libs
** R
** inst
** byte-compile and prepare package for lazy loading
** help
*** installing help indices
** building package indices
** installing vignettes
** testing if installed package can be loaded from temporary location
** checking absolute paths in shared objects and dynamic libraries
** testing if installed package can be loaded from final location
** testing if installed package keeps a record of temporary installation path
* DONE (DifferentialRegulation)
DifferentialRegulation.Rcheck/tests/testhat.Rout
R version 4.5.1 Patched (2025-08-23 r88802) -- "Great Square Root"
Copyright (C) 2025 The R Foundation for Statistical Computing
Platform: x86_64-pc-linux-gnu
R is free software and comes with ABSOLUTELY NO WARRANTY.
You are welcome to redistribute it under certain conditions.
Type 'license()' or 'licence()' for distribution details.
R is a collaborative project with many contributors.
Type 'contributors()' for more information and
'citation()' on how to cite R or R packages in publications.
Type 'demo()' for some demos, 'help()' for on-line help, or
'help.start()' for an HTML browser interface to help.
Type 'q()' to quit R.
> library(testthat)
> library(DifferentialRegulation)
> test_check("DifferentialRegulation")
[ FAIL 0 | WARN 0 | SKIP 0 | PASS 8 ]
Warning messages:
1: In if (is.null(arg)) return(choices[1L]) else if (!is.character(arg)) stop("'arg' must be NULL or a character vector") :
closing unused connection 5 (<-localhost:11486)
2: In if (is.null(arg)) return(choices[1L]) else if (!is.character(arg)) stop("'arg' must be NULL or a character vector") :
closing unused connection 4 (<-localhost:11486)
>
> proc.time()
user system elapsed
13.482 0.756 28.780
DifferentialRegulation.Rcheck/DifferentialRegulation-Ex.timings
| name | user | system | elapsed | |
| DifferentialRegulation | 4.660 | 0.367 | 18.791 | |
| DifferentialRegulation_bulk | 90.966 | 19.254 | 103.813 | |
| compute_PB_counts | 2.294 | 0.034 | 2.330 | |
| load_EC | 1.332 | 0.055 | 1.389 | |
| load_USA | 0.150 | 0.003 | 0.153 | |
| load_bulk_EC | 0.167 | 0.034 | 16.168 | |
| load_bulk_US | 0.235 | 0.002 | 0.237 | |
| plot_bulk_pi | 0.099 | 0.006 | 0.112 | |
| plot_bulk_traceplot | 0.086 | 0.008 | 0.093 | |
| plot_pi | 0.083 | 0.006 | 0.089 | |
| plot_traceplot | 0.083 | 0.006 | 0.089 | |