| Back to Multiple platform build/check report for BioC 3.22: simplified long |
|
This page was generated on 2025-10-24 12:03 -0400 (Fri, 24 Oct 2025).
| Hostname | OS | Arch (*) | R version | Installed pkgs |
|---|---|---|---|---|
| nebbiolo2 | Linux (Ubuntu 24.04.3 LTS) | x86_64 | 4.5.1 Patched (2025-08-23 r88802) -- "Great Square Root" | 4898 |
| lconway | macOS 12.7.6 Monterey | x86_64 | 4.5.1 Patched (2025-09-10 r88807) -- "Great Square Root" | 4688 |
| kjohnson3 | macOS 13.7.7 Ventura | arm64 | 4.5.1 Patched (2025-09-10 r88807) -- "Great Square Root" | 4634 |
| taishan | Linux (openEuler 24.03 LTS) | aarch64 | 4.5.0 (2025-04-11) -- "How About a Twenty-Six" | 4658 |
| Click on any hostname to see more info about the system (e.g. compilers) (*) as reported by 'uname -p', except on Windows and Mac OS X | ||||
| Package 350/2359 | Hostname | OS / Arch | INSTALL | BUILD | CHECK | BUILD BIN | ||||||||
| ChIPpeakAnno 3.43.2 (landing page) Jianhong Ou
| nebbiolo2 | Linux (Ubuntu 24.04.3 LTS) / x86_64 | OK | OK | OK | |||||||||
| lconway | macOS 12.7.6 Monterey / x86_64 | OK | OK | OK | OK | |||||||||
| kjohnson3 | macOS 13.7.7 Ventura / arm64 | OK | OK | OK | OK | |||||||||
| taishan | Linux (openEuler 24.03 LTS) / aarch64 | OK | OK | OK | ||||||||||
|
To the developers/maintainers of the ChIPpeakAnno package: - Allow up to 24 hours (and sometimes 48 hours) for your latest push to git@git.bioconductor.org:packages/ChIPpeakAnno.git to reflect on this report. See Troubleshooting Build Report for more information. - Use the following Renviron settings to reproduce errors and warnings. - If 'R CMD check' started to fail recently on the Linux builder(s) over a missing dependency, add the missing dependency to 'Suggests:' in your DESCRIPTION file. See Renviron.bioc for more information. |
| Package: ChIPpeakAnno |
| Version: 3.43.2 |
| Command: /home/biocbuild/bbs-3.22-bioc/R/bin/R CMD check --install=check:ChIPpeakAnno.install-out.txt --library=/home/biocbuild/bbs-3.22-bioc/R/site-library --timings ChIPpeakAnno_3.43.2.tar.gz |
| StartedAt: 2025-10-23 22:03:10 -0400 (Thu, 23 Oct 2025) |
| EndedAt: 2025-10-23 22:28:06 -0400 (Thu, 23 Oct 2025) |
| EllapsedTime: 1495.5 seconds |
| RetCode: 0 |
| Status: OK |
| CheckDir: ChIPpeakAnno.Rcheck |
| Warnings: 0 |
##############################################################################
##############################################################################
###
### Running command:
###
### /home/biocbuild/bbs-3.22-bioc/R/bin/R CMD check --install=check:ChIPpeakAnno.install-out.txt --library=/home/biocbuild/bbs-3.22-bioc/R/site-library --timings ChIPpeakAnno_3.43.2.tar.gz
###
##############################################################################
##############################################################################
* using log directory ‘/home/biocbuild/bbs-3.22-bioc/meat/ChIPpeakAnno.Rcheck’
* using R version 4.5.1 Patched (2025-08-23 r88802)
* using platform: x86_64-pc-linux-gnu
* R was compiled by
gcc (Ubuntu 13.3.0-6ubuntu2~24.04) 13.3.0
GNU Fortran (Ubuntu 13.3.0-6ubuntu2~24.04) 13.3.0
* running under: Ubuntu 24.04.3 LTS
* using session charset: UTF-8
* checking for file ‘ChIPpeakAnno/DESCRIPTION’ ... OK
* checking extension type ... Package
* this is package ‘ChIPpeakAnno’ version ‘3.43.2’
* package encoding: UTF-8
* checking package namespace information ... OK
* checking package dependencies ... INFO
Imports includes 29 non-default packages.
Importing from so many packages makes the package vulnerable to any of
them becoming unavailable. Move as many as possible to Suggests and
use conditionally.
* checking if this is a source package ... OK
* checking if there is a namespace ... OK
* checking for hidden files and directories ... OK
* checking for portable file names ... OK
* checking for sufficient/correct file permissions ... OK
* checking whether package ‘ChIPpeakAnno’ can be installed ... OK
* checking installed package size ... INFO
installed size is 21.1Mb
sub-directories of 1Mb or more:
R 1.0Mb
data 12.6Mb
extdata 7.2Mb
* checking package directory ... OK
* checking ‘build’ directory ... OK
* checking DESCRIPTION meta-information ... OK
* checking top-level files ... OK
* checking for left-over files ... OK
* checking index information ... OK
* checking package subdirectories ... OK
* checking code files for non-ASCII characters ... OK
* checking R files for syntax errors ... OK
* checking whether the package can be loaded ... OK
* checking whether the package can be loaded with stated dependencies ... OK
* checking whether the package can be unloaded cleanly ... OK
* checking whether the namespace can be loaded with stated dependencies ... OK
* checking whether the namespace can be unloaded cleanly ... OK
* checking loading without being on the library search path ... OK
* checking dependencies in R code ... OK
* checking S3 generic/method consistency ... OK
* checking replacement functions ... OK
* checking foreign function calls ... OK
* checking R code for possible problems ... OK
* checking Rd files ... OK
* checking Rd metadata ... OK
* checking Rd cross-references ... OK
* checking for missing documentation entries ... OK
* checking for code/documentation mismatches ... OK
* checking Rd \usage sections ... OK
* checking Rd contents ... OK
* checking for unstated dependencies in examples ... OK
* checking contents of ‘data’ directory ... OK
* checking data for non-ASCII characters ... OK
* checking LazyData ... OK
* checking data for ASCII and uncompressed saves ... OK
* checking files in ‘vignettes’ ... OK
* checking examples ... OK
Examples with CPU (user + system) or elapsed time > 5s
user system elapsed
findEnhancers 22.301 0.302 22.605
findMotifsInPromoterSeqs 13.515 0.134 13.743
annotatePeakInBatch 11.667 0.359 12.027
summarizeOverlapsByBins 5.313 0.533 5.546
* checking for unstated dependencies in ‘tests’ ... OK
* checking tests ...
Running ‘runTests.R’
OK
* checking for unstated dependencies in vignettes ... OK
* checking package vignettes ... OK
* checking re-building of vignette outputs ... OK
* checking PDF version of manual ... OK
* DONE
Status: OK
ChIPpeakAnno.Rcheck/00install.out
############################################################################## ############################################################################## ### ### Running command: ### ### /home/biocbuild/bbs-3.22-bioc/R/bin/R CMD INSTALL ChIPpeakAnno ### ############################################################################## ############################################################################## * installing to library ‘/home/biocbuild/bbs-3.22-bioc/R/site-library’ * installing *source* package ‘ChIPpeakAnno’ ... ** this is package ‘ChIPpeakAnno’ version ‘3.43.2’ ** using staged installation ** R ** data *** moving datasets to lazyload DB ** inst ** byte-compile and prepare package for lazy loading ** help *** installing help indices ** building package indices ** installing vignettes ** testing if installed package can be loaded from temporary location ** testing if installed package can be loaded from final location ** testing if installed package keeps a record of temporary installation path * DONE (ChIPpeakAnno)
ChIPpeakAnno.Rcheck/tests/runTests.Rout
R version 4.5.1 Patched (2025-08-23 r88802) -- "Great Square Root"
Copyright (C) 2025 The R Foundation for Statistical Computing
Platform: x86_64-pc-linux-gnu
R is free software and comes with ABSOLUTELY NO WARRANTY.
You are welcome to redistribute it under certain conditions.
Type 'license()' or 'licence()' for distribution details.
R is a collaborative project with many contributors.
Type 'contributors()' for more information and
'citation()' on how to cite R or R packages in publications.
Type 'demo()' for some demos, 'help()' for on-line help, or
'help.start()' for an HTML browser interface to help.
Type 'q()' to quit R.
> require("ChIPpeakAnno") || stop("unable to load Package:ChIPpeakAnno")
Loading required package: ChIPpeakAnno
Loading required package: IRanges
Loading required package: BiocGenerics
Loading required package: generics
Attaching package: 'generics'
The following objects are masked from 'package:base':
as.difftime, as.factor, as.ordered, intersect, is.element, setdiff,
setequal, union
Attaching package: 'BiocGenerics'
The following objects are masked from 'package:stats':
IQR, mad, sd, var, xtabs
The following objects are masked from 'package:base':
Filter, Find, Map, Position, Reduce, anyDuplicated, aperm, append,
as.data.frame, basename, cbind, colnames, dirname, do.call,
duplicated, eval, evalq, get, grep, grepl, is.unsorted, lapply,
mapply, match, mget, order, paste, pmax, pmax.int, pmin, pmin.int,
rank, rbind, rownames, sapply, saveRDS, table, tapply, unique,
unsplit, which.max, which.min
Loading required package: S4Vectors
Loading required package: stats4
Attaching package: 'S4Vectors'
The following object is masked from 'package:utils':
findMatches
The following objects are masked from 'package:base':
I, expand.grid, unname
Loading required package: GenomicRanges
Loading required package: Seqinfo
[1] TRUE
> require("BSgenome.Drerio.UCSC.danRer7") || stop("unable to load Package:BSgenome.Drerio.UCSC.danRer7")
Loading required package: BSgenome.Drerio.UCSC.danRer7
Loading required package: BSgenome
Loading required package: Biostrings
Loading required package: XVector
Attaching package: 'Biostrings'
The following object is masked from 'package:base':
strsplit
Loading required package: BiocIO
Loading required package: rtracklayer
[1] TRUE
> require("BSgenome.Hsapiens.UCSC.hg19") || stop("unable to load Package:BSgenome.Hsapiens.UCSC.hg19")
Loading required package: BSgenome.Hsapiens.UCSC.hg19
[1] TRUE
> require("org.Hs.eg.db") || stop("unable to load Package:org.Hs.eg.db")
Loading required package: org.Hs.eg.db
Loading required package: AnnotationDbi
Loading required package: Biobase
Welcome to Bioconductor
Vignettes contain introductory material; view with
'browseVignettes()'. To cite Bioconductor, see
'citation("Biobase")', and for packages 'citation("pkgname")'.
[1] TRUE
> require("org.Ce.eg.db") || stop("unable to load Package:org.Ce.eg.db")
Loading required package: org.Ce.eg.db
[1] TRUE
> require("BSgenome.Celegans.UCSC.ce10") || stop("unable to load Package:BSgenome.Celegans.UCSC.ce10")
Loading required package: BSgenome.Celegans.UCSC.ce10
[1] TRUE
> require("EnsDb.Hsapiens.v79") || stop("unable to load Package:EnsDb.Hsapiens.v79")
Loading required package: EnsDb.Hsapiens.v79
Loading required package: ensembldb
Loading required package: GenomicFeatures
Loading required package: AnnotationFilter
Attaching package: 'ensembldb'
The following object is masked from 'package:stats':
filter
[1] TRUE
> require("TxDb.Hsapiens.UCSC.hg38.knownGene") || stop("unable to load TxDb.Hsapiens.UCSC.hg38.knownGene")
Loading required package: TxDb.Hsapiens.UCSC.hg38.knownGene
[1] TRUE
> require("biomaRt") || stop("unable to load biomaRt")
Loading required package: biomaRt
[1] TRUE
> require("reactome.db") || stop("unable to load reactome.db")
Loading required package: reactome.db
[1] TRUE
> require("testthat") || stop("unable to load testthat")
Loading required package: testthat
Attaching package: 'testthat'
The following object is masked from 'package:AnnotationFilter':
not
[1] TRUE
> test_check("ChIPpeakAnno")
INFO [2025-10-23 22:12:53] $cat.cex
INFO [2025-10-23 22:12:53] [1] 1
INFO [2025-10-23 22:12:53]
INFO [2025-10-23 22:12:53] $cat.col
INFO [2025-10-23 22:12:53] [1] "black"
INFO [2025-10-23 22:12:53]
INFO [2025-10-23 22:12:53] $cat.fontface
INFO [2025-10-23 22:12:53] [1] "plain"
INFO [2025-10-23 22:12:53]
INFO [2025-10-23 22:12:53] $cat.fontfamily
INFO [2025-10-23 22:12:53] [1] "serif"
INFO [2025-10-23 22:12:53]
INFO [2025-10-23 22:12:53] $x
INFO [2025-10-23 22:12:53] $x$TF1
INFO [2025-10-23 22:12:53] [1] 3 4 5
INFO [2025-10-23 22:12:53]
INFO [2025-10-23 22:12:53] $x$TF2
INFO [2025-10-23 22:12:53] [1] 1 2 3 4 5
INFO [2025-10-23 22:12:53]
INFO [2025-10-23 22:12:53]
INFO [2025-10-23 22:12:53] $disable.logging
INFO [2025-10-23 22:12:53] [1] TRUE
INFO [2025-10-23 22:12:53]
INFO [2025-10-23 22:12:53] $filename
INFO [2025-10-23 22:12:53] NULL
INFO [2025-10-23 22:12:53]
INFO [2025-10-23 22:12:53] $cat.cex
INFO [2025-10-23 22:12:53] [1] 1
INFO [2025-10-23 22:12:53]
INFO [2025-10-23 22:12:53] $cat.col
INFO [2025-10-23 22:12:53] [1] "black"
INFO [2025-10-23 22:12:53]
INFO [2025-10-23 22:12:53] $cat.fontface
INFO [2025-10-23 22:12:53] [1] "plain"
INFO [2025-10-23 22:12:53]
INFO [2025-10-23 22:12:53] $cat.fontfamily
INFO [2025-10-23 22:12:53] [1] "serif"
INFO [2025-10-23 22:12:53]
INFO [2025-10-23 22:12:53] $x
INFO [2025-10-23 22:12:53] $x$TF1
INFO [2025-10-23 22:12:53] [1] 3 4 5
INFO [2025-10-23 22:12:53]
INFO [2025-10-23 22:12:53] $x$TF2
INFO [2025-10-23 22:12:53] [1] 1 2 4 5
INFO [2025-10-23 22:12:53]
INFO [2025-10-23 22:12:53] $x$TF3
INFO [2025-10-23 22:12:53] [1] 3 4 5
INFO [2025-10-23 22:12:53]
INFO [2025-10-23 22:12:53] $x$TF4
INFO [2025-10-23 22:12:53] [1] 1 2 4 5
INFO [2025-10-23 22:12:53]
INFO [2025-10-23 22:12:53]
INFO [2025-10-23 22:12:53] $disable.logging
INFO [2025-10-23 22:12:53] [1] TRUE
INFO [2025-10-23 22:12:53]
INFO [2025-10-23 22:12:53] $filename
INFO [2025-10-23 22:12:53] NULL
INFO [2025-10-23 22:12:53]
INFO [2025-10-23 22:12:53] $scaled
INFO [2025-10-23 22:12:53] [1] FALSE
INFO [2025-10-23 22:12:53]
INFO [2025-10-23 22:12:53] $euler.d
INFO [2025-10-23 22:12:53] [1] FALSE
INFO [2025-10-23 22:12:53]
INFO [2025-10-23 22:12:53] $cat.cex
INFO [2025-10-23 22:12:53] [1] 1
INFO [2025-10-23 22:12:53]
INFO [2025-10-23 22:12:53] $cat.col
INFO [2025-10-23 22:12:53] [1] "black"
INFO [2025-10-23 22:12:53]
INFO [2025-10-23 22:12:53] $cat.fontface
INFO [2025-10-23 22:12:53] [1] "plain"
INFO [2025-10-23 22:12:53]
INFO [2025-10-23 22:12:53] $cat.fontfamily
INFO [2025-10-23 22:12:53] [1] "serif"
INFO [2025-10-23 22:12:53]
INFO [2025-10-23 22:12:53] $x
INFO [2025-10-23 22:12:53] $x$TF1
INFO [2025-10-23 22:12:53] [1] 1 2 3
INFO [2025-10-23 22:12:53]
INFO [2025-10-23 22:12:53] $x$TF2
INFO [2025-10-23 22:12:53] [1] 1 2 3
INFO [2025-10-23 22:12:53]
INFO [2025-10-23 22:12:53]
INFO [2025-10-23 22:12:53] $disable.logging
INFO [2025-10-23 22:12:53] [1] TRUE
INFO [2025-10-23 22:12:53]
INFO [2025-10-23 22:12:53] $filename
INFO [2025-10-23 22:12:53] NULL
INFO [2025-10-23 22:12:53]
INFO [2025-10-23 22:12:54] $scaled
INFO [2025-10-23 22:12:54] [1] FALSE
INFO [2025-10-23 22:12:54]
INFO [2025-10-23 22:12:54] $euler.d
INFO [2025-10-23 22:12:54] [1] FALSE
INFO [2025-10-23 22:12:54]
INFO [2025-10-23 22:12:54] $cat.cex
INFO [2025-10-23 22:12:54] [1] 1
INFO [2025-10-23 22:12:54]
INFO [2025-10-23 22:12:54] $cat.col
INFO [2025-10-23 22:12:54] [1] "black"
INFO [2025-10-23 22:12:54]
INFO [2025-10-23 22:12:54] $cat.fontface
INFO [2025-10-23 22:12:54] [1] "plain"
INFO [2025-10-23 22:12:54]
INFO [2025-10-23 22:12:54] $cat.fontfamily
INFO [2025-10-23 22:12:54] [1] "serif"
INFO [2025-10-23 22:12:54]
INFO [2025-10-23 22:12:54] $x
INFO [2025-10-23 22:12:54] $x$TF1
INFO [2025-10-23 22:12:54] [1] 4 5 6
INFO [2025-10-23 22:12:54]
INFO [2025-10-23 22:12:54] $x$TF2
INFO [2025-10-23 22:12:54] [1] 1 2 3
INFO [2025-10-23 22:12:54]
INFO [2025-10-23 22:12:54]
INFO [2025-10-23 22:12:54] $disable.logging
INFO [2025-10-23 22:12:54] [1] TRUE
INFO [2025-10-23 22:12:54]
INFO [2025-10-23 22:12:54] $filename
INFO [2025-10-23 22:12:54] NULL
INFO [2025-10-23 22:12:54]
INFO [2025-10-23 22:12:54] $scaled
INFO [2025-10-23 22:12:54] [1] FALSE
INFO [2025-10-23 22:12:54]
INFO [2025-10-23 22:12:54] $euler.d
INFO [2025-10-23 22:12:54] [1] FALSE
INFO [2025-10-23 22:12:54]
INFO [2025-10-23 22:12:54] $cat.cex
INFO [2025-10-23 22:12:54] [1] 1
INFO [2025-10-23 22:12:54]
INFO [2025-10-23 22:12:54] $cat.col
INFO [2025-10-23 22:12:54] [1] "black"
INFO [2025-10-23 22:12:54]
INFO [2025-10-23 22:12:54] $cat.fontface
INFO [2025-10-23 22:12:54] [1] "plain"
INFO [2025-10-23 22:12:54]
INFO [2025-10-23 22:12:54] $cat.fontfamily
INFO [2025-10-23 22:12:54] [1] "serif"
INFO [2025-10-23 22:12:54]
INFO [2025-10-23 22:12:54] $x
INFO [2025-10-23 22:12:54] $x$TF1
INFO [2025-10-23 22:12:54] [1] 4 5 6
INFO [2025-10-23 22:12:54]
INFO [2025-10-23 22:12:54] $x$TF2
INFO [2025-10-23 22:12:54] [1] 1 2 3
INFO [2025-10-23 22:12:54]
INFO [2025-10-23 22:12:54]
INFO [2025-10-23 22:12:54] $disable.logging
INFO [2025-10-23 22:12:54] [1] TRUE
INFO [2025-10-23 22:12:54]
INFO [2025-10-23 22:12:54] $filename
INFO [2025-10-23 22:12:54] NULL
INFO [2025-10-23 22:12:54]
INFO [2025-10-23 22:12:54] $scaled
INFO [2025-10-23 22:12:54] [1] FALSE
INFO [2025-10-23 22:12:54]
INFO [2025-10-23 22:12:54] $euler.d
INFO [2025-10-23 22:12:54] [1] FALSE
INFO [2025-10-23 22:12:54]
INFO [2025-10-23 22:12:54] $cat.cex
INFO [2025-10-23 22:12:54] [1] 1
INFO [2025-10-23 22:12:54]
INFO [2025-10-23 22:12:54] $cat.col
INFO [2025-10-23 22:12:54] [1] "black"
INFO [2025-10-23 22:12:54]
INFO [2025-10-23 22:12:54] $cat.fontface
INFO [2025-10-23 22:12:54] [1] "plain"
INFO [2025-10-23 22:12:54]
INFO [2025-10-23 22:12:54] $cat.fontfamily
INFO [2025-10-23 22:12:54] [1] "serif"
INFO [2025-10-23 22:12:54]
INFO [2025-10-23 22:12:54] $x
INFO [2025-10-23 22:12:54] $x$TF1
INFO [2025-10-23 22:12:54] [1] 4 5 6
INFO [2025-10-23 22:12:54]
INFO [2025-10-23 22:12:54] $x$TF2
INFO [2025-10-23 22:12:54] [1] 1 2 3
INFO [2025-10-23 22:12:54]
INFO [2025-10-23 22:12:54] $x$TF3
INFO [2025-10-23 22:12:54] [1] 2 3 6
INFO [2025-10-23 22:12:54]
INFO [2025-10-23 22:12:54]
INFO [2025-10-23 22:12:54] $disable.logging
INFO [2025-10-23 22:12:54] [1] TRUE
INFO [2025-10-23 22:12:54]
INFO [2025-10-23 22:12:54] $filename
INFO [2025-10-23 22:12:54] NULL
INFO [2025-10-23 22:12:54]
INFO [2025-10-23 22:12:54] $scaled
INFO [2025-10-23 22:12:54] [1] FALSE
INFO [2025-10-23 22:12:54]
INFO [2025-10-23 22:12:54] $euler.d
INFO [2025-10-23 22:12:54] [1] FALSE
INFO [2025-10-23 22:12:54]
INFO [2025-10-23 22:12:54] $cat.cex
INFO [2025-10-23 22:12:54] [1] 1
INFO [2025-10-23 22:12:54]
INFO [2025-10-23 22:12:54] $cat.col
INFO [2025-10-23 22:12:54] [1] "black"
INFO [2025-10-23 22:12:54]
INFO [2025-10-23 22:12:54] $cat.fontface
INFO [2025-10-23 22:12:54] [1] "plain"
INFO [2025-10-23 22:12:54]
INFO [2025-10-23 22:12:54] $cat.fontfamily
INFO [2025-10-23 22:12:54] [1] "serif"
INFO [2025-10-23 22:12:54]
INFO [2025-10-23 22:12:54] $x
INFO [2025-10-23 22:12:54] $x$TF1
INFO [2025-10-23 22:12:54] [1] 3 4 5
INFO [2025-10-23 22:12:54]
INFO [2025-10-23 22:12:54] $x$TF2
INFO [2025-10-23 22:12:54] [1] 1 2 5
INFO [2025-10-23 22:12:54]
INFO [2025-10-23 22:12:54] $x$TF3
INFO [2025-10-23 22:12:54] [1] 1 2 5
INFO [2025-10-23 22:12:54]
INFO [2025-10-23 22:12:54]
INFO [2025-10-23 22:12:54] $disable.logging
INFO [2025-10-23 22:12:54] [1] TRUE
INFO [2025-10-23 22:12:54]
INFO [2025-10-23 22:12:54] $filename
INFO [2025-10-23 22:12:54] NULL
INFO [2025-10-23 22:12:54]
INFO [2025-10-23 22:12:55] $scaled
INFO [2025-10-23 22:12:55] [1] FALSE
INFO [2025-10-23 22:12:55]
INFO [2025-10-23 22:12:55] $euler.d
INFO [2025-10-23 22:12:55] [1] FALSE
INFO [2025-10-23 22:12:55]
INFO [2025-10-23 22:12:55] $cat.cex
INFO [2025-10-23 22:12:55] [1] 1
INFO [2025-10-23 22:12:55]
INFO [2025-10-23 22:12:55] $cat.col
INFO [2025-10-23 22:12:55] [1] "black"
INFO [2025-10-23 22:12:55]
INFO [2025-10-23 22:12:55] $cat.fontface
INFO [2025-10-23 22:12:55] [1] "plain"
INFO [2025-10-23 22:12:55]
INFO [2025-10-23 22:12:55] $cat.fontfamily
INFO [2025-10-23 22:12:55] [1] "serif"
INFO [2025-10-23 22:12:55]
INFO [2025-10-23 22:12:55] $x
INFO [2025-10-23 22:12:55] $x$TF1
INFO [2025-10-23 22:12:55] [1] 3 4 5
INFO [2025-10-23 22:12:55]
INFO [2025-10-23 22:12:55] $x$TF2
INFO [2025-10-23 22:12:55] [1] 1 2 5
INFO [2025-10-23 22:12:55]
INFO [2025-10-23 22:12:55] $x$TF3
INFO [2025-10-23 22:12:55] [1] 1 2 5
INFO [2025-10-23 22:12:55]
INFO [2025-10-23 22:12:55] $x$TF4
INFO [2025-10-23 22:12:55] [1] 1 2 5
INFO [2025-10-23 22:12:55]
INFO [2025-10-23 22:12:55]
INFO [2025-10-23 22:12:55] $disable.logging
INFO [2025-10-23 22:12:55] [1] TRUE
INFO [2025-10-23 22:12:55]
INFO [2025-10-23 22:12:55] $filename
INFO [2025-10-23 22:12:55] NULL
INFO [2025-10-23 22:12:55]
[ FAIL 0 | WARN 2 | SKIP 6 | PASS 324 ]
══ Skipped tests (6) ═══════════════════════════════════════════════════════════
• empty test (6): 'test_binOverGene.R:1:1', 'test_binOverRegions.R:1:1',
'test_enrichmentPlot.R:1:1', 'test_getAnnotation.R:1:1',
'test_reCenterPeaks.R:1:1', 'test_write2FASTA.R:1:1'
[ FAIL 0 | WARN 2 | SKIP 6 | PASS 324 ]
>
> proc.time()
user system elapsed
171.856 2.387 175.366
ChIPpeakAnno.Rcheck/ChIPpeakAnno-Ex.timings
| name | user | system | elapsed | |
| ChIPpeakAnno-package | 0 | 0 | 0 | |
| ExonPlusUtr.human.GRCh37 | 3.316 | 0.184 | 3.499 | |
| HOT.spots | 0.136 | 0.009 | 0.145 | |
| IDRfilter | 0 | 0 | 0 | |
| Peaks.Ste12.Replicate1 | 0.045 | 0.000 | 0.045 | |
| Peaks.Ste12.Replicate2 | 0.011 | 0.000 | 0.011 | |
| Peaks.Ste12.Replicate3 | 0.011 | 0.000 | 0.011 | |
| TSS.human.GRCh37 | 0.099 | 0.004 | 0.104 | |
| TSS.human.GRCh38 | 0.195 | 0.008 | 0.204 | |
| TSS.human.NCBI36 | 0.106 | 0.002 | 0.109 | |
| TSS.mouse.GRCm38 | 0.101 | 0.003 | 0.105 | |
| TSS.mouse.NCBIM37 | 0.087 | 0.007 | 0.094 | |
| TSS.rat.RGSC3.4 | 0.076 | 0.004 | 0.080 | |
| TSS.rat.Rnor_5.0 | 0.065 | 0.003 | 0.069 | |
| TSS.zebrafish.Zv8 | 0.066 | 0.006 | 0.072 | |
| TSS.zebrafish.Zv9 | 0.084 | 0.003 | 0.087 | |
| addAncestors | 0.837 | 0.033 | 0.870 | |
| addGeneIDs | 0.698 | 0.043 | 0.742 | |
| addMetadata | 1.215 | 0.059 | 1.275 | |
| annoGR | 0.001 | 0.001 | 0.000 | |
| annoPeaks | 2.373 | 0.238 | 2.614 | |
| annotatePeakInBatch | 11.667 | 0.359 | 12.027 | |
| annotatedPeak | 0.057 | 0.000 | 0.057 | |
| assignChromosomeRegion | 0.001 | 0.000 | 0.000 | |
| bdp | 0.001 | 0.000 | 0.000 | |
| binOverFeature | 0.652 | 0.003 | 0.656 | |
| binOverGene | 0.000 | 0.000 | 0.001 | |
| binOverRegions | 0.001 | 0.000 | 0.000 | |
| condenseMatrixByColnames | 0.009 | 0.000 | 0.009 | |
| convert2EntrezID | 0.324 | 0.000 | 0.323 | |
| countPatternInSeqs | 0.134 | 0.001 | 0.135 | |
| cumulativePercentage | 0 | 0 | 0 | |
| downstreams | 0.020 | 0.000 | 0.021 | |
| egOrgMap | 0.000 | 0.000 | 0.001 | |
| enrichedGO | 0.002 | 0.000 | 0.002 | |
| enrichmentPlot | 0.681 | 0.006 | 0.688 | |
| estFragmentLength | 0 | 0 | 0 | |
| estLibSize | 0.000 | 0.000 | 0.001 | |
| featureAlignedDistribution | 0.196 | 0.011 | 0.207 | |
| featureAlignedExtendSignal | 0.001 | 0.000 | 0.000 | |
| featureAlignedHeatmap | 0.275 | 0.005 | 0.280 | |
| featureAlignedSignal | 0.169 | 0.015 | 0.184 | |
| findEnhancers | 22.301 | 0.302 | 22.605 | |
| findMotifsInPromoterSeqs | 13.515 | 0.134 | 13.743 | |
| findOverlappingPeaks | 0.000 | 0.000 | 0.001 | |
| findOverlapsOfPeaks | 1.729 | 0.002 | 1.732 | |
| genomicElementDistribution | 0.000 | 0.000 | 0.001 | |
| genomicElementUpSetR | 0 | 0 | 0 | |
| getAllPeakSequence | 0.521 | 0.007 | 0.529 | |
| getAnnotation | 0.000 | 0.000 | 0.001 | |
| getEnrichedGO | 0.007 | 0.000 | 0.008 | |
| getEnrichedPATH | 0.000 | 0.000 | 0.001 | |
| getGO | 0.001 | 0.000 | 0.000 | |
| getGeneSeq | 0.001 | 0.000 | 0.000 | |
| getUniqueGOidCount | 0.001 | 0.000 | 0.000 | |
| getVennCounts | 0.001 | 0.000 | 0.000 | |
| hyperGtest | 0.001 | 0.000 | 0.001 | |
| makeVennDiagram | 0.002 | 0.000 | 0.002 | |
| mergePlusMinusPeaks | 0.001 | 0.000 | 0.000 | |
| metagenePlot | 3.219 | 0.042 | 3.262 | |
| myPeakList | 0.014 | 0.001 | 0.015 | |
| oligoFrequency | 0.082 | 0.001 | 0.084 | |
| oligoSummary | 0 | 0 | 0 | |
| peakPermTest | 0.002 | 0.000 | 0.001 | |
| peaks1 | 0.007 | 0.000 | 0.007 | |
| peaks2 | 0.007 | 0.000 | 0.007 | |
| peaks3 | 0.006 | 0.000 | 0.007 | |
| peaksNearBDP | 0 | 0 | 0 | |
| pie1 | 0.005 | 0.000 | 0.004 | |
| plotBinOverRegions | 0 | 0 | 0 | |
| preparePool | 0.000 | 0.000 | 0.001 | |
| reCenterPeaks | 0.023 | 0.000 | 0.022 | |
| summarizeOverlapsByBins | 5.313 | 0.533 | 5.546 | |
| summarizePatternInPeaks | 1.432 | 0.171 | 1.604 | |
| tileCount | 0.224 | 0.245 | 0.403 | |
| tileGRanges | 0.174 | 0.099 | 0.059 | |
| toGRanges | 0.076 | 0.005 | 0.081 | |
| translatePattern | 0 | 0 | 0 | |
| wgEncodeTfbsV3 | 0.224 | 0.005 | 0.227 | |
| write2FASTA | 0.014 | 0.002 | 0.015 | |
| xget | 0.113 | 0.004 | 0.116 | |